BEGIN:VCALENDAR
VERSION:2.0
PRODID:-//Miracle of Love Inc. - ECPv6.15.17//NONSGML v1.0//EN
CALSCALE:GREGORIAN
METHOD:PUBLISH
X-ORIGINAL-URL:https://miracleofloveinc.org
X-WR-CALDESC:Events for Miracle of Love Inc.
REFRESH-INTERVAL;VALUE=DURATION:PT1H
X-Robots-Tag:noindex
X-PUBLISHED-TTL:PT1H
BEGIN:VTIMEZONE
TZID:America/New_York
BEGIN:DAYLIGHT
TZOFFSETFROM:-0500
TZOFFSETTO:-0400
TZNAME:EDT
DTSTART:20260308T070000
END:DAYLIGHT
BEGIN:STANDARD
TZOFFSETFROM:-0400
TZOFFSETTO:-0500
TZNAME:EST
DTSTART:20261101T060000
END:STANDARD
BEGIN:DAYLIGHT
TZOFFSETFROM:-0500
TZOFFSETTO:-0400
TZNAME:EDT
DTSTART:20270314T070000
END:DAYLIGHT
BEGIN:STANDARD
TZOFFSETFROM:-0400
TZOFFSETTO:-0500
TZNAME:EST
DTSTART:20271107T060000
END:STANDARD
BEGIN:DAYLIGHT
TZOFFSETFROM:-0500
TZOFFSETTO:-0400
TZNAME:EDT
DTSTART:20280312T070000
END:DAYLIGHT
BEGIN:STANDARD
TZOFFSETFROM:-0400
TZOFFSETTO:-0500
TZNAME:EST
DTSTART:20281105T060000
END:STANDARD
END:VTIMEZONE
BEGIN:VEVENT
DTSTART;TZID=America/New_York:20270111T170000
DTEND;TZID=America/New_York:20270111T200000
DTSTAMP:20260425T213455
CREATED:20250103T204059Z
LAST-MODIFIED:20251210T123058Z
UID:10006149-1799686800-1799697600@miracleofloveinc.org
SUMMARY:Evening HIV Testing - Stafford House
DESCRIPTION:FREE HIV Testing is offered from 5:00-8:00 PM \nStafford House \n711 Seminole Ave \nOrlando FL 32804
URL:https://miracleofloveinc.org/event/evening-hiv-testing-2-2-4-2-2/2027-01-11/
LOCATION:Stafford House\, 711 Seminole Ave\, Orlando\, 32804\, United States
CATEGORIES:HIV/STI Screening,Stafford House
ATTACH;FMTTYPE=image/jpeg:https://miracleofloveinc.org/wp-content/uploads/2020/01/IMG_2916-scaled.jpg
ORGANIZER;CN="Miracle of Love":MAILTO:info@miracleofloveinc.org
END:VEVENT
BEGIN:VEVENT
DTSTART;TZID=America/New_York:20270112T170000
DTEND;TZID=America/New_York:20270112T200000
DTSTAMP:20260425T213455
CREATED:20250103T204059Z
LAST-MODIFIED:20251210T123058Z
UID:10006150-1799773200-1799784000@miracleofloveinc.org
SUMMARY:Evening HIV Testing - Stafford House
DESCRIPTION:FREE HIV Testing is offered from 5:00-8:00 PM \nStafford House \n711 Seminole Ave \nOrlando FL 32804
URL:https://miracleofloveinc.org/event/evening-hiv-testing-2-2-4-2-2/2027-01-12/
LOCATION:Stafford House\, 711 Seminole Ave\, Orlando\, 32804\, United States
CATEGORIES:HIV/STI Screening,Stafford House
ATTACH;FMTTYPE=image/jpeg:https://miracleofloveinc.org/wp-content/uploads/2020/01/IMG_2916-scaled.jpg
ORGANIZER;CN="Miracle of Love":MAILTO:info@miracleofloveinc.org
END:VEVENT
BEGIN:VEVENT
DTSTART;TZID=America/New_York:20270113T170000
DTEND;TZID=America/New_York:20270113T200000
DTSTAMP:20260425T213455
CREATED:20240427T203212Z
LAST-MODIFIED:20250330T150026Z
UID:10004003-1799859600-1799870400@miracleofloveinc.org
SUMMARY:Condom Packing with Beautifull Sallings
DESCRIPTION:Assemble packages of various condoms to share with the community.
URL:https://miracleofloveinc.org/event/condom-packing-with-beautifull-sallings/2027-01-13/
LOCATION:Stafford House\, 711 Seminole Ave\, Orlando\, 32804\, United States
CATEGORIES:Community Outreach,Stafford House
ATTACH;FMTTYPE=image/jpeg:https://miracleofloveinc.org/wp-content/uploads/2024/04/DID-Condom-Packing.jpg
END:VEVENT
BEGIN:VEVENT
DTSTART;TZID=America/New_York:20270113T170000
DTEND;TZID=America/New_York:20270113T200000
DTSTAMP:20260425T213455
CREATED:20250103T204059Z
LAST-MODIFIED:20251210T123058Z
UID:10006151-1799859600-1799870400@miracleofloveinc.org
SUMMARY:Evening HIV Testing - Stafford House
DESCRIPTION:FREE HIV Testing is offered from 5:00-8:00 PM \nStafford House \n711 Seminole Ave \nOrlando FL 32804
URL:https://miracleofloveinc.org/event/evening-hiv-testing-2-2-4-2-2/2027-01-13/
LOCATION:Stafford House\, 711 Seminole Ave\, Orlando\, 32804\, United States
CATEGORIES:HIV/STI Screening,Stafford House
ATTACH;FMTTYPE=image/jpeg:https://miracleofloveinc.org/wp-content/uploads/2020/01/IMG_2916-scaled.jpg
ORGANIZER;CN="Miracle of Love":MAILTO:info@miracleofloveinc.org
END:VEVENT
BEGIN:VEVENT
DTSTART;TZID=America/New_York:20270113T173000
DTEND;TZID=America/New_York:20270113T190000
DTSTAMP:20260425T213455
CREATED:20240427T192627Z
LAST-MODIFIED:20240427T192627Z
UID:10002856-1799861400-1799866800@miracleofloveinc.org
SUMMARY:Lake County C.A.B. Meeting
DESCRIPTION:Lake County Client Advisory Board (CAB) Meetings are open to all clients receiving Ryan White and/or HOPWA services in Lake County.  No registration is required.
URL:https://miracleofloveinc.org/event/lake-county-c-a-b-meeting-2/2027-01-13/
LOCATION:MOL – Lake County\, 4400 North Highway 19A\, Unit 10\, Mount Dora\, FL\, 32757\, United States
CATEGORIES:C.A.B. Lake,Community Outreach
ATTACH;FMTTYPE=image/png:https://miracleofloveinc.org/wp-content/uploads/2023/04/CAB-Meeting-Social-Portrait.png
ORGANIZER;CN="Miracle of Love":MAILTO:info@miracleofloveinc.org
END:VEVENT
BEGIN:VEVENT
DTSTART;TZID=America/New_York:20270114T170000
DTEND;TZID=America/New_York:20270114T200000
DTSTAMP:20260425T213455
CREATED:20250103T204059Z
LAST-MODIFIED:20251210T123058Z
UID:10006152-1799946000-1799956800@miracleofloveinc.org
SUMMARY:Evening HIV Testing - Stafford House
DESCRIPTION:FREE HIV Testing is offered from 5:00-8:00 PM \nStafford House \n711 Seminole Ave \nOrlando FL 32804
URL:https://miracleofloveinc.org/event/evening-hiv-testing-2-2-4-2-2/2027-01-14/
LOCATION:Stafford House\, 711 Seminole Ave\, Orlando\, 32804\, United States
CATEGORIES:HIV/STI Screening,Stafford House
ATTACH;FMTTYPE=image/jpeg:https://miracleofloveinc.org/wp-content/uploads/2020/01/IMG_2916-scaled.jpg
ORGANIZER;CN="Miracle of Love":MAILTO:info@miracleofloveinc.org
END:VEVENT
BEGIN:VEVENT
DTSTART;TZID=America/New_York:20270114T170000
DTEND;TZID=America/New_York:20270114T200000
DTSTAMP:20260425T213455
CREATED:20260129T200218Z
LAST-MODIFIED:20260129T200218Z
UID:10009016-1799946000-1799956800@miracleofloveinc.org
SUMMARY:Evening Testing Hours
DESCRIPTION:
URL:https://miracleofloveinc.org/event/evening-testing-hours/2027-01-14/
LOCATION:Miracle of Love – Executive Office\, 1301 W Colonial Dr.\, Second Floor\, Orlando\, FL\, 32804\, United States
CATEGORIES:HIV/STI Screening
ORGANIZER;CN="Miracle of Love":MAILTO:info@miracleofloveinc.org
END:VEVENT
BEGIN:VEVENT
DTSTART;TZID=America/New_York:20270115T000000
DTEND;TZID=America/New_York:20270115T020000
DTSTAMP:20260425T213456
CREATED:20240427T200230Z
LAST-MODIFIED:20240427T200325Z
UID:10003221-1799971200-1799978400@miracleofloveinc.org
SUMMARY:DID Outreach - Southern Nights
DESCRIPTION:Catch the Divas every Thursday night at Southern Nights Orlando. \nFree condoms and other materials.
URL:https://miracleofloveinc.org/event/did-outreach-southern-nights/2027-01-15/
LOCATION:Southern Nights\, 375 S Bumby Ave.\, Orlando\, FL\, 32803\, United States
CATEGORIES:Community Outreach
ATTACH;FMTTYPE=image/jpeg:https://miracleofloveinc.org/wp-content/uploads/2022/02/Business-Card-Back.jpg
END:VEVENT
BEGIN:VEVENT
DTSTART;TZID=America/New_York:20270116T000000
DTEND;TZID=America/New_York:20270116T020000
DTSTAMP:20260425T213456
CREATED:20240427T200506Z
LAST-MODIFIED:20240427T200506Z
UID:10003743-1800057600-1800064800@miracleofloveinc.org
SUMMARY:DID Outreach - Bipolar Cafe Orlando
DESCRIPTION:Catch the Divas every Friday night at Bipolar Cafe Orlando. \nFree condoms and other materials.
URL:https://miracleofloveinc.org/event/did-outreach-bipolar-cafe-orlando/2027-01-16/
LOCATION:Southern Nights\, 375 S Bumby Ave.\, Orlando\, FL\, 32803\, United States
CATEGORIES:Community Outreach
ATTACH;FMTTYPE=image/jpeg:https://miracleofloveinc.org/wp-content/uploads/2022/02/Business-Card-Back.jpg
END:VEVENT
END:VCALENDAR