BEGIN:VCALENDAR
VERSION:2.0
PRODID:-//Miracle of Love Inc. - ECPv6.15.17//NONSGML v1.0//EN
CALSCALE:GREGORIAN
METHOD:PUBLISH
X-WR-CALNAME:Miracle of Love Inc.
X-ORIGINAL-URL:https://miracleofloveinc.org
X-WR-CALDESC:Events for Miracle of Love Inc.
REFRESH-INTERVAL;VALUE=DURATION:PT1H
X-Robots-Tag:noindex
X-PUBLISHED-TTL:PT1H
BEGIN:VTIMEZONE
TZID:America/New_York
BEGIN:DAYLIGHT
TZOFFSETFROM:-0500
TZOFFSETTO:-0400
TZNAME:EDT
DTSTART:20240310T070000
END:DAYLIGHT
BEGIN:STANDARD
TZOFFSETFROM:-0400
TZOFFSETTO:-0500
TZNAME:EST
DTSTART:20241103T060000
END:STANDARD
BEGIN:DAYLIGHT
TZOFFSETFROM:-0500
TZOFFSETTO:-0400
TZNAME:EDT
DTSTART:20250309T070000
END:DAYLIGHT
BEGIN:STANDARD
TZOFFSETFROM:-0400
TZOFFSETTO:-0500
TZNAME:EST
DTSTART:20251102T060000
END:STANDARD
BEGIN:DAYLIGHT
TZOFFSETFROM:-0500
TZOFFSETTO:-0400
TZNAME:EDT
DTSTART:20260308T070000
END:DAYLIGHT
BEGIN:STANDARD
TZOFFSETFROM:-0400
TZOFFSETTO:-0500
TZNAME:EST
DTSTART:20261101T060000
END:STANDARD
END:VTIMEZONE
BEGIN:VEVENT
DTSTART;TZID=America/New_York:20251222T170000
DTEND;TZID=America/New_York:20251222T200000
DTSTAMP:20260425T072746
CREATED:20250103T204059Z
LAST-MODIFIED:20251210T123058Z
UID:10005883-1766422800-1766433600@miracleofloveinc.org
SUMMARY:Evening HIV Testing - Stafford House
DESCRIPTION:FREE HIV Testing is offered from 5:00-8:00 PM \nStafford House \n711 Seminole Ave \nOrlando FL 32804
URL:https://miracleofloveinc.org/event/evening-hiv-testing-2-2-4-2-2/2025-12-22/
LOCATION:Stafford House\, 711 Seminole Ave\, Orlando\, 32804\, United States
CATEGORIES:HIV/STI Screening,Stafford House
ATTACH;FMTTYPE=image/jpeg:https://miracleofloveinc.org/wp-content/uploads/2020/01/IMG_2916-scaled.jpg
ORGANIZER;CN="Miracle of Love":MAILTO:info@miracleofloveinc.org
END:VEVENT
BEGIN:VEVENT
DTSTART;TZID=America/New_York:20251223T170000
DTEND;TZID=America/New_York:20251223T200000
DTSTAMP:20260425T072746
CREATED:20250103T204059Z
LAST-MODIFIED:20251210T123058Z
UID:10008385-1766509200-1766520000@miracleofloveinc.org
SUMMARY:Evening HIV Testing - Stafford House
DESCRIPTION:FREE HIV Testing is offered from 5:00-8:00 PM \nStafford House \n711 Seminole Ave \nOrlando FL 32804
URL:https://miracleofloveinc.org/event/evening-hiv-testing-2-2-4-2-2/2025-12-23/
LOCATION:Stafford House\, 711 Seminole Ave\, Orlando\, 32804\, United States
CATEGORIES:HIV/STI Screening,Stafford House
ATTACH;FMTTYPE=image/jpeg:https://miracleofloveinc.org/wp-content/uploads/2020/01/IMG_2916-scaled.jpg
ORGANIZER;CN="Miracle of Love":MAILTO:info@miracleofloveinc.org
END:VEVENT
BEGIN:VEVENT
DTSTART;TZID=America/New_York:20251224T170000
DTEND;TZID=America/New_York:20251224T200000
DTSTAMP:20260425T072746
CREATED:20240427T203212Z
LAST-MODIFIED:20250330T150026Z
UID:10003948-1766595600-1766606400@miracleofloveinc.org
SUMMARY:Condom Packing with Beautifull Sallings
DESCRIPTION:Assemble packages of various condoms to share with the community.
URL:https://miracleofloveinc.org/event/condom-packing-with-beautifull-sallings/2025-12-24/
LOCATION:Stafford House\, 711 Seminole Ave\, Orlando\, 32804\, United States
CATEGORIES:Community Outreach,Stafford House
ATTACH;FMTTYPE=image/jpeg:https://miracleofloveinc.org/wp-content/uploads/2024/04/DID-Condom-Packing.jpg
END:VEVENT
BEGIN:VEVENT
DTSTART;TZID=America/New_York:20251224T170000
DTEND;TZID=America/New_York:20251224T200000
DTSTAMP:20260425T072746
CREATED:20250103T204059Z
LAST-MODIFIED:20251210T123058Z
UID:10005885-1766595600-1766606400@miracleofloveinc.org
SUMMARY:Evening HIV Testing - Stafford House
DESCRIPTION:FREE HIV Testing is offered from 5:00-8:00 PM \nStafford House \n711 Seminole Ave \nOrlando FL 32804
URL:https://miracleofloveinc.org/event/evening-hiv-testing-2-2-4-2-2/2025-12-24/
LOCATION:Stafford House\, 711 Seminole Ave\, Orlando\, 32804\, United States
CATEGORIES:HIV/STI Screening,Stafford House
ATTACH;FMTTYPE=image/jpeg:https://miracleofloveinc.org/wp-content/uploads/2020/01/IMG_2916-scaled.jpg
ORGANIZER;CN="Miracle of Love":MAILTO:info@miracleofloveinc.org
END:VEVENT
BEGIN:VEVENT
DTSTART;VALUE=DATE:20251225
DTEND;VALUE=DATE:20251227
DTSTAMP:20260425T072746
CREATED:20240929T225748Z
LAST-MODIFIED:20250330T150408Z
UID:10004169-1766620800-1766793599@miracleofloveinc.org
SUMMARY:Holiday - Offices Closed
DESCRIPTION:All Miracle of Love offices and satellite locations are closed for the following holidays in 2025: \n\nWednesday January 1 – New Year’s Day\nMonday January 20 – Martin Luther King Jr. Day\nMonday February 20 – President’s Day\nMonday May 26 – Memorial Day\nThursday June 19 – Juneteenth\nFriday July 4 – Independence Day\nMonday September 1 – Labor Day\nThursday November 27 & Friday November 28 – Thanksgiving\nThursday December 25 & Friday December 26 – Christmas
URL:https://miracleofloveinc.org/event/christmas-2025/
LOCATION:Miracle of Love – Executive Office\, 1301 W Colonial Dr.\, Second Floor\, Orlando\, FL\, 32804\, United States
CATEGORIES:Office Closed,Stafford House
ORGANIZER;CN="Miracle of Love":MAILTO:info@miracleofloveinc.org
END:VEVENT
BEGIN:VEVENT
DTSTART;TZID=America/New_York:20251226T000000
DTEND;TZID=America/New_York:20251226T020000
DTSTAMP:20260425T072746
CREATED:20240427T200230Z
LAST-MODIFIED:20240427T200325Z
UID:10003166-1766707200-1766714400@miracleofloveinc.org
SUMMARY:DID Outreach - Southern Nights
DESCRIPTION:Catch the Divas every Thursday night at Southern Nights Orlando. \nFree condoms and other materials.
URL:https://miracleofloveinc.org/event/did-outreach-southern-nights/2025-12-26/
LOCATION:Southern Nights\, 375 S Bumby Ave.\, Orlando\, FL\, 32803\, United States
CATEGORIES:Community Outreach
ATTACH;FMTTYPE=image/jpeg:https://miracleofloveinc.org/wp-content/uploads/2022/02/Business-Card-Back.jpg
END:VEVENT
BEGIN:VEVENT
DTSTART;TZID=America/New_York:20251227T000000
DTEND;TZID=America/New_York:20251227T020000
DTSTAMP:20260425T072746
CREATED:20240427T200506Z
LAST-MODIFIED:20240427T200506Z
UID:10003688-1766793600-1766800800@miracleofloveinc.org
SUMMARY:DID Outreach - Bipolar Cafe Orlando
DESCRIPTION:Catch the Divas every Friday night at Bipolar Cafe Orlando. \nFree condoms and other materials.
URL:https://miracleofloveinc.org/event/did-outreach-bipolar-cafe-orlando/2025-12-27/
LOCATION:Southern Nights\, 375 S Bumby Ave.\, Orlando\, FL\, 32803\, United States
CATEGORIES:Community Outreach
ATTACH;FMTTYPE=image/jpeg:https://miracleofloveinc.org/wp-content/uploads/2022/02/Business-Card-Back.jpg
END:VEVENT
BEGIN:VEVENT
DTSTART;TZID=America/New_York:20251227T150000
DTEND;TZID=America/New_York:20251227T200000
DTSTAMP:20260425T072746
CREATED:20240427T191129Z
LAST-MODIFIED:20250330T144930Z
UID:10008493-1766847600-1766865600@miracleofloveinc.org
SUMMARY:DID Trans Support Group
DESCRIPTION:Trans Support Group \nNo registration or RSVP is required.
URL:https://miracleofloveinc.org/event/divas-in-dialogue-2/2025-12-27/
LOCATION:Stafford House\, 711 Seminole Ave\, Orlando\, 32804\, United States
CATEGORIES:Community Outreach,Stafford House,Support Group
ATTACH;FMTTYPE=image/jpeg:https://miracleofloveinc.org/wp-content/uploads/2021/07/DID-LOGO-crop.jpg
END:VEVENT
END:VCALENDAR