BEGIN:VCALENDAR
VERSION:2.0
PRODID:-//Miracle of Love Inc. - ECPv6.15.17//NONSGML v1.0//EN
CALSCALE:GREGORIAN
METHOD:PUBLISH
X-ORIGINAL-URL:https://miracleofloveinc.org
X-WR-CALDESC:Events for Miracle of Love Inc.
REFRESH-INTERVAL;VALUE=DURATION:PT1H
X-Robots-Tag:noindex
X-PUBLISHED-TTL:PT1H
BEGIN:VTIMEZONE
TZID:America/New_York
BEGIN:DAYLIGHT
TZOFFSETFROM:-0500
TZOFFSETTO:-0400
TZNAME:EDT
DTSTART:20270314T070000
END:DAYLIGHT
BEGIN:STANDARD
TZOFFSETFROM:-0400
TZOFFSETTO:-0500
TZNAME:EST
DTSTART:20271107T060000
END:STANDARD
BEGIN:DAYLIGHT
TZOFFSETFROM:-0500
TZOFFSETTO:-0400
TZNAME:EDT
DTSTART:20280312T070000
END:DAYLIGHT
BEGIN:STANDARD
TZOFFSETFROM:-0400
TZOFFSETTO:-0500
TZNAME:EST
DTSTART:20281105T060000
END:STANDARD
BEGIN:DAYLIGHT
TZOFFSETFROM:-0500
TZOFFSETTO:-0400
TZNAME:EDT
DTSTART:20290311T070000
END:DAYLIGHT
BEGIN:STANDARD
TZOFFSETFROM:-0400
TZOFFSETTO:-0500
TZNAME:EST
DTSTART:20291104T060000
END:STANDARD
BEGIN:DAYLIGHT
TZOFFSETFROM:-0500
TZOFFSETTO:-0400
TZNAME:EDT
DTSTART:20300310T070000
END:DAYLIGHT
BEGIN:STANDARD
TZOFFSETFROM:-0400
TZOFFSETTO:-0500
TZNAME:EST
DTSTART:20301103T060000
END:STANDARD
END:VTIMEZONE
BEGIN:VEVENT
DTSTART;TZID=America/New_York:20280608T170000
DTEND;TZID=America/New_York:20280608T200000
DTSTAMP:20260426T004102
CREATED:20260129T200218Z
LAST-MODIFIED:20260129T200218Z
UID:10009033-1844096400-1844107200@miracleofloveinc.org
SUMMARY:Evening Testing Hours
DESCRIPTION:
URL:https://miracleofloveinc.org/event/evening-testing-hours/2028-06-08/
LOCATION:Miracle of Love – Executive Office\, 1301 W Colonial Dr.\, Second Floor\, Orlando\, FL\, 32804\, United States
CATEGORIES:HIV/STI Screening
ORGANIZER;CN="Miracle of Love":MAILTO:info@miracleofloveinc.org
END:VEVENT
BEGIN:VEVENT
DTSTART;TZID=America/New_York:20280610T090000
DTEND;TZID=America/New_York:20280610T120000
DTSTAMP:20260426T004102
CREATED:20260129T200357Z
LAST-MODIFIED:20260129T200357Z
UID:10009153-1844240400-1844251200@miracleofloveinc.org
SUMMARY:Saturday Testing Hours
DESCRIPTION:
URL:https://miracleofloveinc.org/event/saturday-testing-hours/2028-06-10/
LOCATION:Miracle of Love – Executive Office\, 1301 W Colonial Dr.\, Second Floor\, Orlando\, FL\, 32804\, United States
CATEGORIES:HIV/STI Screening
ORGANIZER;CN="Miracle of Love":MAILTO:info@miracleofloveinc.org
END:VEVENT
BEGIN:VEVENT
DTSTART;TZID=America/New_York:20280708T090000
DTEND;TZID=America/New_York:20280708T120000
DTSTAMP:20260426T004102
CREATED:20260129T200357Z
LAST-MODIFIED:20260129T200357Z
UID:10009154-1846659600-1846670400@miracleofloveinc.org
SUMMARY:Saturday Testing Hours
DESCRIPTION:
URL:https://miracleofloveinc.org/event/saturday-testing-hours/2028-07-08/
LOCATION:Miracle of Love – Executive Office\, 1301 W Colonial Dr.\, Second Floor\, Orlando\, FL\, 32804\, United States
CATEGORIES:HIV/STI Screening
ORGANIZER;CN="Miracle of Love":MAILTO:info@miracleofloveinc.org
END:VEVENT
BEGIN:VEVENT
DTSTART;TZID=America/New_York:20280713T170000
DTEND;TZID=America/New_York:20280713T200000
DTSTAMP:20260426T004102
CREATED:20260129T200218Z
LAST-MODIFIED:20260129T200218Z
UID:10009034-1847120400-1847131200@miracleofloveinc.org
SUMMARY:Evening Testing Hours
DESCRIPTION:
URL:https://miracleofloveinc.org/event/evening-testing-hours/2028-07-13/
LOCATION:Miracle of Love – Executive Office\, 1301 W Colonial Dr.\, Second Floor\, Orlando\, FL\, 32804\, United States
CATEGORIES:HIV/STI Screening
ORGANIZER;CN="Miracle of Love":MAILTO:info@miracleofloveinc.org
END:VEVENT
BEGIN:VEVENT
DTSTART;TZID=America/New_York:20280810T170000
DTEND;TZID=America/New_York:20280810T200000
DTSTAMP:20260426T004102
CREATED:20260129T200218Z
LAST-MODIFIED:20260129T200218Z
UID:10009035-1849539600-1849550400@miracleofloveinc.org
SUMMARY:Evening Testing Hours
DESCRIPTION:
URL:https://miracleofloveinc.org/event/evening-testing-hours/2028-08-10/
LOCATION:Miracle of Love – Executive Office\, 1301 W Colonial Dr.\, Second Floor\, Orlando\, FL\, 32804\, United States
CATEGORIES:HIV/STI Screening
ORGANIZER;CN="Miracle of Love":MAILTO:info@miracleofloveinc.org
END:VEVENT
BEGIN:VEVENT
DTSTART;TZID=America/New_York:20280812T090000
DTEND;TZID=America/New_York:20280812T120000
DTSTAMP:20260426T004102
CREATED:20260129T200357Z
LAST-MODIFIED:20260129T200357Z
UID:10009155-1849683600-1849694400@miracleofloveinc.org
SUMMARY:Saturday Testing Hours
DESCRIPTION:
URL:https://miracleofloveinc.org/event/saturday-testing-hours/2028-08-12/
LOCATION:Miracle of Love – Executive Office\, 1301 W Colonial Dr.\, Second Floor\, Orlando\, FL\, 32804\, United States
CATEGORIES:HIV/STI Screening
ORGANIZER;CN="Miracle of Love":MAILTO:info@miracleofloveinc.org
END:VEVENT
BEGIN:VEVENT
DTSTART;TZID=America/New_York:20280909T090000
DTEND;TZID=America/New_York:20280909T120000
DTSTAMP:20260426T004102
CREATED:20260129T200357Z
LAST-MODIFIED:20260129T200357Z
UID:10009156-1852102800-1852113600@miracleofloveinc.org
SUMMARY:Saturday Testing Hours
DESCRIPTION:
URL:https://miracleofloveinc.org/event/saturday-testing-hours/2028-09-09/
LOCATION:Miracle of Love – Executive Office\, 1301 W Colonial Dr.\, Second Floor\, Orlando\, FL\, 32804\, United States
CATEGORIES:HIV/STI Screening
ORGANIZER;CN="Miracle of Love":MAILTO:info@miracleofloveinc.org
END:VEVENT
BEGIN:VEVENT
DTSTART;TZID=America/New_York:20280914T170000
DTEND;TZID=America/New_York:20280914T200000
DTSTAMP:20260426T004102
CREATED:20260129T200218Z
LAST-MODIFIED:20260129T200218Z
UID:10009036-1852563600-1852574400@miracleofloveinc.org
SUMMARY:Evening Testing Hours
DESCRIPTION:
URL:https://miracleofloveinc.org/event/evening-testing-hours/2028-09-14/
LOCATION:Miracle of Love – Executive Office\, 1301 W Colonial Dr.\, Second Floor\, Orlando\, FL\, 32804\, United States
CATEGORIES:HIV/STI Screening
ORGANIZER;CN="Miracle of Love":MAILTO:info@miracleofloveinc.org
END:VEVENT
BEGIN:VEVENT
DTSTART;TZID=America/New_York:20281012T170000
DTEND;TZID=America/New_York:20281012T200000
DTSTAMP:20260426T004102
CREATED:20260129T200218Z
LAST-MODIFIED:20260129T200218Z
UID:10009037-1854982800-1854993600@miracleofloveinc.org
SUMMARY:Evening Testing Hours
DESCRIPTION:
URL:https://miracleofloveinc.org/event/evening-testing-hours/2028-10-12/
LOCATION:Miracle of Love – Executive Office\, 1301 W Colonial Dr.\, Second Floor\, Orlando\, FL\, 32804\, United States
CATEGORIES:HIV/STI Screening
ORGANIZER;CN="Miracle of Love":MAILTO:info@miracleofloveinc.org
END:VEVENT
BEGIN:VEVENT
DTSTART;TZID=America/New_York:20281014T090000
DTEND;TZID=America/New_York:20281014T120000
DTSTAMP:20260426T004102
CREATED:20260129T200357Z
LAST-MODIFIED:20260129T200357Z
UID:10009157-1855126800-1855137600@miracleofloveinc.org
SUMMARY:Saturday Testing Hours
DESCRIPTION:
URL:https://miracleofloveinc.org/event/saturday-testing-hours/2028-10-14/
LOCATION:Miracle of Love – Executive Office\, 1301 W Colonial Dr.\, Second Floor\, Orlando\, FL\, 32804\, United States
CATEGORIES:HIV/STI Screening
ORGANIZER;CN="Miracle of Love":MAILTO:info@miracleofloveinc.org
END:VEVENT
BEGIN:VEVENT
DTSTART;TZID=America/New_York:20281109T170000
DTEND;TZID=America/New_York:20281109T200000
DTSTAMP:20260426T004102
CREATED:20260129T200218Z
LAST-MODIFIED:20260129T200218Z
UID:10009038-1857402000-1857412800@miracleofloveinc.org
SUMMARY:Evening Testing Hours
DESCRIPTION:
URL:https://miracleofloveinc.org/event/evening-testing-hours/2028-11-09/
LOCATION:Miracle of Love – Executive Office\, 1301 W Colonial Dr.\, Second Floor\, Orlando\, FL\, 32804\, United States
CATEGORIES:HIV/STI Screening
ORGANIZER;CN="Miracle of Love":MAILTO:info@miracleofloveinc.org
END:VEVENT
BEGIN:VEVENT
DTSTART;TZID=America/New_York:20281111T090000
DTEND;TZID=America/New_York:20281111T120000
DTSTAMP:20260426T004102
CREATED:20260129T200357Z
LAST-MODIFIED:20260129T200357Z
UID:10009158-1857546000-1857556800@miracleofloveinc.org
SUMMARY:Saturday Testing Hours
DESCRIPTION:
URL:https://miracleofloveinc.org/event/saturday-testing-hours/2028-11-11/
LOCATION:Miracle of Love – Executive Office\, 1301 W Colonial Dr.\, Second Floor\, Orlando\, FL\, 32804\, United States
CATEGORIES:HIV/STI Screening
ORGANIZER;CN="Miracle of Love":MAILTO:info@miracleofloveinc.org
END:VEVENT
BEGIN:VEVENT
DTSTART;TZID=America/New_York:20281209T090000
DTEND;TZID=America/New_York:20281209T120000
DTSTAMP:20260426T004102
CREATED:20260129T200357Z
LAST-MODIFIED:20260129T200357Z
UID:10009159-1859965200-1859976000@miracleofloveinc.org
SUMMARY:Saturday Testing Hours
DESCRIPTION:
URL:https://miracleofloveinc.org/event/saturday-testing-hours/2028-12-09/
LOCATION:Miracle of Love – Executive Office\, 1301 W Colonial Dr.\, Second Floor\, Orlando\, FL\, 32804\, United States
CATEGORIES:HIV/STI Screening
ORGANIZER;CN="Miracle of Love":MAILTO:info@miracleofloveinc.org
END:VEVENT
BEGIN:VEVENT
DTSTART;TZID=America/New_York:20281214T170000
DTEND;TZID=America/New_York:20281214T200000
DTSTAMP:20260426T004102
CREATED:20260129T200218Z
LAST-MODIFIED:20260129T200218Z
UID:10009039-1860426000-1860436800@miracleofloveinc.org
SUMMARY:Evening Testing Hours
DESCRIPTION:
URL:https://miracleofloveinc.org/event/evening-testing-hours/2028-12-14/
LOCATION:Miracle of Love – Executive Office\, 1301 W Colonial Dr.\, Second Floor\, Orlando\, FL\, 32804\, United States
CATEGORIES:HIV/STI Screening
ORGANIZER;CN="Miracle of Love":MAILTO:info@miracleofloveinc.org
END:VEVENT
BEGIN:VEVENT
DTSTART;TZID=America/New_York:20290111T170000
DTEND;TZID=America/New_York:20290111T200000
DTSTAMP:20260426T004102
CREATED:20260129T200218Z
LAST-MODIFIED:20260129T200218Z
UID:10009040-1862845200-1862856000@miracleofloveinc.org
SUMMARY:Evening Testing Hours
DESCRIPTION:
URL:https://miracleofloveinc.org/event/evening-testing-hours/2029-01-11/
LOCATION:Miracle of Love – Executive Office\, 1301 W Colonial Dr.\, Second Floor\, Orlando\, FL\, 32804\, United States
CATEGORIES:HIV/STI Screening
ORGANIZER;CN="Miracle of Love":MAILTO:info@miracleofloveinc.org
END:VEVENT
BEGIN:VEVENT
DTSTART;TZID=America/New_York:20290113T090000
DTEND;TZID=America/New_York:20290113T120000
DTSTAMP:20260426T004102
CREATED:20260129T200357Z
LAST-MODIFIED:20260129T200357Z
UID:10009160-1862989200-1863000000@miracleofloveinc.org
SUMMARY:Saturday Testing Hours
DESCRIPTION:
URL:https://miracleofloveinc.org/event/saturday-testing-hours/2029-01-13/
LOCATION:Miracle of Love – Executive Office\, 1301 W Colonial Dr.\, Second Floor\, Orlando\, FL\, 32804\, United States
CATEGORIES:HIV/STI Screening
ORGANIZER;CN="Miracle of Love":MAILTO:info@miracleofloveinc.org
END:VEVENT
BEGIN:VEVENT
DTSTART;TZID=America/New_York:20290208T170000
DTEND;TZID=America/New_York:20290208T200000
DTSTAMP:20260426T004102
CREATED:20260129T200218Z
LAST-MODIFIED:20260129T200218Z
UID:10009041-1865264400-1865275200@miracleofloveinc.org
SUMMARY:Evening Testing Hours
DESCRIPTION:
URL:https://miracleofloveinc.org/event/evening-testing-hours/2029-02-08/
LOCATION:Miracle of Love – Executive Office\, 1301 W Colonial Dr.\, Second Floor\, Orlando\, FL\, 32804\, United States
CATEGORIES:HIV/STI Screening
ORGANIZER;CN="Miracle of Love":MAILTO:info@miracleofloveinc.org
END:VEVENT
BEGIN:VEVENT
DTSTART;TZID=America/New_York:20290210T090000
DTEND;TZID=America/New_York:20290210T120000
DTSTAMP:20260426T004102
CREATED:20260129T200357Z
LAST-MODIFIED:20260129T200357Z
UID:10009161-1865408400-1865419200@miracleofloveinc.org
SUMMARY:Saturday Testing Hours
DESCRIPTION:
URL:https://miracleofloveinc.org/event/saturday-testing-hours/2029-02-10/
LOCATION:Miracle of Love – Executive Office\, 1301 W Colonial Dr.\, Second Floor\, Orlando\, FL\, 32804\, United States
CATEGORIES:HIV/STI Screening
ORGANIZER;CN="Miracle of Love":MAILTO:info@miracleofloveinc.org
END:VEVENT
BEGIN:VEVENT
DTSTART;TZID=America/New_York:20290308T170000
DTEND;TZID=America/New_York:20290308T200000
DTSTAMP:20260426T004102
CREATED:20260129T200218Z
LAST-MODIFIED:20260129T200218Z
UID:10009042-1867683600-1867694400@miracleofloveinc.org
SUMMARY:Evening Testing Hours
DESCRIPTION:
URL:https://miracleofloveinc.org/event/evening-testing-hours/2029-03-08/
LOCATION:Miracle of Love – Executive Office\, 1301 W Colonial Dr.\, Second Floor\, Orlando\, FL\, 32804\, United States
CATEGORIES:HIV/STI Screening
ORGANIZER;CN="Miracle of Love":MAILTO:info@miracleofloveinc.org
END:VEVENT
BEGIN:VEVENT
DTSTART;TZID=America/New_York:20290310T090000
DTEND;TZID=America/New_York:20290310T120000
DTSTAMP:20260426T004102
CREATED:20260129T200357Z
LAST-MODIFIED:20260129T200357Z
UID:10009162-1867827600-1867838400@miracleofloveinc.org
SUMMARY:Saturday Testing Hours
DESCRIPTION:
URL:https://miracleofloveinc.org/event/saturday-testing-hours/2029-03-10/
LOCATION:Miracle of Love – Executive Office\, 1301 W Colonial Dr.\, Second Floor\, Orlando\, FL\, 32804\, United States
CATEGORIES:HIV/STI Screening
ORGANIZER;CN="Miracle of Love":MAILTO:info@miracleofloveinc.org
END:VEVENT
BEGIN:VEVENT
DTSTART;TZID=America/New_York:20290412T170000
DTEND;TZID=America/New_York:20290412T200000
DTSTAMP:20260426T004102
CREATED:20260129T200218Z
LAST-MODIFIED:20260129T200218Z
UID:10009043-1870707600-1870718400@miracleofloveinc.org
SUMMARY:Evening Testing Hours
DESCRIPTION:
URL:https://miracleofloveinc.org/event/evening-testing-hours/2029-04-12/
LOCATION:Miracle of Love – Executive Office\, 1301 W Colonial Dr.\, Second Floor\, Orlando\, FL\, 32804\, United States
CATEGORIES:HIV/STI Screening
ORGANIZER;CN="Miracle of Love":MAILTO:info@miracleofloveinc.org
END:VEVENT
BEGIN:VEVENT
DTSTART;TZID=America/New_York:20290414T090000
DTEND;TZID=America/New_York:20290414T120000
DTSTAMP:20260426T004102
CREATED:20260129T200357Z
LAST-MODIFIED:20260129T200357Z
UID:10009163-1870851600-1870862400@miracleofloveinc.org
SUMMARY:Saturday Testing Hours
DESCRIPTION:
URL:https://miracleofloveinc.org/event/saturday-testing-hours/2029-04-14/
LOCATION:Miracle of Love – Executive Office\, 1301 W Colonial Dr.\, Second Floor\, Orlando\, FL\, 32804\, United States
CATEGORIES:HIV/STI Screening
ORGANIZER;CN="Miracle of Love":MAILTO:info@miracleofloveinc.org
END:VEVENT
BEGIN:VEVENT
DTSTART;TZID=America/New_York:20290510T170000
DTEND;TZID=America/New_York:20290510T200000
DTSTAMP:20260426T004102
CREATED:20260129T200218Z
LAST-MODIFIED:20260129T200218Z
UID:10009044-1873126800-1873137600@miracleofloveinc.org
SUMMARY:Evening Testing Hours
DESCRIPTION:
URL:https://miracleofloveinc.org/event/evening-testing-hours/2029-05-10/
LOCATION:Miracle of Love – Executive Office\, 1301 W Colonial Dr.\, Second Floor\, Orlando\, FL\, 32804\, United States
CATEGORIES:HIV/STI Screening
ORGANIZER;CN="Miracle of Love":MAILTO:info@miracleofloveinc.org
END:VEVENT
BEGIN:VEVENT
DTSTART;TZID=America/New_York:20290512T090000
DTEND;TZID=America/New_York:20290512T120000
DTSTAMP:20260426T004102
CREATED:20260129T200357Z
LAST-MODIFIED:20260129T200357Z
UID:10009164-1873270800-1873281600@miracleofloveinc.org
SUMMARY:Saturday Testing Hours
DESCRIPTION:
URL:https://miracleofloveinc.org/event/saturday-testing-hours/2029-05-12/
LOCATION:Miracle of Love – Executive Office\, 1301 W Colonial Dr.\, Second Floor\, Orlando\, FL\, 32804\, United States
CATEGORIES:HIV/STI Screening
ORGANIZER;CN="Miracle of Love":MAILTO:info@miracleofloveinc.org
END:VEVENT
BEGIN:VEVENT
DTSTART;TZID=America/New_York:20290609T090000
DTEND;TZID=America/New_York:20290609T120000
DTSTAMP:20260426T004102
CREATED:20260129T200357Z
LAST-MODIFIED:20260129T200357Z
UID:10009165-1875690000-1875700800@miracleofloveinc.org
SUMMARY:Saturday Testing Hours
DESCRIPTION:
URL:https://miracleofloveinc.org/event/saturday-testing-hours/2029-06-09/
LOCATION:Miracle of Love – Executive Office\, 1301 W Colonial Dr.\, Second Floor\, Orlando\, FL\, 32804\, United States
CATEGORIES:HIV/STI Screening
ORGANIZER;CN="Miracle of Love":MAILTO:info@miracleofloveinc.org
END:VEVENT
BEGIN:VEVENT
DTSTART;TZID=America/New_York:20290614T170000
DTEND;TZID=America/New_York:20290614T200000
DTSTAMP:20260426T004102
CREATED:20260129T200218Z
LAST-MODIFIED:20260129T200218Z
UID:10009045-1876150800-1876161600@miracleofloveinc.org
SUMMARY:Evening Testing Hours
DESCRIPTION:
URL:https://miracleofloveinc.org/event/evening-testing-hours/2029-06-14/
LOCATION:Miracle of Love – Executive Office\, 1301 W Colonial Dr.\, Second Floor\, Orlando\, FL\, 32804\, United States
CATEGORIES:HIV/STI Screening
ORGANIZER;CN="Miracle of Love":MAILTO:info@miracleofloveinc.org
END:VEVENT
BEGIN:VEVENT
DTSTART;TZID=America/New_York:20290712T170000
DTEND;TZID=America/New_York:20290712T200000
DTSTAMP:20260426T004102
CREATED:20260129T200218Z
LAST-MODIFIED:20260129T200218Z
UID:10009046-1878570000-1878580800@miracleofloveinc.org
SUMMARY:Evening Testing Hours
DESCRIPTION:
URL:https://miracleofloveinc.org/event/evening-testing-hours/2029-07-12/
LOCATION:Miracle of Love – Executive Office\, 1301 W Colonial Dr.\, Second Floor\, Orlando\, FL\, 32804\, United States
CATEGORIES:HIV/STI Screening
ORGANIZER;CN="Miracle of Love":MAILTO:info@miracleofloveinc.org
END:VEVENT
BEGIN:VEVENT
DTSTART;TZID=America/New_York:20290714T090000
DTEND;TZID=America/New_York:20290714T120000
DTSTAMP:20260426T004102
CREATED:20260129T200357Z
LAST-MODIFIED:20260129T200357Z
UID:10009166-1878714000-1878724800@miracleofloveinc.org
SUMMARY:Saturday Testing Hours
DESCRIPTION:
URL:https://miracleofloveinc.org/event/saturday-testing-hours/2029-07-14/
LOCATION:Miracle of Love – Executive Office\, 1301 W Colonial Dr.\, Second Floor\, Orlando\, FL\, 32804\, United States
CATEGORIES:HIV/STI Screening
ORGANIZER;CN="Miracle of Love":MAILTO:info@miracleofloveinc.org
END:VEVENT
BEGIN:VEVENT
DTSTART;TZID=America/New_York:20290809T170000
DTEND;TZID=America/New_York:20290809T200000
DTSTAMP:20260426T004102
CREATED:20260129T200218Z
LAST-MODIFIED:20260129T200218Z
UID:10009047-1880989200-1881000000@miracleofloveinc.org
SUMMARY:Evening Testing Hours
DESCRIPTION:
URL:https://miracleofloveinc.org/event/evening-testing-hours/2029-08-09/
LOCATION:Miracle of Love – Executive Office\, 1301 W Colonial Dr.\, Second Floor\, Orlando\, FL\, 32804\, United States
CATEGORIES:HIV/STI Screening
ORGANIZER;CN="Miracle of Love":MAILTO:info@miracleofloveinc.org
END:VEVENT
BEGIN:VEVENT
DTSTART;TZID=America/New_York:20290811T090000
DTEND;TZID=America/New_York:20290811T120000
DTSTAMP:20260426T004102
CREATED:20260129T200357Z
LAST-MODIFIED:20260129T200357Z
UID:10009167-1881133200-1881144000@miracleofloveinc.org
SUMMARY:Saturday Testing Hours
DESCRIPTION:
URL:https://miracleofloveinc.org/event/saturday-testing-hours/2029-08-11/
LOCATION:Miracle of Love – Executive Office\, 1301 W Colonial Dr.\, Second Floor\, Orlando\, FL\, 32804\, United States
CATEGORIES:HIV/STI Screening
ORGANIZER;CN="Miracle of Love":MAILTO:info@miracleofloveinc.org
END:VEVENT
END:VCALENDAR