BEGIN:VCALENDAR
VERSION:2.0
PRODID:-//Miracle of Love Inc. - ECPv6.15.17//NONSGML v1.0//EN
CALSCALE:GREGORIAN
METHOD:PUBLISH
X-WR-CALNAME:Miracle of Love Inc.
X-ORIGINAL-URL:https://miracleofloveinc.org
X-WR-CALDESC:Events for Miracle of Love Inc.
REFRESH-INTERVAL;VALUE=DURATION:PT1H
X-Robots-Tag:noindex
X-PUBLISHED-TTL:PT1H
BEGIN:VTIMEZONE
TZID:America/New_York
BEGIN:DAYLIGHT
TZOFFSETFROM:-0500
TZOFFSETTO:-0400
TZNAME:EDT
DTSTART:20250309T070000
END:DAYLIGHT
BEGIN:STANDARD
TZOFFSETFROM:-0400
TZOFFSETTO:-0500
TZNAME:EST
DTSTART:20251102T060000
END:STANDARD
BEGIN:DAYLIGHT
TZOFFSETFROM:-0500
TZOFFSETTO:-0400
TZNAME:EDT
DTSTART:20260308T070000
END:DAYLIGHT
BEGIN:STANDARD
TZOFFSETFROM:-0400
TZOFFSETTO:-0500
TZNAME:EST
DTSTART:20261101T060000
END:STANDARD
BEGIN:DAYLIGHT
TZOFFSETFROM:-0500
TZOFFSETTO:-0400
TZNAME:EDT
DTSTART:20270314T070000
END:DAYLIGHT
BEGIN:STANDARD
TZOFFSETFROM:-0400
TZOFFSETTO:-0500
TZNAME:EST
DTSTART:20271107T060000
END:STANDARD
END:VTIMEZONE
BEGIN:VEVENT
DTSTART;TZID=America/New_York:20260723T170000
DTEND;TZID=America/New_York:20260723T200000
DTSTAMP:20260425T084614
CREATED:20250103T204059Z
LAST-MODIFIED:20251210T123058Z
UID:10006031-1784826000-1784836800@miracleofloveinc.org
SUMMARY:Evening HIV Testing - Stafford House
DESCRIPTION:FREE HIV Testing is offered from 5:00-8:00 PM \nStafford House \n711 Seminole Ave \nOrlando FL 32804
URL:https://miracleofloveinc.org/event/evening-hiv-testing-2-2-4-2-2/2026-07-23/
LOCATION:Stafford House\, 711 Seminole Ave\, Orlando\, 32804\, United States
CATEGORIES:HIV/STI Screening,Stafford House
ATTACH;FMTTYPE=image/jpeg:https://miracleofloveinc.org/wp-content/uploads/2020/01/IMG_2916-scaled.jpg
ORGANIZER;CN="Miracle of Love":MAILTO:info@miracleofloveinc.org
END:VEVENT
BEGIN:VEVENT
DTSTART;TZID=America/New_York:20260722T170000
DTEND;TZID=America/New_York:20260722T200000
DTSTAMP:20260425T084614
CREATED:20250103T204059Z
LAST-MODIFIED:20251210T123058Z
UID:10006030-1784739600-1784750400@miracleofloveinc.org
SUMMARY:Evening HIV Testing - Stafford House
DESCRIPTION:FREE HIV Testing is offered from 5:00-8:00 PM \nStafford House \n711 Seminole Ave \nOrlando FL 32804
URL:https://miracleofloveinc.org/event/evening-hiv-testing-2-2-4-2-2/2026-07-22/
LOCATION:Stafford House\, 711 Seminole Ave\, Orlando\, 32804\, United States
CATEGORIES:HIV/STI Screening,Stafford House
ATTACH;FMTTYPE=image/jpeg:https://miracleofloveinc.org/wp-content/uploads/2020/01/IMG_2916-scaled.jpg
ORGANIZER;CN="Miracle of Love":MAILTO:info@miracleofloveinc.org
END:VEVENT
BEGIN:VEVENT
DTSTART;TZID=America/New_York:20260722T170000
DTEND;TZID=America/New_York:20260722T200000
DTSTAMP:20260425T084614
CREATED:20240427T203212Z
LAST-MODIFIED:20250330T150026Z
UID:10003978-1784739600-1784750400@miracleofloveinc.org
SUMMARY:Condom Packing with Beautifull Sallings
DESCRIPTION:Assemble packages of various condoms to share with the community.
URL:https://miracleofloveinc.org/event/condom-packing-with-beautifull-sallings/2026-07-22/
LOCATION:Stafford House\, 711 Seminole Ave\, Orlando\, 32804\, United States
CATEGORIES:Community Outreach,Stafford House
ATTACH;FMTTYPE=image/jpeg:https://miracleofloveinc.org/wp-content/uploads/2024/04/DID-Condom-Packing.jpg
END:VEVENT
BEGIN:VEVENT
DTSTART;TZID=America/New_York:20260721T190000
DTEND;TZID=America/New_York:20260721T203000
DTSTAMP:20260425T084614
CREATED:20230327T132857Z
LAST-MODIFIED:20250330T145615Z
UID:10002914-1784660400-1784665800@miracleofloveinc.org
SUMMARY:Latidos
DESCRIPTION:MISIÓN\n\n\n\n\n\nLatidos ofrece apoyo a hombres Latinos de Orlando afectados por el VIH/SIDA\, brindando un espacio que ayude a desarrollar herramientas y estrategias para una vida plena\, saludable y activa. \n\n\n\n\n\n\n\n\n\n\n\n\n\n\nVISIÓN\n\n\n\n\n\nVivir en un mundo donde nadie se sienta aislado basado en su estatus del VIH/SIDA. \n\n\n\n\n\n\n\n\n\n\n\n\n\n\n\n\nVALOR\n\n\n\n\nUn espacio seguro para crear una comunidad y familia sólida\, que se apoya mutuamente.
URL:https://miracleofloveinc.org/event/latidos-3/2026-07-21/
LOCATION:Stafford House\, 711 Seminole Ave\, Orlando\, 32804\, United States
CATEGORIES:Community Outreach,Stafford House,Support Group
ATTACH;FMTTYPE=image/png:https://miracleofloveinc.org/wp-content/uploads/2019/08/latidos.png
ORGANIZER;CN="Miracle of Love":MAILTO:info@miracleofloveinc.org
END:VEVENT
BEGIN:VEVENT
DTSTART;TZID=America/New_York:20260721T170000
DTEND;TZID=America/New_York:20260721T200000
DTSTAMP:20260425T084614
CREATED:20250103T204059Z
LAST-MODIFIED:20251210T123058Z
UID:10006029-1784653200-1784664000@miracleofloveinc.org
SUMMARY:Evening HIV Testing - Stafford House
DESCRIPTION:FREE HIV Testing is offered from 5:00-8:00 PM \nStafford House \n711 Seminole Ave \nOrlando FL 32804
URL:https://miracleofloveinc.org/event/evening-hiv-testing-2-2-4-2-2/2026-07-21/
LOCATION:Stafford House\, 711 Seminole Ave\, Orlando\, 32804\, United States
CATEGORIES:HIV/STI Screening,Stafford House
ATTACH;FMTTYPE=image/jpeg:https://miracleofloveinc.org/wp-content/uploads/2020/01/IMG_2916-scaled.jpg
ORGANIZER;CN="Miracle of Love":MAILTO:info@miracleofloveinc.org
END:VEVENT
BEGIN:VEVENT
DTSTART;TZID=America/New_York:20260720T170000
DTEND;TZID=America/New_York:20260720T200000
DTSTAMP:20260425T084614
CREATED:20250103T204059Z
LAST-MODIFIED:20251210T123058Z
UID:10006028-1784566800-1784577600@miracleofloveinc.org
SUMMARY:Evening HIV Testing - Stafford House
DESCRIPTION:FREE HIV Testing is offered from 5:00-8:00 PM \nStafford House \n711 Seminole Ave \nOrlando FL 32804
URL:https://miracleofloveinc.org/event/evening-hiv-testing-2-2-4-2-2/2026-07-20/
LOCATION:Stafford House\, 711 Seminole Ave\, Orlando\, 32804\, United States
CATEGORIES:HIV/STI Screening,Stafford House
ATTACH;FMTTYPE=image/jpeg:https://miracleofloveinc.org/wp-content/uploads/2020/01/IMG_2916-scaled.jpg
ORGANIZER;CN="Miracle of Love":MAILTO:info@miracleofloveinc.org
END:VEVENT
BEGIN:VEVENT
DTSTART;TZID=America/New_York:20260718T000000
DTEND;TZID=America/New_York:20260718T020000
DTSTAMP:20260425T084614
CREATED:20240427T200506Z
LAST-MODIFIED:20240427T200506Z
UID:10003717-1784332800-1784340000@miracleofloveinc.org
SUMMARY:DID Outreach - Bipolar Cafe Orlando
DESCRIPTION:Catch the Divas every Friday night at Bipolar Cafe Orlando. \nFree condoms and other materials.
URL:https://miracleofloveinc.org/event/did-outreach-bipolar-cafe-orlando/2026-07-18/
LOCATION:Southern Nights\, 375 S Bumby Ave.\, Orlando\, FL\, 32803\, United States
CATEGORIES:Community Outreach
ATTACH;FMTTYPE=image/jpeg:https://miracleofloveinc.org/wp-content/uploads/2022/02/Business-Card-Back.jpg
END:VEVENT
BEGIN:VEVENT
DTSTART;TZID=America/New_York:20260717T000000
DTEND;TZID=America/New_York:20260717T020000
DTSTAMP:20260425T084614
CREATED:20240427T200230Z
LAST-MODIFIED:20240427T200325Z
UID:10003195-1784246400-1784253600@miracleofloveinc.org
SUMMARY:DID Outreach - Southern Nights
DESCRIPTION:Catch the Divas every Thursday night at Southern Nights Orlando. \nFree condoms and other materials.
URL:https://miracleofloveinc.org/event/did-outreach-southern-nights/2026-07-17/
LOCATION:Southern Nights\, 375 S Bumby Ave.\, Orlando\, FL\, 32803\, United States
CATEGORIES:Community Outreach
ATTACH;FMTTYPE=image/jpeg:https://miracleofloveinc.org/wp-content/uploads/2022/02/Business-Card-Back.jpg
END:VEVENT
BEGIN:VEVENT
DTSTART;TZID=America/New_York:20260716T170000
DTEND;TZID=America/New_York:20260716T200000
DTSTAMP:20260425T084614
CREATED:20250103T204059Z
LAST-MODIFIED:20251210T123058Z
UID:10006026-1784221200-1784232000@miracleofloveinc.org
SUMMARY:Evening HIV Testing - Stafford House
DESCRIPTION:FREE HIV Testing is offered from 5:00-8:00 PM \nStafford House \n711 Seminole Ave \nOrlando FL 32804
URL:https://miracleofloveinc.org/event/evening-hiv-testing-2-2-4-2-2/2026-07-16/
LOCATION:Stafford House\, 711 Seminole Ave\, Orlando\, 32804\, United States
CATEGORIES:HIV/STI Screening,Stafford House
ATTACH;FMTTYPE=image/jpeg:https://miracleofloveinc.org/wp-content/uploads/2020/01/IMG_2916-scaled.jpg
ORGANIZER;CN="Miracle of Love":MAILTO:info@miracleofloveinc.org
END:VEVENT
BEGIN:VEVENT
DTSTART;TZID=America/New_York:20260715T170000
DTEND;TZID=America/New_York:20260715T200000
DTSTAMP:20260425T084614
CREATED:20250103T204059Z
LAST-MODIFIED:20251210T123058Z
UID:10006025-1784134800-1784145600@miracleofloveinc.org
SUMMARY:Evening HIV Testing - Stafford House
DESCRIPTION:FREE HIV Testing is offered from 5:00-8:00 PM \nStafford House \n711 Seminole Ave \nOrlando FL 32804
URL:https://miracleofloveinc.org/event/evening-hiv-testing-2-2-4-2-2/2026-07-15/
LOCATION:Stafford House\, 711 Seminole Ave\, Orlando\, 32804\, United States
CATEGORIES:HIV/STI Screening,Stafford House
ATTACH;FMTTYPE=image/jpeg:https://miracleofloveinc.org/wp-content/uploads/2020/01/IMG_2916-scaled.jpg
ORGANIZER;CN="Miracle of Love":MAILTO:info@miracleofloveinc.org
END:VEVENT
BEGIN:VEVENT
DTSTART;TZID=America/New_York:20260715T170000
DTEND;TZID=America/New_York:20260715T200000
DTSTAMP:20260425T084614
CREATED:20240427T203212Z
LAST-MODIFIED:20250330T150026Z
UID:10003977-1784134800-1784145600@miracleofloveinc.org
SUMMARY:Condom Packing with Beautifull Sallings
DESCRIPTION:Assemble packages of various condoms to share with the community.
URL:https://miracleofloveinc.org/event/condom-packing-with-beautifull-sallings/2026-07-15/
LOCATION:Stafford House\, 711 Seminole Ave\, Orlando\, 32804\, United States
CATEGORIES:Community Outreach,Stafford House
ATTACH;FMTTYPE=image/jpeg:https://miracleofloveinc.org/wp-content/uploads/2024/04/DID-Condom-Packing.jpg
END:VEVENT
BEGIN:VEVENT
DTSTART;TZID=America/New_York:20260714T170000
DTEND;TZID=America/New_York:20260714T200000
DTSTAMP:20260425T084614
CREATED:20250103T204059Z
LAST-MODIFIED:20251210T123058Z
UID:10006024-1784048400-1784059200@miracleofloveinc.org
SUMMARY:Evening HIV Testing - Stafford House
DESCRIPTION:FREE HIV Testing is offered from 5:00-8:00 PM \nStafford House \n711 Seminole Ave \nOrlando FL 32804
URL:https://miracleofloveinc.org/event/evening-hiv-testing-2-2-4-2-2/2026-07-14/
LOCATION:Stafford House\, 711 Seminole Ave\, Orlando\, 32804\, United States
CATEGORIES:HIV/STI Screening,Stafford House
ATTACH;FMTTYPE=image/jpeg:https://miracleofloveinc.org/wp-content/uploads/2020/01/IMG_2916-scaled.jpg
ORGANIZER;CN="Miracle of Love":MAILTO:info@miracleofloveinc.org
END:VEVENT
BEGIN:VEVENT
DTSTART;TZID=America/New_York:20260713T170000
DTEND;TZID=America/New_York:20260713T200000
DTSTAMP:20260425T084614
CREATED:20250103T204059Z
LAST-MODIFIED:20251210T123058Z
UID:10006023-1783962000-1783972800@miracleofloveinc.org
SUMMARY:Evening HIV Testing - Stafford House
DESCRIPTION:FREE HIV Testing is offered from 5:00-8:00 PM \nStafford House \n711 Seminole Ave \nOrlando FL 32804
URL:https://miracleofloveinc.org/event/evening-hiv-testing-2-2-4-2-2/2026-07-13/
LOCATION:Stafford House\, 711 Seminole Ave\, Orlando\, 32804\, United States
CATEGORIES:HIV/STI Screening,Stafford House
ATTACH;FMTTYPE=image/jpeg:https://miracleofloveinc.org/wp-content/uploads/2020/01/IMG_2916-scaled.jpg
ORGANIZER;CN="Miracle of Love":MAILTO:info@miracleofloveinc.org
END:VEVENT
BEGIN:VEVENT
DTSTART;TZID=America/New_York:20260711T150000
DTEND;TZID=America/New_York:20260711T200000
DTSTAMP:20260425T084614
CREATED:20240427T190604Z
LAST-MODIFIED:20250330T144451Z
UID:10002665-1783782000-1783800000@miracleofloveinc.org
SUMMARY:DID Trans Support Group
DESCRIPTION:Trans Support Group \nNo registration or RSVP is required.
URL:https://miracleofloveinc.org/event/divas-in-dialogue/2026-07-11/
LOCATION:Stafford House\, 711 Seminole Ave\, Orlando\, 32804\, United States
CATEGORIES:Community Outreach,Stafford House,Support Group
ATTACH;FMTTYPE=image/jpeg:https://miracleofloveinc.org/wp-content/uploads/2021/07/DID-LOGO-crop.jpg
END:VEVENT
BEGIN:VEVENT
DTSTART;TZID=America/New_York:20260711T090000
DTEND;TZID=America/New_York:20260711T120000
DTSTAMP:20260425T084614
CREATED:20260129T200357Z
LAST-MODIFIED:20260129T200357Z
UID:10009130-1783760400-1783771200@miracleofloveinc.org
SUMMARY:Saturday Testing Hours
DESCRIPTION:
URL:https://miracleofloveinc.org/event/saturday-testing-hours/2026-07-11/
LOCATION:Miracle of Love – Executive Office\, 1301 W Colonial Dr.\, Second Floor\, Orlando\, FL\, 32804\, United States
CATEGORIES:HIV/STI Screening
ORGANIZER;CN="Miracle of Love":MAILTO:info@miracleofloveinc.org
END:VEVENT
BEGIN:VEVENT
DTSTART;TZID=America/New_York:20260711T000000
DTEND;TZID=America/New_York:20260711T020000
DTSTAMP:20260425T084614
CREATED:20240427T200506Z
LAST-MODIFIED:20240427T200506Z
UID:10003716-1783728000-1783735200@miracleofloveinc.org
SUMMARY:DID Outreach - Bipolar Cafe Orlando
DESCRIPTION:Catch the Divas every Friday night at Bipolar Cafe Orlando. \nFree condoms and other materials.
URL:https://miracleofloveinc.org/event/did-outreach-bipolar-cafe-orlando/2026-07-11/
LOCATION:Southern Nights\, 375 S Bumby Ave.\, Orlando\, FL\, 32803\, United States
CATEGORIES:Community Outreach
ATTACH;FMTTYPE=image/jpeg:https://miracleofloveinc.org/wp-content/uploads/2022/02/Business-Card-Back.jpg
END:VEVENT
BEGIN:VEVENT
DTSTART;TZID=America/New_York:20260710T000000
DTEND;TZID=America/New_York:20260710T020000
DTSTAMP:20260425T084614
CREATED:20240427T200230Z
LAST-MODIFIED:20240427T200325Z
UID:10003194-1783641600-1783648800@miracleofloveinc.org
SUMMARY:DID Outreach - Southern Nights
DESCRIPTION:Catch the Divas every Thursday night at Southern Nights Orlando. \nFree condoms and other materials.
URL:https://miracleofloveinc.org/event/did-outreach-southern-nights/2026-07-10/
LOCATION:Southern Nights\, 375 S Bumby Ave.\, Orlando\, FL\, 32803\, United States
CATEGORIES:Community Outreach
ATTACH;FMTTYPE=image/jpeg:https://miracleofloveinc.org/wp-content/uploads/2022/02/Business-Card-Back.jpg
END:VEVENT
BEGIN:VEVENT
DTSTART;TZID=America/New_York:20260709T170000
DTEND;TZID=America/New_York:20260709T200000
DTSTAMP:20260425T084614
CREATED:20260129T200218Z
LAST-MODIFIED:20260129T200218Z
UID:10009010-1783616400-1783627200@miracleofloveinc.org
SUMMARY:Evening Testing Hours
DESCRIPTION:
URL:https://miracleofloveinc.org/event/evening-testing-hours/2026-07-09/
LOCATION:Miracle of Love – Executive Office\, 1301 W Colonial Dr.\, Second Floor\, Orlando\, FL\, 32804\, United States
CATEGORIES:HIV/STI Screening
ORGANIZER;CN="Miracle of Love":MAILTO:info@miracleofloveinc.org
END:VEVENT
BEGIN:VEVENT
DTSTART;TZID=America/New_York:20260709T170000
DTEND;TZID=America/New_York:20260709T200000
DTSTAMP:20260425T084614
CREATED:20250103T204059Z
LAST-MODIFIED:20251210T123058Z
UID:10006021-1783616400-1783627200@miracleofloveinc.org
SUMMARY:Evening HIV Testing - Stafford House
DESCRIPTION:FREE HIV Testing is offered from 5:00-8:00 PM \nStafford House \n711 Seminole Ave \nOrlando FL 32804
URL:https://miracleofloveinc.org/event/evening-hiv-testing-2-2-4-2-2/2026-07-09/
LOCATION:Stafford House\, 711 Seminole Ave\, Orlando\, 32804\, United States
CATEGORIES:HIV/STI Screening,Stafford House
ATTACH;FMTTYPE=image/jpeg:https://miracleofloveinc.org/wp-content/uploads/2020/01/IMG_2916-scaled.jpg
ORGANIZER;CN="Miracle of Love":MAILTO:info@miracleofloveinc.org
END:VEVENT
BEGIN:VEVENT
DTSTART;TZID=America/New_York:20260708T173000
DTEND;TZID=America/New_York:20260708T190000
DTSTAMP:20260425T084614
CREATED:20240427T192627Z
LAST-MODIFIED:20240427T192627Z
UID:10002850-1783531800-1783537200@miracleofloveinc.org
SUMMARY:Lake County C.A.B. Meeting
DESCRIPTION:Lake County Client Advisory Board (CAB) Meetings are open to all clients receiving Ryan White and/or HOPWA services in Lake County.  No registration is required.
URL:https://miracleofloveinc.org/event/lake-county-c-a-b-meeting-2/2026-07-08/
LOCATION:MOL – Lake County\, 4400 North Highway 19A\, Unit 10\, Mount Dora\, FL\, 32757\, United States
CATEGORIES:C.A.B. Lake,Community Outreach
ATTACH;FMTTYPE=image/png:https://miracleofloveinc.org/wp-content/uploads/2023/04/CAB-Meeting-Social-Portrait.png
ORGANIZER;CN="Miracle of Love":MAILTO:info@miracleofloveinc.org
END:VEVENT
BEGIN:VEVENT
DTSTART;TZID=America/New_York:20260708T170000
DTEND;TZID=America/New_York:20260708T200000
DTSTAMP:20260425T084614
CREATED:20250103T204059Z
LAST-MODIFIED:20251210T123058Z
UID:10006020-1783530000-1783540800@miracleofloveinc.org
SUMMARY:Evening HIV Testing - Stafford House
DESCRIPTION:FREE HIV Testing is offered from 5:00-8:00 PM \nStafford House \n711 Seminole Ave \nOrlando FL 32804
URL:https://miracleofloveinc.org/event/evening-hiv-testing-2-2-4-2-2/2026-07-08/
LOCATION:Stafford House\, 711 Seminole Ave\, Orlando\, 32804\, United States
CATEGORIES:HIV/STI Screening,Stafford House
ATTACH;FMTTYPE=image/jpeg:https://miracleofloveinc.org/wp-content/uploads/2020/01/IMG_2916-scaled.jpg
ORGANIZER;CN="Miracle of Love":MAILTO:info@miracleofloveinc.org
END:VEVENT
BEGIN:VEVENT
DTSTART;TZID=America/New_York:20260708T170000
DTEND;TZID=America/New_York:20260708T200000
DTSTAMP:20260425T084614
CREATED:20240427T203212Z
LAST-MODIFIED:20250330T150026Z
UID:10003976-1783530000-1783540800@miracleofloveinc.org
SUMMARY:Condom Packing with Beautifull Sallings
DESCRIPTION:Assemble packages of various condoms to share with the community.
URL:https://miracleofloveinc.org/event/condom-packing-with-beautifull-sallings/2026-07-08/
LOCATION:Stafford House\, 711 Seminole Ave\, Orlando\, 32804\, United States
CATEGORIES:Community Outreach,Stafford House
ATTACH;FMTTYPE=image/jpeg:https://miracleofloveinc.org/wp-content/uploads/2024/04/DID-Condom-Packing.jpg
END:VEVENT
BEGIN:VEVENT
DTSTART;TZID=America/New_York:20260707T170000
DTEND;TZID=America/New_York:20260707T200000
DTSTAMP:20260425T084614
CREATED:20250103T204059Z
LAST-MODIFIED:20251210T123058Z
UID:10006019-1783443600-1783454400@miracleofloveinc.org
SUMMARY:Evening HIV Testing - Stafford House
DESCRIPTION:FREE HIV Testing is offered from 5:00-8:00 PM \nStafford House \n711 Seminole Ave \nOrlando FL 32804
URL:https://miracleofloveinc.org/event/evening-hiv-testing-2-2-4-2-2/2026-07-07/
LOCATION:Stafford House\, 711 Seminole Ave\, Orlando\, 32804\, United States
CATEGORIES:HIV/STI Screening,Stafford House
ATTACH;FMTTYPE=image/jpeg:https://miracleofloveinc.org/wp-content/uploads/2020/01/IMG_2916-scaled.jpg
ORGANIZER;CN="Miracle of Love":MAILTO:info@miracleofloveinc.org
END:VEVENT
BEGIN:VEVENT
DTSTART;TZID=America/New_York:20260706T170000
DTEND;TZID=America/New_York:20260706T200000
DTSTAMP:20260425T084614
CREATED:20250103T204059Z
LAST-MODIFIED:20251210T123058Z
UID:10006018-1783357200-1783368000@miracleofloveinc.org
SUMMARY:Evening HIV Testing - Stafford House
DESCRIPTION:FREE HIV Testing is offered from 5:00-8:00 PM \nStafford House \n711 Seminole Ave \nOrlando FL 32804
URL:https://miracleofloveinc.org/event/evening-hiv-testing-2-2-4-2-2/2026-07-06/
LOCATION:Stafford House\, 711 Seminole Ave\, Orlando\, 32804\, United States
CATEGORIES:HIV/STI Screening,Stafford House
ATTACH;FMTTYPE=image/jpeg:https://miracleofloveinc.org/wp-content/uploads/2020/01/IMG_2916-scaled.jpg
ORGANIZER;CN="Miracle of Love":MAILTO:info@miracleofloveinc.org
END:VEVENT
BEGIN:VEVENT
DTSTART;TZID=America/New_York:20260704T000000
DTEND;TZID=America/New_York:20260704T020000
DTSTAMP:20260425T084614
CREATED:20240427T200506Z
LAST-MODIFIED:20240427T200506Z
UID:10003715-1783123200-1783130400@miracleofloveinc.org
SUMMARY:DID Outreach - Bipolar Cafe Orlando
DESCRIPTION:Catch the Divas every Friday night at Bipolar Cafe Orlando. \nFree condoms and other materials.
URL:https://miracleofloveinc.org/event/did-outreach-bipolar-cafe-orlando/2026-07-04/
LOCATION:Southern Nights\, 375 S Bumby Ave.\, Orlando\, FL\, 32803\, United States
CATEGORIES:Community Outreach
ATTACH;FMTTYPE=image/jpeg:https://miracleofloveinc.org/wp-content/uploads/2022/02/Business-Card-Back.jpg
END:VEVENT
BEGIN:VEVENT
DTSTART;VALUE=DATE:20260703
DTEND;VALUE=DATE:20260704
DTSTAMP:20260425T084614
CREATED:20251210T124935Z
LAST-MODIFIED:20251210T124958Z
UID:10008932-1783036800-1783123199@miracleofloveinc.org
SUMMARY:Holiday - Offices Closed
DESCRIPTION:Our offices are closed on Independence Day (or observed).
URL:https://miracleofloveinc.org/event/holiday-offices-closed-independence/
LOCATION:Miracle of Love – Executive Office\, 1301 W Colonial Dr.\, Second Floor\, Orlando\, FL\, 32804\, United States
CATEGORIES:HIV/STI Screening,Office Closed,Stafford House
ORGANIZER;CN="Miracle of Love":MAILTO:info@miracleofloveinc.org
END:VEVENT
BEGIN:VEVENT
DTSTART;TZID=America/New_York:20260703T000000
DTEND;TZID=America/New_York:20260703T020000
DTSTAMP:20260425T084614
CREATED:20240427T200230Z
LAST-MODIFIED:20240427T200325Z
UID:10003193-1783036800-1783044000@miracleofloveinc.org
SUMMARY:DID Outreach - Southern Nights
DESCRIPTION:Catch the Divas every Thursday night at Southern Nights Orlando. \nFree condoms and other materials.
URL:https://miracleofloveinc.org/event/did-outreach-southern-nights/2026-07-03/
LOCATION:Southern Nights\, 375 S Bumby Ave.\, Orlando\, FL\, 32803\, United States
CATEGORIES:Community Outreach
ATTACH;FMTTYPE=image/jpeg:https://miracleofloveinc.org/wp-content/uploads/2022/02/Business-Card-Back.jpg
END:VEVENT
BEGIN:VEVENT
DTSTART;TZID=America/New_York:20260702T190000
DTEND;TZID=America/New_York:20260702T203000
DTSTAMP:20260425T084614
CREATED:20240427T193600Z
LAST-MODIFIED:20250102T163126Z
UID:10003046-1783018800-1783024200@miracleofloveinc.org
SUMMARY:Latidos
DESCRIPTION:MISIÓN\n\n\n\n\n\nLatidos ofrece apoyo a hombres Latinos de Orlando afectados por el VIH/SIDA\, brindando un espacio que ayude a desarrollar herramientas y estrategias para una vida plena\, saludable y activa. \n\n\n\n\n\n\n\n\n\n\n\n\n\n\nVISIÓN\n\n\n\n\n\nVivir en un mundo donde nadie se sienta aislado basado en su estatus del VIH/SIDA. \n\n\n\n\n\n\n\n\n\n\n\n\n\n\n\n\nVALOR\n\n\n\n\nUn espacio seguro para crear una comunidad y familia sólida\, que se apoya mutuamente.
URL:https://miracleofloveinc.org/event/latidos/2026-07-02/
LOCATION:Miracle of Love\, 1301 W Colonial Drive Suite 201\, Orlando\, FL\, 32804\, United States
CATEGORIES:Community Outreach,Stafford House,Support Group
ATTACH;FMTTYPE=image/png:https://miracleofloveinc.org/wp-content/uploads/2019/08/latidos.png
ORGANIZER;CN="Miracle of Love":MAILTO:info@miracleofloveinc.org
END:VEVENT
BEGIN:VEVENT
DTSTART;TZID=America/New_York:20260702T170000
DTEND;TZID=America/New_York:20260702T200000
DTSTAMP:20260425T084614
CREATED:20250103T204059Z
LAST-MODIFIED:20251210T123058Z
UID:10006016-1783011600-1783022400@miracleofloveinc.org
SUMMARY:Evening HIV Testing - Stafford House
DESCRIPTION:FREE HIV Testing is offered from 5:00-8:00 PM \nStafford House \n711 Seminole Ave \nOrlando FL 32804
URL:https://miracleofloveinc.org/event/evening-hiv-testing-2-2-4-2-2/2026-07-02/
LOCATION:Stafford House\, 711 Seminole Ave\, Orlando\, 32804\, United States
CATEGORIES:HIV/STI Screening,Stafford House
ATTACH;FMTTYPE=image/jpeg:https://miracleofloveinc.org/wp-content/uploads/2020/01/IMG_2916-scaled.jpg
ORGANIZER;CN="Miracle of Love":MAILTO:info@miracleofloveinc.org
END:VEVENT
BEGIN:VEVENT
DTSTART;TZID=America/New_York:20260701T170000
DTEND;TZID=America/New_York:20260701T200000
DTSTAMP:20260425T084614
CREATED:20250103T204059Z
LAST-MODIFIED:20251210T123058Z
UID:10006015-1782925200-1782936000@miracleofloveinc.org
SUMMARY:Evening HIV Testing - Stafford House
DESCRIPTION:FREE HIV Testing is offered from 5:00-8:00 PM \nStafford House \n711 Seminole Ave \nOrlando FL 32804
URL:https://miracleofloveinc.org/event/evening-hiv-testing-2-2-4-2-2/2026-07-01/
LOCATION:Stafford House\, 711 Seminole Ave\, Orlando\, 32804\, United States
CATEGORIES:HIV/STI Screening,Stafford House
ATTACH;FMTTYPE=image/jpeg:https://miracleofloveinc.org/wp-content/uploads/2020/01/IMG_2916-scaled.jpg
ORGANIZER;CN="Miracle of Love":MAILTO:info@miracleofloveinc.org
END:VEVENT
END:VCALENDAR