BEGIN:VCALENDAR
VERSION:2.0
PRODID:-//Miracle of Love Inc. - ECPv6.15.17//NONSGML v1.0//EN
CALSCALE:GREGORIAN
METHOD:PUBLISH
X-WR-CALNAME:Miracle of Love Inc.
X-ORIGINAL-URL:https://miracleofloveinc.org
X-WR-CALDESC:Events for Miracle of Love Inc.
REFRESH-INTERVAL;VALUE=DURATION:PT1H
X-Robots-Tag:noindex
X-PUBLISHED-TTL:PT1H
BEGIN:VTIMEZONE
TZID:America/New_York
BEGIN:DAYLIGHT
TZOFFSETFROM:-0500
TZOFFSETTO:-0400
TZNAME:EDT
DTSTART:20250309T070000
END:DAYLIGHT
BEGIN:STANDARD
TZOFFSETFROM:-0400
TZOFFSETTO:-0500
TZNAME:EST
DTSTART:20251102T060000
END:STANDARD
BEGIN:DAYLIGHT
TZOFFSETFROM:-0500
TZOFFSETTO:-0400
TZNAME:EDT
DTSTART:20260308T070000
END:DAYLIGHT
BEGIN:STANDARD
TZOFFSETFROM:-0400
TZOFFSETTO:-0500
TZNAME:EST
DTSTART:20261101T060000
END:STANDARD
BEGIN:DAYLIGHT
TZOFFSETFROM:-0500
TZOFFSETTO:-0400
TZNAME:EDT
DTSTART:20270314T070000
END:DAYLIGHT
BEGIN:STANDARD
TZOFFSETFROM:-0400
TZOFFSETTO:-0500
TZNAME:EST
DTSTART:20271107T060000
END:STANDARD
END:VTIMEZONE
BEGIN:VEVENT
DTSTART;TZID=America/New_York:20260420T170000
DTEND;TZID=America/New_York:20260420T200000
DTSTAMP:20260423T182115
CREATED:20250103T204059Z
LAST-MODIFIED:20251210T123058Z
UID:10005964-1776704400-1776715200@miracleofloveinc.org
SUMMARY:Evening HIV Testing - Stafford House
DESCRIPTION:FREE HIV Testing is offered from 5:00-8:00 PM \nStafford House \n711 Seminole Ave \nOrlando FL 32804
URL:https://miracleofloveinc.org/event/evening-hiv-testing-2-2-4-2-2/2026-04-20/
LOCATION:Stafford House\, 711 Seminole Ave\, Orlando\, 32804\, United States
CATEGORIES:HIV/STI Screening,Stafford House
ATTACH;FMTTYPE=image/jpeg:https://miracleofloveinc.org/wp-content/uploads/2020/01/IMG_2916-scaled.jpg
ORGANIZER;CN="Miracle of Love":MAILTO:info@miracleofloveinc.org
END:VEVENT
BEGIN:VEVENT
DTSTART;TZID=America/New_York:20260418T000000
DTEND;TZID=America/New_York:20260418T020000
DTSTAMP:20260423T182115
CREATED:20240427T200506Z
LAST-MODIFIED:20240427T200506Z
UID:10003704-1776470400-1776477600@miracleofloveinc.org
SUMMARY:DID Outreach - Bipolar Cafe Orlando
DESCRIPTION:Catch the Divas every Friday night at Bipolar Cafe Orlando. \nFree condoms and other materials.
URL:https://miracleofloveinc.org/event/did-outreach-bipolar-cafe-orlando/2026-04-18/
LOCATION:Southern Nights\, 375 S Bumby Ave.\, Orlando\, FL\, 32803\, United States
CATEGORIES:Community Outreach
ATTACH;FMTTYPE=image/jpeg:https://miracleofloveinc.org/wp-content/uploads/2022/02/Business-Card-Back.jpg
END:VEVENT
BEGIN:VEVENT
DTSTART;TZID=America/New_York:20260417T000000
DTEND;TZID=America/New_York:20260417T020000
DTSTAMP:20260423T182115
CREATED:20240427T200230Z
LAST-MODIFIED:20240427T200325Z
UID:10003182-1776384000-1776391200@miracleofloveinc.org
SUMMARY:DID Outreach - Southern Nights
DESCRIPTION:Catch the Divas every Thursday night at Southern Nights Orlando. \nFree condoms and other materials.
URL:https://miracleofloveinc.org/event/did-outreach-southern-nights/2026-04-17/
LOCATION:Southern Nights\, 375 S Bumby Ave.\, Orlando\, FL\, 32803\, United States
CATEGORIES:Community Outreach
ATTACH;FMTTYPE=image/jpeg:https://miracleofloveinc.org/wp-content/uploads/2022/02/Business-Card-Back.jpg
END:VEVENT
BEGIN:VEVENT
DTSTART;TZID=America/New_York:20260416T170000
DTEND;TZID=America/New_York:20260416T200000
DTSTAMP:20260423T182115
CREATED:20250103T204059Z
LAST-MODIFIED:20251210T123058Z
UID:10005962-1776358800-1776369600@miracleofloveinc.org
SUMMARY:Evening HIV Testing - Stafford House
DESCRIPTION:FREE HIV Testing is offered from 5:00-8:00 PM \nStafford House \n711 Seminole Ave \nOrlando FL 32804
URL:https://miracleofloveinc.org/event/evening-hiv-testing-2-2-4-2-2/2026-04-16/
LOCATION:Stafford House\, 711 Seminole Ave\, Orlando\, 32804\, United States
CATEGORIES:HIV/STI Screening,Stafford House
ATTACH;FMTTYPE=image/jpeg:https://miracleofloveinc.org/wp-content/uploads/2020/01/IMG_2916-scaled.jpg
ORGANIZER;CN="Miracle of Love":MAILTO:info@miracleofloveinc.org
END:VEVENT
BEGIN:VEVENT
DTSTART;TZID=America/New_York:20260415T170000
DTEND;TZID=America/New_York:20260415T200000
DTSTAMP:20260423T182115
CREATED:20250103T204059Z
LAST-MODIFIED:20251210T123058Z
UID:10005961-1776272400-1776283200@miracleofloveinc.org
SUMMARY:Evening HIV Testing - Stafford House
DESCRIPTION:FREE HIV Testing is offered from 5:00-8:00 PM \nStafford House \n711 Seminole Ave \nOrlando FL 32804
URL:https://miracleofloveinc.org/event/evening-hiv-testing-2-2-4-2-2/2026-04-15/
LOCATION:Stafford House\, 711 Seminole Ave\, Orlando\, 32804\, United States
CATEGORIES:HIV/STI Screening,Stafford House
ATTACH;FMTTYPE=image/jpeg:https://miracleofloveinc.org/wp-content/uploads/2020/01/IMG_2916-scaled.jpg
ORGANIZER;CN="Miracle of Love":MAILTO:info@miracleofloveinc.org
END:VEVENT
BEGIN:VEVENT
DTSTART;TZID=America/New_York:20260415T170000
DTEND;TZID=America/New_York:20260415T200000
DTSTAMP:20260423T182115
CREATED:20240427T203212Z
LAST-MODIFIED:20250330T150026Z
UID:10003964-1776272400-1776283200@miracleofloveinc.org
SUMMARY:Condom Packing with Beautifull Sallings
DESCRIPTION:Assemble packages of various condoms to share with the community.
URL:https://miracleofloveinc.org/event/condom-packing-with-beautifull-sallings/2026-04-15/
LOCATION:Stafford House\, 711 Seminole Ave\, Orlando\, 32804\, United States
CATEGORIES:Community Outreach,Stafford House
ATTACH;FMTTYPE=image/jpeg:https://miracleofloveinc.org/wp-content/uploads/2024/04/DID-Condom-Packing.jpg
END:VEVENT
BEGIN:VEVENT
DTSTART;TZID=America/New_York:20260414T170000
DTEND;TZID=America/New_York:20260414T200000
DTSTAMP:20260423T182115
CREATED:20250103T204059Z
LAST-MODIFIED:20251210T123058Z
UID:10005960-1776186000-1776196800@miracleofloveinc.org
SUMMARY:Evening HIV Testing - Stafford House
DESCRIPTION:FREE HIV Testing is offered from 5:00-8:00 PM \nStafford House \n711 Seminole Ave \nOrlando FL 32804
URL:https://miracleofloveinc.org/event/evening-hiv-testing-2-2-4-2-2/2026-04-14/
LOCATION:Stafford House\, 711 Seminole Ave\, Orlando\, 32804\, United States
CATEGORIES:HIV/STI Screening,Stafford House
ATTACH;FMTTYPE=image/jpeg:https://miracleofloveinc.org/wp-content/uploads/2020/01/IMG_2916-scaled.jpg
ORGANIZER;CN="Miracle of Love":MAILTO:info@miracleofloveinc.org
END:VEVENT
BEGIN:VEVENT
DTSTART;TZID=America/New_York:20260413T170000
DTEND;TZID=America/New_York:20260413T200000
DTSTAMP:20260423T182115
CREATED:20250103T204059Z
LAST-MODIFIED:20251210T123058Z
UID:10005959-1776099600-1776110400@miracleofloveinc.org
SUMMARY:Evening HIV Testing - Stafford House
DESCRIPTION:FREE HIV Testing is offered from 5:00-8:00 PM \nStafford House \n711 Seminole Ave \nOrlando FL 32804
URL:https://miracleofloveinc.org/event/evening-hiv-testing-2-2-4-2-2/2026-04-13/
LOCATION:Stafford House\, 711 Seminole Ave\, Orlando\, 32804\, United States
CATEGORIES:HIV/STI Screening,Stafford House
ATTACH;FMTTYPE=image/jpeg:https://miracleofloveinc.org/wp-content/uploads/2020/01/IMG_2916-scaled.jpg
ORGANIZER;CN="Miracle of Love":MAILTO:info@miracleofloveinc.org
END:VEVENT
BEGIN:VEVENT
DTSTART;TZID=America/New_York:20260411T150000
DTEND;TZID=America/New_York:20260411T200000
DTSTAMP:20260423T182115
CREATED:20240427T190604Z
LAST-MODIFIED:20250330T144451Z
UID:10002662-1775919600-1775937600@miracleofloveinc.org
SUMMARY:DID Trans Support Group
DESCRIPTION:Trans Support Group \nNo registration or RSVP is required.
URL:https://miracleofloveinc.org/event/divas-in-dialogue/2026-04-11/
LOCATION:Stafford House\, 711 Seminole Ave\, Orlando\, 32804\, United States
CATEGORIES:Community Outreach,Stafford House,Support Group
ATTACH;FMTTYPE=image/jpeg:https://miracleofloveinc.org/wp-content/uploads/2021/07/DID-LOGO-crop.jpg
END:VEVENT
BEGIN:VEVENT
DTSTART;TZID=America/New_York:20260411T090000
DTEND;TZID=America/New_York:20260411T120000
DTSTAMP:20260423T182115
CREATED:20260129T200357Z
LAST-MODIFIED:20260129T200357Z
UID:10009127-1775898000-1775908800@miracleofloveinc.org
SUMMARY:Saturday Testing Hours
DESCRIPTION:
URL:https://miracleofloveinc.org/event/saturday-testing-hours/2026-04-11/
LOCATION:Miracle of Love – Executive Office\, 1301 W Colonial Dr.\, Second Floor\, Orlando\, FL\, 32804\, United States
CATEGORIES:HIV/STI Screening
ORGANIZER;CN="Miracle of Love":MAILTO:info@miracleofloveinc.org
END:VEVENT
BEGIN:VEVENT
DTSTART;TZID=America/New_York:20260411T000000
DTEND;TZID=America/New_York:20260411T020000
DTSTAMP:20260423T182115
CREATED:20240427T200506Z
LAST-MODIFIED:20240427T200506Z
UID:10003703-1775865600-1775872800@miracleofloveinc.org
SUMMARY:DID Outreach - Bipolar Cafe Orlando
DESCRIPTION:Catch the Divas every Friday night at Bipolar Cafe Orlando. \nFree condoms and other materials.
URL:https://miracleofloveinc.org/event/did-outreach-bipolar-cafe-orlando/2026-04-11/
LOCATION:Southern Nights\, 375 S Bumby Ave.\, Orlando\, FL\, 32803\, United States
CATEGORIES:Community Outreach
ATTACH;FMTTYPE=image/jpeg:https://miracleofloveinc.org/wp-content/uploads/2022/02/Business-Card-Back.jpg
END:VEVENT
BEGIN:VEVENT
DTSTART;TZID=America/New_York:20260410T000000
DTEND;TZID=America/New_York:20260410T020000
DTSTAMP:20260423T182115
CREATED:20240427T200230Z
LAST-MODIFIED:20240427T200325Z
UID:10003181-1775779200-1775786400@miracleofloveinc.org
SUMMARY:DID Outreach - Southern Nights
DESCRIPTION:Catch the Divas every Thursday night at Southern Nights Orlando. \nFree condoms and other materials.
URL:https://miracleofloveinc.org/event/did-outreach-southern-nights/2026-04-10/
LOCATION:Southern Nights\, 375 S Bumby Ave.\, Orlando\, FL\, 32803\, United States
CATEGORIES:Community Outreach
ATTACH;FMTTYPE=image/jpeg:https://miracleofloveinc.org/wp-content/uploads/2022/02/Business-Card-Back.jpg
END:VEVENT
BEGIN:VEVENT
DTSTART;TZID=America/New_York:20260409T170000
DTEND;TZID=America/New_York:20260409T200000
DTSTAMP:20260423T182115
CREATED:20260129T200218Z
LAST-MODIFIED:20260129T200218Z
UID:10009007-1775754000-1775764800@miracleofloveinc.org
SUMMARY:Evening Testing Hours
DESCRIPTION:
URL:https://miracleofloveinc.org/event/evening-testing-hours/2026-04-09/
LOCATION:Miracle of Love – Executive Office\, 1301 W Colonial Dr.\, Second Floor\, Orlando\, FL\, 32804\, United States
CATEGORIES:HIV/STI Screening
ORGANIZER;CN="Miracle of Love":MAILTO:info@miracleofloveinc.org
END:VEVENT
BEGIN:VEVENT
DTSTART;TZID=America/New_York:20260409T170000
DTEND;TZID=America/New_York:20260409T200000
DTSTAMP:20260423T182115
CREATED:20250103T204059Z
LAST-MODIFIED:20251210T123058Z
UID:10005957-1775754000-1775764800@miracleofloveinc.org
SUMMARY:Evening HIV Testing - Stafford House
DESCRIPTION:FREE HIV Testing is offered from 5:00-8:00 PM \nStafford House \n711 Seminole Ave \nOrlando FL 32804
URL:https://miracleofloveinc.org/event/evening-hiv-testing-2-2-4-2-2/2026-04-09/
LOCATION:Stafford House\, 711 Seminole Ave\, Orlando\, 32804\, United States
CATEGORIES:HIV/STI Screening,Stafford House
ATTACH;FMTTYPE=image/jpeg:https://miracleofloveinc.org/wp-content/uploads/2020/01/IMG_2916-scaled.jpg
ORGANIZER;CN="Miracle of Love":MAILTO:info@miracleofloveinc.org
END:VEVENT
BEGIN:VEVENT
DTSTART;TZID=America/New_York:20260408T173000
DTEND;TZID=America/New_York:20260408T190000
DTSTAMP:20260423T182115
CREATED:20240427T192627Z
LAST-MODIFIED:20240427T192627Z
UID:10002847-1775669400-1775674800@miracleofloveinc.org
SUMMARY:Lake County C.A.B. Meeting
DESCRIPTION:Lake County Client Advisory Board (CAB) Meetings are open to all clients receiving Ryan White and/or HOPWA services in Lake County.  No registration is required.
URL:https://miracleofloveinc.org/event/lake-county-c-a-b-meeting-2/2026-04-08/
LOCATION:MOL – Lake County\, 4400 North Highway 19A\, Unit 10\, Mount Dora\, FL\, 32757\, United States
CATEGORIES:C.A.B. Lake,Community Outreach
ATTACH;FMTTYPE=image/png:https://miracleofloveinc.org/wp-content/uploads/2023/04/CAB-Meeting-Social-Portrait.png
ORGANIZER;CN="Miracle of Love":MAILTO:info@miracleofloveinc.org
END:VEVENT
BEGIN:VEVENT
DTSTART;TZID=America/New_York:20260408T170000
DTEND;TZID=America/New_York:20260408T200000
DTSTAMP:20260423T182115
CREATED:20250103T204059Z
LAST-MODIFIED:20251210T123058Z
UID:10005956-1775667600-1775678400@miracleofloveinc.org
SUMMARY:Evening HIV Testing - Stafford House
DESCRIPTION:FREE HIV Testing is offered from 5:00-8:00 PM \nStafford House \n711 Seminole Ave \nOrlando FL 32804
URL:https://miracleofloveinc.org/event/evening-hiv-testing-2-2-4-2-2/2026-04-08/
LOCATION:Stafford House\, 711 Seminole Ave\, Orlando\, 32804\, United States
CATEGORIES:HIV/STI Screening,Stafford House
ATTACH;FMTTYPE=image/jpeg:https://miracleofloveinc.org/wp-content/uploads/2020/01/IMG_2916-scaled.jpg
ORGANIZER;CN="Miracle of Love":MAILTO:info@miracleofloveinc.org
END:VEVENT
BEGIN:VEVENT
DTSTART;TZID=America/New_York:20260408T170000
DTEND;TZID=America/New_York:20260408T200000
DTSTAMP:20260423T182115
CREATED:20240427T203212Z
LAST-MODIFIED:20250330T150026Z
UID:10003963-1775667600-1775678400@miracleofloveinc.org
SUMMARY:Condom Packing with Beautifull Sallings
DESCRIPTION:Assemble packages of various condoms to share with the community.
URL:https://miracleofloveinc.org/event/condom-packing-with-beautifull-sallings/2026-04-08/
LOCATION:Stafford House\, 711 Seminole Ave\, Orlando\, 32804\, United States
CATEGORIES:Community Outreach,Stafford House
ATTACH;FMTTYPE=image/jpeg:https://miracleofloveinc.org/wp-content/uploads/2024/04/DID-Condom-Packing.jpg
END:VEVENT
BEGIN:VEVENT
DTSTART;TZID=America/New_York:20260407T170000
DTEND;TZID=America/New_York:20260407T200000
DTSTAMP:20260423T182115
CREATED:20250103T204059Z
LAST-MODIFIED:20251210T123058Z
UID:10005955-1775581200-1775592000@miracleofloveinc.org
SUMMARY:Evening HIV Testing - Stafford House
DESCRIPTION:FREE HIV Testing is offered from 5:00-8:00 PM \nStafford House \n711 Seminole Ave \nOrlando FL 32804
URL:https://miracleofloveinc.org/event/evening-hiv-testing-2-2-4-2-2/2026-04-07/
LOCATION:Stafford House\, 711 Seminole Ave\, Orlando\, 32804\, United States
CATEGORIES:HIV/STI Screening,Stafford House
ATTACH;FMTTYPE=image/jpeg:https://miracleofloveinc.org/wp-content/uploads/2020/01/IMG_2916-scaled.jpg
ORGANIZER;CN="Miracle of Love":MAILTO:info@miracleofloveinc.org
END:VEVENT
BEGIN:VEVENT
DTSTART;TZID=America/New_York:20260406T170000
DTEND;TZID=America/New_York:20260406T200000
DTSTAMP:20260423T182115
CREATED:20250103T204059Z
LAST-MODIFIED:20251210T123058Z
UID:10005954-1775494800-1775505600@miracleofloveinc.org
SUMMARY:Evening HIV Testing - Stafford House
DESCRIPTION:FREE HIV Testing is offered from 5:00-8:00 PM \nStafford House \n711 Seminole Ave \nOrlando FL 32804
URL:https://miracleofloveinc.org/event/evening-hiv-testing-2-2-4-2-2/2026-04-06/
LOCATION:Stafford House\, 711 Seminole Ave\, Orlando\, 32804\, United States
CATEGORIES:HIV/STI Screening,Stafford House
ATTACH;FMTTYPE=image/jpeg:https://miracleofloveinc.org/wp-content/uploads/2020/01/IMG_2916-scaled.jpg
ORGANIZER;CN="Miracle of Love":MAILTO:info@miracleofloveinc.org
END:VEVENT
BEGIN:VEVENT
DTSTART;TZID=America/New_York:20260404T000000
DTEND;TZID=America/New_York:20260404T020000
DTSTAMP:20260423T182115
CREATED:20240427T200506Z
LAST-MODIFIED:20240427T200506Z
UID:10003702-1775260800-1775268000@miracleofloveinc.org
SUMMARY:DID Outreach - Bipolar Cafe Orlando
DESCRIPTION:Catch the Divas every Friday night at Bipolar Cafe Orlando. \nFree condoms and other materials.
URL:https://miracleofloveinc.org/event/did-outreach-bipolar-cafe-orlando/2026-04-04/
LOCATION:Southern Nights\, 375 S Bumby Ave.\, Orlando\, FL\, 32803\, United States
CATEGORIES:Community Outreach
ATTACH;FMTTYPE=image/jpeg:https://miracleofloveinc.org/wp-content/uploads/2022/02/Business-Card-Back.jpg
END:VEVENT
BEGIN:VEVENT
DTSTART;TZID=America/New_York:20260403T000000
DTEND;TZID=America/New_York:20260403T020000
DTSTAMP:20260423T182115
CREATED:20240427T200230Z
LAST-MODIFIED:20240427T200325Z
UID:10003180-1775174400-1775181600@miracleofloveinc.org
SUMMARY:DID Outreach - Southern Nights
DESCRIPTION:Catch the Divas every Thursday night at Southern Nights Orlando. \nFree condoms and other materials.
URL:https://miracleofloveinc.org/event/did-outreach-southern-nights/2026-04-03/
LOCATION:Southern Nights\, 375 S Bumby Ave.\, Orlando\, FL\, 32803\, United States
CATEGORIES:Community Outreach
ATTACH;FMTTYPE=image/jpeg:https://miracleofloveinc.org/wp-content/uploads/2022/02/Business-Card-Back.jpg
END:VEVENT
BEGIN:VEVENT
DTSTART;TZID=America/New_York:20260402T190000
DTEND;TZID=America/New_York:20260402T203000
DTSTAMP:20260423T182115
CREATED:20240427T193600Z
LAST-MODIFIED:20250102T163126Z
UID:10003043-1775156400-1775161800@miracleofloveinc.org
SUMMARY:Latidos
DESCRIPTION:MISIÓN\n\n\n\n\n\nLatidos ofrece apoyo a hombres Latinos de Orlando afectados por el VIH/SIDA\, brindando un espacio que ayude a desarrollar herramientas y estrategias para una vida plena\, saludable y activa. \n\n\n\n\n\n\n\n\n\n\n\n\n\n\nVISIÓN\n\n\n\n\n\nVivir en un mundo donde nadie se sienta aislado basado en su estatus del VIH/SIDA. \n\n\n\n\n\n\n\n\n\n\n\n\n\n\n\n\nVALOR\n\n\n\n\nUn espacio seguro para crear una comunidad y familia sólida\, que se apoya mutuamente.
URL:https://miracleofloveinc.org/event/latidos/2026-04-02/
LOCATION:Miracle of Love\, 1301 W Colonial Drive Suite 201\, Orlando\, FL\, 32804\, United States
CATEGORIES:Community Outreach,Stafford House,Support Group
ATTACH;FMTTYPE=image/png:https://miracleofloveinc.org/wp-content/uploads/2019/08/latidos.png
ORGANIZER;CN="Miracle of Love":MAILTO:info@miracleofloveinc.org
END:VEVENT
BEGIN:VEVENT
DTSTART;TZID=America/New_York:20260402T170000
DTEND;TZID=America/New_York:20260402T200000
DTSTAMP:20260423T182115
CREATED:20250103T204059Z
LAST-MODIFIED:20251210T123058Z
UID:10005952-1775149200-1775160000@miracleofloveinc.org
SUMMARY:Evening HIV Testing - Stafford House
DESCRIPTION:FREE HIV Testing is offered from 5:00-8:00 PM \nStafford House \n711 Seminole Ave \nOrlando FL 32804
URL:https://miracleofloveinc.org/event/evening-hiv-testing-2-2-4-2-2/2026-04-02/
LOCATION:Stafford House\, 711 Seminole Ave\, Orlando\, 32804\, United States
CATEGORIES:HIV/STI Screening,Stafford House
ATTACH;FMTTYPE=image/jpeg:https://miracleofloveinc.org/wp-content/uploads/2020/01/IMG_2916-scaled.jpg
ORGANIZER;CN="Miracle of Love":MAILTO:info@miracleofloveinc.org
END:VEVENT
BEGIN:VEVENT
DTSTART;TZID=America/New_York:20260401T170000
DTEND;TZID=America/New_York:20260401T200000
DTSTAMP:20260423T182115
CREATED:20250103T204059Z
LAST-MODIFIED:20251210T123058Z
UID:10005951-1775062800-1775073600@miracleofloveinc.org
SUMMARY:Evening HIV Testing - Stafford House
DESCRIPTION:FREE HIV Testing is offered from 5:00-8:00 PM \nStafford House \n711 Seminole Ave \nOrlando FL 32804
URL:https://miracleofloveinc.org/event/evening-hiv-testing-2-2-4-2-2/2026-04-01/
LOCATION:Stafford House\, 711 Seminole Ave\, Orlando\, 32804\, United States
CATEGORIES:HIV/STI Screening,Stafford House
ATTACH;FMTTYPE=image/jpeg:https://miracleofloveinc.org/wp-content/uploads/2020/01/IMG_2916-scaled.jpg
ORGANIZER;CN="Miracle of Love":MAILTO:info@miracleofloveinc.org
END:VEVENT
BEGIN:VEVENT
DTSTART;TZID=America/New_York:20260401T170000
DTEND;TZID=America/New_York:20260401T200000
DTSTAMP:20260423T182115
CREATED:20240427T203212Z
LAST-MODIFIED:20250330T150026Z
UID:10003962-1775062800-1775073600@miracleofloveinc.org
SUMMARY:Condom Packing with Beautifull Sallings
DESCRIPTION:Assemble packages of various condoms to share with the community.
URL:https://miracleofloveinc.org/event/condom-packing-with-beautifull-sallings/2026-04-01/
LOCATION:Stafford House\, 711 Seminole Ave\, Orlando\, 32804\, United States
CATEGORIES:Community Outreach,Stafford House
ATTACH;FMTTYPE=image/jpeg:https://miracleofloveinc.org/wp-content/uploads/2024/04/DID-Condom-Packing.jpg
END:VEVENT
BEGIN:VEVENT
DTSTART;TZID=America/New_York:20260331T170000
DTEND;TZID=America/New_York:20260331T200000
DTSTAMP:20260423T182115
CREATED:20250103T204059Z
LAST-MODIFIED:20251210T123058Z
UID:10005950-1774976400-1774987200@miracleofloveinc.org
SUMMARY:Evening HIV Testing - Stafford House
DESCRIPTION:FREE HIV Testing is offered from 5:00-8:00 PM \nStafford House \n711 Seminole Ave \nOrlando FL 32804
URL:https://miracleofloveinc.org/event/evening-hiv-testing-2-2-4-2-2/2026-03-31/
LOCATION:Stafford House\, 711 Seminole Ave\, Orlando\, 32804\, United States
CATEGORIES:HIV/STI Screening,Stafford House
ATTACH;FMTTYPE=image/jpeg:https://miracleofloveinc.org/wp-content/uploads/2020/01/IMG_2916-scaled.jpg
ORGANIZER;CN="Miracle of Love":MAILTO:info@miracleofloveinc.org
END:VEVENT
BEGIN:VEVENT
DTSTART;TZID=America/New_York:20260330T170000
DTEND;TZID=America/New_York:20260330T200000
DTSTAMP:20260423T182115
CREATED:20250103T204059Z
LAST-MODIFIED:20251210T123058Z
UID:10005949-1774890000-1774900800@miracleofloveinc.org
SUMMARY:Evening HIV Testing - Stafford House
DESCRIPTION:FREE HIV Testing is offered from 5:00-8:00 PM \nStafford House \n711 Seminole Ave \nOrlando FL 32804
URL:https://miracleofloveinc.org/event/evening-hiv-testing-2-2-4-2-2/2026-03-30/
LOCATION:Stafford House\, 711 Seminole Ave\, Orlando\, 32804\, United States
CATEGORIES:HIV/STI Screening,Stafford House
ATTACH;FMTTYPE=image/jpeg:https://miracleofloveinc.org/wp-content/uploads/2020/01/IMG_2916-scaled.jpg
ORGANIZER;CN="Miracle of Love":MAILTO:info@miracleofloveinc.org
END:VEVENT
BEGIN:VEVENT
DTSTART;TZID=America/New_York:20260328T150000
DTEND;TZID=America/New_York:20260328T200000
DTSTAMP:20260423T182115
CREATED:20240427T191129Z
LAST-MODIFIED:20250330T144930Z
UID:10008496-1774710000-1774728000@miracleofloveinc.org
SUMMARY:DID Trans Support Group
DESCRIPTION:Trans Support Group \nNo registration or RSVP is required.
URL:https://miracleofloveinc.org/event/divas-in-dialogue-2/2026-03-28/
LOCATION:Stafford House\, 711 Seminole Ave\, Orlando\, 32804\, United States
CATEGORIES:Community Outreach,Stafford House,Support Group
ATTACH;FMTTYPE=image/jpeg:https://miracleofloveinc.org/wp-content/uploads/2021/07/DID-LOGO-crop.jpg
END:VEVENT
BEGIN:VEVENT
DTSTART;TZID=America/New_York:20260328T000000
DTEND;TZID=America/New_York:20260328T020000
DTSTAMP:20260423T182115
CREATED:20240427T200506Z
LAST-MODIFIED:20240427T200506Z
UID:10003701-1774656000-1774663200@miracleofloveinc.org
SUMMARY:DID Outreach - Bipolar Cafe Orlando
DESCRIPTION:Catch the Divas every Friday night at Bipolar Cafe Orlando. \nFree condoms and other materials.
URL:https://miracleofloveinc.org/event/did-outreach-bipolar-cafe-orlando/2026-03-28/
LOCATION:Southern Nights\, 375 S Bumby Ave.\, Orlando\, FL\, 32803\, United States
CATEGORIES:Community Outreach
ATTACH;FMTTYPE=image/jpeg:https://miracleofloveinc.org/wp-content/uploads/2022/02/Business-Card-Back.jpg
END:VEVENT
BEGIN:VEVENT
DTSTART;TZID=America/New_York:20260327T000000
DTEND;TZID=America/New_York:20260327T020000
DTSTAMP:20260423T182115
CREATED:20240427T200230Z
LAST-MODIFIED:20240427T200325Z
UID:10003179-1774569600-1774576800@miracleofloveinc.org
SUMMARY:DID Outreach - Southern Nights
DESCRIPTION:Catch the Divas every Thursday night at Southern Nights Orlando. \nFree condoms and other materials.
URL:https://miracleofloveinc.org/event/did-outreach-southern-nights/2026-03-27/
LOCATION:Southern Nights\, 375 S Bumby Ave.\, Orlando\, FL\, 32803\, United States
CATEGORIES:Community Outreach
ATTACH;FMTTYPE=image/jpeg:https://miracleofloveinc.org/wp-content/uploads/2022/02/Business-Card-Back.jpg
END:VEVENT
END:VCALENDAR