BEGIN:VCALENDAR
VERSION:2.0
PRODID:-//Miracle of Love Inc. - ECPv6.15.17//NONSGML v1.0//EN
CALSCALE:GREGORIAN
METHOD:PUBLISH
X-ORIGINAL-URL:https://miracleofloveinc.org
X-WR-CALDESC:Events for Miracle of Love Inc.
REFRESH-INTERVAL;VALUE=DURATION:PT1H
X-Robots-Tag:noindex
X-PUBLISHED-TTL:PT1H
BEGIN:VTIMEZONE
TZID:America/New_York
BEGIN:DAYLIGHT
TZOFFSETFROM:-0500
TZOFFSETTO:-0400
TZNAME:EDT
DTSTART:20250309T070000
END:DAYLIGHT
BEGIN:STANDARD
TZOFFSETFROM:-0400
TZOFFSETTO:-0500
TZNAME:EST
DTSTART:20251102T060000
END:STANDARD
BEGIN:DAYLIGHT
TZOFFSETFROM:-0500
TZOFFSETTO:-0400
TZNAME:EDT
DTSTART:20260308T070000
END:DAYLIGHT
BEGIN:STANDARD
TZOFFSETFROM:-0400
TZOFFSETTO:-0500
TZNAME:EST
DTSTART:20261101T060000
END:STANDARD
BEGIN:DAYLIGHT
TZOFFSETFROM:-0500
TZOFFSETTO:-0400
TZNAME:EDT
DTSTART:20270314T070000
END:DAYLIGHT
BEGIN:STANDARD
TZOFFSETFROM:-0400
TZOFFSETTO:-0500
TZNAME:EST
DTSTART:20271107T060000
END:STANDARD
END:VTIMEZONE
BEGIN:VEVENT
DTSTART;TZID=America/New_York:20261203T170000
DTEND;TZID=America/New_York:20261203T200000
DTSTAMP:20260425T190816
CREATED:20250103T204059Z
LAST-MODIFIED:20251210T123058Z
UID:10006123-1796317200-1796328000@miracleofloveinc.org
SUMMARY:Evening HIV Testing - Stafford House
DESCRIPTION:FREE HIV Testing is offered from 5:00-8:00 PM \nStafford House \n711 Seminole Ave \nOrlando FL 32804
URL:https://miracleofloveinc.org/event/evening-hiv-testing-2-2-4-2-2/2026-12-03/
LOCATION:Stafford House\, 711 Seminole Ave\, Orlando\, 32804\, United States
CATEGORIES:HIV/STI Screening,Stafford House
ATTACH;FMTTYPE=image/jpeg:https://miracleofloveinc.org/wp-content/uploads/2020/01/IMG_2916-scaled.jpg
ORGANIZER;CN="Miracle of Love":MAILTO:info@miracleofloveinc.org
END:VEVENT
BEGIN:VEVENT
DTSTART;TZID=America/New_York:20261203T190000
DTEND;TZID=America/New_York:20261203T203000
DTSTAMP:20260425T190816
CREATED:20240427T193600Z
LAST-MODIFIED:20250102T163126Z
UID:10003051-1796324400-1796329800@miracleofloveinc.org
SUMMARY:Latidos
DESCRIPTION:MISIÓN\n\n\n\n\n\nLatidos ofrece apoyo a hombres Latinos de Orlando afectados por el VIH/SIDA\, brindando un espacio que ayude a desarrollar herramientas y estrategias para una vida plena\, saludable y activa. \n\n\n\n\n\n\n\n\n\n\n\n\n\n\nVISIÓN\n\n\n\n\n\nVivir en un mundo donde nadie se sienta aislado basado en su estatus del VIH/SIDA. \n\n\n\n\n\n\n\n\n\n\n\n\n\n\n\n\nVALOR\n\n\n\n\nUn espacio seguro para crear una comunidad y familia sólida\, que se apoya mutuamente.
URL:https://miracleofloveinc.org/event/latidos/2026-12-03/
LOCATION:Miracle of Love\, 1301 W Colonial Drive Suite 201\, Orlando\, FL\, 32804\, United States
CATEGORIES:Community Outreach,Stafford House,Support Group
ATTACH;FMTTYPE=image/png:https://miracleofloveinc.org/wp-content/uploads/2019/08/latidos.png
ORGANIZER;CN="Miracle of Love":MAILTO:info@miracleofloveinc.org
END:VEVENT
BEGIN:VEVENT
DTSTART;TZID=America/New_York:20261204T000000
DTEND;TZID=America/New_York:20261204T020000
DTSTAMP:20260425T190816
CREATED:20240427T200230Z
LAST-MODIFIED:20240427T200325Z
UID:10003215-1796342400-1796349600@miracleofloveinc.org
SUMMARY:DID Outreach - Southern Nights
DESCRIPTION:Catch the Divas every Thursday night at Southern Nights Orlando. \nFree condoms and other materials.
URL:https://miracleofloveinc.org/event/did-outreach-southern-nights/2026-12-04/
LOCATION:Southern Nights\, 375 S Bumby Ave.\, Orlando\, FL\, 32803\, United States
CATEGORIES:Community Outreach
ATTACH;FMTTYPE=image/jpeg:https://miracleofloveinc.org/wp-content/uploads/2022/02/Business-Card-Back.jpg
END:VEVENT
BEGIN:VEVENT
DTSTART;TZID=America/New_York:20261205T000000
DTEND;TZID=America/New_York:20261205T020000
DTSTAMP:20260425T190816
CREATED:20240427T200506Z
LAST-MODIFIED:20240427T200506Z
UID:10003737-1796428800-1796436000@miracleofloveinc.org
SUMMARY:DID Outreach - Bipolar Cafe Orlando
DESCRIPTION:Catch the Divas every Friday night at Bipolar Cafe Orlando. \nFree condoms and other materials.
URL:https://miracleofloveinc.org/event/did-outreach-bipolar-cafe-orlando/2026-12-05/
LOCATION:Southern Nights\, 375 S Bumby Ave.\, Orlando\, FL\, 32803\, United States
CATEGORIES:Community Outreach
ATTACH;FMTTYPE=image/jpeg:https://miracleofloveinc.org/wp-content/uploads/2022/02/Business-Card-Back.jpg
END:VEVENT
BEGIN:VEVENT
DTSTART;TZID=America/New_York:20261207T170000
DTEND;TZID=America/New_York:20261207T200000
DTSTAMP:20260425T190816
CREATED:20250103T204059Z
LAST-MODIFIED:20251210T123058Z
UID:10006125-1796662800-1796673600@miracleofloveinc.org
SUMMARY:Evening HIV Testing - Stafford House
DESCRIPTION:FREE HIV Testing is offered from 5:00-8:00 PM \nStafford House \n711 Seminole Ave \nOrlando FL 32804
URL:https://miracleofloveinc.org/event/evening-hiv-testing-2-2-4-2-2/2026-12-07/
LOCATION:Stafford House\, 711 Seminole Ave\, Orlando\, 32804\, United States
CATEGORIES:HIV/STI Screening,Stafford House
ATTACH;FMTTYPE=image/jpeg:https://miracleofloveinc.org/wp-content/uploads/2020/01/IMG_2916-scaled.jpg
ORGANIZER;CN="Miracle of Love":MAILTO:info@miracleofloveinc.org
END:VEVENT
BEGIN:VEVENT
DTSTART;TZID=America/New_York:20261208T170000
DTEND;TZID=America/New_York:20261208T200000
DTSTAMP:20260425T190816
CREATED:20250103T204059Z
LAST-MODIFIED:20251210T123058Z
UID:10006126-1796749200-1796760000@miracleofloveinc.org
SUMMARY:Evening HIV Testing - Stafford House
DESCRIPTION:FREE HIV Testing is offered from 5:00-8:00 PM \nStafford House \n711 Seminole Ave \nOrlando FL 32804
URL:https://miracleofloveinc.org/event/evening-hiv-testing-2-2-4-2-2/2026-12-08/
LOCATION:Stafford House\, 711 Seminole Ave\, Orlando\, 32804\, United States
CATEGORIES:HIV/STI Screening,Stafford House
ATTACH;FMTTYPE=image/jpeg:https://miracleofloveinc.org/wp-content/uploads/2020/01/IMG_2916-scaled.jpg
ORGANIZER;CN="Miracle of Love":MAILTO:info@miracleofloveinc.org
END:VEVENT
BEGIN:VEVENT
DTSTART;TZID=America/New_York:20261209T170000
DTEND;TZID=America/New_York:20261209T200000
DTSTAMP:20260425T190816
CREATED:20240427T203212Z
LAST-MODIFIED:20250330T150026Z
UID:10003998-1796835600-1796846400@miracleofloveinc.org
SUMMARY:Condom Packing with Beautifull Sallings
DESCRIPTION:Assemble packages of various condoms to share with the community.
URL:https://miracleofloveinc.org/event/condom-packing-with-beautifull-sallings/2026-12-09/
LOCATION:Stafford House\, 711 Seminole Ave\, Orlando\, 32804\, United States
CATEGORIES:Community Outreach,Stafford House
ATTACH;FMTTYPE=image/jpeg:https://miracleofloveinc.org/wp-content/uploads/2024/04/DID-Condom-Packing.jpg
END:VEVENT
BEGIN:VEVENT
DTSTART;TZID=America/New_York:20261209T170000
DTEND;TZID=America/New_York:20261209T200000
DTSTAMP:20260425T190816
CREATED:20250103T204059Z
LAST-MODIFIED:20251210T123058Z
UID:10006127-1796835600-1796846400@miracleofloveinc.org
SUMMARY:Evening HIV Testing - Stafford House
DESCRIPTION:FREE HIV Testing is offered from 5:00-8:00 PM \nStafford House \n711 Seminole Ave \nOrlando FL 32804
URL:https://miracleofloveinc.org/event/evening-hiv-testing-2-2-4-2-2/2026-12-09/
LOCATION:Stafford House\, 711 Seminole Ave\, Orlando\, 32804\, United States
CATEGORIES:HIV/STI Screening,Stafford House
ATTACH;FMTTYPE=image/jpeg:https://miracleofloveinc.org/wp-content/uploads/2020/01/IMG_2916-scaled.jpg
ORGANIZER;CN="Miracle of Love":MAILTO:info@miracleofloveinc.org
END:VEVENT
BEGIN:VEVENT
DTSTART;TZID=America/New_York:20261209T173000
DTEND;TZID=America/New_York:20261209T190000
DTSTAMP:20260425T190816
CREATED:20240427T192627Z
LAST-MODIFIED:20240427T192627Z
UID:10002855-1796837400-1796842800@miracleofloveinc.org
SUMMARY:Lake County C.A.B. Meeting
DESCRIPTION:Lake County Client Advisory Board (CAB) Meetings are open to all clients receiving Ryan White and/or HOPWA services in Lake County.  No registration is required.
URL:https://miracleofloveinc.org/event/lake-county-c-a-b-meeting-2/2026-12-09/
LOCATION:MOL – Lake County\, 4400 North Highway 19A\, Unit 10\, Mount Dora\, FL\, 32757\, United States
CATEGORIES:C.A.B. Lake,Community Outreach
ATTACH;FMTTYPE=image/png:https://miracleofloveinc.org/wp-content/uploads/2023/04/CAB-Meeting-Social-Portrait.png
ORGANIZER;CN="Miracle of Love":MAILTO:info@miracleofloveinc.org
END:VEVENT
BEGIN:VEVENT
DTSTART;TZID=America/New_York:20261210T170000
DTEND;TZID=America/New_York:20261210T200000
DTSTAMP:20260425T190816
CREATED:20250103T204059Z
LAST-MODIFIED:20251210T123058Z
UID:10006128-1796922000-1796932800@miracleofloveinc.org
SUMMARY:Evening HIV Testing - Stafford House
DESCRIPTION:FREE HIV Testing is offered from 5:00-8:00 PM \nStafford House \n711 Seminole Ave \nOrlando FL 32804
URL:https://miracleofloveinc.org/event/evening-hiv-testing-2-2-4-2-2/2026-12-10/
LOCATION:Stafford House\, 711 Seminole Ave\, Orlando\, 32804\, United States
CATEGORIES:HIV/STI Screening,Stafford House
ATTACH;FMTTYPE=image/jpeg:https://miracleofloveinc.org/wp-content/uploads/2020/01/IMG_2916-scaled.jpg
ORGANIZER;CN="Miracle of Love":MAILTO:info@miracleofloveinc.org
END:VEVENT
BEGIN:VEVENT
DTSTART;TZID=America/New_York:20261210T170000
DTEND;TZID=America/New_York:20261210T200000
DTSTAMP:20260425T190816
CREATED:20260129T200218Z
LAST-MODIFIED:20260129T200218Z
UID:10009015-1796922000-1796932800@miracleofloveinc.org
SUMMARY:Evening Testing Hours
DESCRIPTION:
URL:https://miracleofloveinc.org/event/evening-testing-hours/2026-12-10/
LOCATION:Miracle of Love – Executive Office\, 1301 W Colonial Dr.\, Second Floor\, Orlando\, FL\, 32804\, United States
CATEGORIES:HIV/STI Screening
ORGANIZER;CN="Miracle of Love":MAILTO:info@miracleofloveinc.org
END:VEVENT
BEGIN:VEVENT
DTSTART;TZID=America/New_York:20261211T000000
DTEND;TZID=America/New_York:20261211T020000
DTSTAMP:20260425T190816
CREATED:20240427T200230Z
LAST-MODIFIED:20240427T200325Z
UID:10003216-1796947200-1796954400@miracleofloveinc.org
SUMMARY:DID Outreach - Southern Nights
DESCRIPTION:Catch the Divas every Thursday night at Southern Nights Orlando. \nFree condoms and other materials.
URL:https://miracleofloveinc.org/event/did-outreach-southern-nights/2026-12-11/
LOCATION:Southern Nights\, 375 S Bumby Ave.\, Orlando\, FL\, 32803\, United States
CATEGORIES:Community Outreach
ATTACH;FMTTYPE=image/jpeg:https://miracleofloveinc.org/wp-content/uploads/2022/02/Business-Card-Back.jpg
END:VEVENT
BEGIN:VEVENT
DTSTART;TZID=America/New_York:20261212T000000
DTEND;TZID=America/New_York:20261212T020000
DTSTAMP:20260425T190816
CREATED:20240427T200506Z
LAST-MODIFIED:20240427T200506Z
UID:10003738-1797033600-1797040800@miracleofloveinc.org
SUMMARY:DID Outreach - Bipolar Cafe Orlando
DESCRIPTION:Catch the Divas every Friday night at Bipolar Cafe Orlando. \nFree condoms and other materials.
URL:https://miracleofloveinc.org/event/did-outreach-bipolar-cafe-orlando/2026-12-12/
LOCATION:Southern Nights\, 375 S Bumby Ave.\, Orlando\, FL\, 32803\, United States
CATEGORIES:Community Outreach
ATTACH;FMTTYPE=image/jpeg:https://miracleofloveinc.org/wp-content/uploads/2022/02/Business-Card-Back.jpg
END:VEVENT
BEGIN:VEVENT
DTSTART;TZID=America/New_York:20261212T090000
DTEND;TZID=America/New_York:20261212T120000
DTSTAMP:20260425T190816
CREATED:20260129T200357Z
LAST-MODIFIED:20260129T200357Z
UID:10009135-1797066000-1797076800@miracleofloveinc.org
SUMMARY:Saturday Testing Hours
DESCRIPTION:
URL:https://miracleofloveinc.org/event/saturday-testing-hours/2026-12-12/
LOCATION:Miracle of Love – Executive Office\, 1301 W Colonial Dr.\, Second Floor\, Orlando\, FL\, 32804\, United States
CATEGORIES:HIV/STI Screening
ORGANIZER;CN="Miracle of Love":MAILTO:info@miracleofloveinc.org
END:VEVENT
BEGIN:VEVENT
DTSTART;TZID=America/New_York:20261212T150000
DTEND;TZID=America/New_York:20261212T200000
DTSTAMP:20260425T190816
CREATED:20240427T190604Z
LAST-MODIFIED:20250330T144451Z
UID:10002670-1797087600-1797105600@miracleofloveinc.org
SUMMARY:DID Trans Support Group
DESCRIPTION:Trans Support Group \nNo registration or RSVP is required.
URL:https://miracleofloveinc.org/event/divas-in-dialogue/2026-12-12/
LOCATION:Stafford House\, 711 Seminole Ave\, Orlando\, 32804\, United States
CATEGORIES:Community Outreach,Stafford House,Support Group
ATTACH;FMTTYPE=image/jpeg:https://miracleofloveinc.org/wp-content/uploads/2021/07/DID-LOGO-crop.jpg
END:VEVENT
BEGIN:VEVENT
DTSTART;TZID=America/New_York:20261214T170000
DTEND;TZID=America/New_York:20261214T200000
DTSTAMP:20260425T190816
CREATED:20250103T204059Z
LAST-MODIFIED:20251210T123058Z
UID:10006130-1797267600-1797278400@miracleofloveinc.org
SUMMARY:Evening HIV Testing - Stafford House
DESCRIPTION:FREE HIV Testing is offered from 5:00-8:00 PM \nStafford House \n711 Seminole Ave \nOrlando FL 32804
URL:https://miracleofloveinc.org/event/evening-hiv-testing-2-2-4-2-2/2026-12-14/
LOCATION:Stafford House\, 711 Seminole Ave\, Orlando\, 32804\, United States
CATEGORIES:HIV/STI Screening,Stafford House
ATTACH;FMTTYPE=image/jpeg:https://miracleofloveinc.org/wp-content/uploads/2020/01/IMG_2916-scaled.jpg
ORGANIZER;CN="Miracle of Love":MAILTO:info@miracleofloveinc.org
END:VEVENT
BEGIN:VEVENT
DTSTART;TZID=America/New_York:20261215T170000
DTEND;TZID=America/New_York:20261215T200000
DTSTAMP:20260425T190816
CREATED:20250103T204059Z
LAST-MODIFIED:20251210T123058Z
UID:10006131-1797354000-1797364800@miracleofloveinc.org
SUMMARY:Evening HIV Testing - Stafford House
DESCRIPTION:FREE HIV Testing is offered from 5:00-8:00 PM \nStafford House \n711 Seminole Ave \nOrlando FL 32804
URL:https://miracleofloveinc.org/event/evening-hiv-testing-2-2-4-2-2/2026-12-15/
LOCATION:Stafford House\, 711 Seminole Ave\, Orlando\, 32804\, United States
CATEGORIES:HIV/STI Screening,Stafford House
ATTACH;FMTTYPE=image/jpeg:https://miracleofloveinc.org/wp-content/uploads/2020/01/IMG_2916-scaled.jpg
ORGANIZER;CN="Miracle of Love":MAILTO:info@miracleofloveinc.org
END:VEVENT
BEGIN:VEVENT
DTSTART;TZID=America/New_York:20261215T190000
DTEND;TZID=America/New_York:20261215T203000
DTSTAMP:20260425T190816
CREATED:20230327T132857Z
LAST-MODIFIED:20250330T145615Z
UID:10002919-1797361200-1797366600@miracleofloveinc.org
SUMMARY:Latidos
DESCRIPTION:MISIÓN\n\n\n\n\n\nLatidos ofrece apoyo a hombres Latinos de Orlando afectados por el VIH/SIDA\, brindando un espacio que ayude a desarrollar herramientas y estrategias para una vida plena\, saludable y activa. \n\n\n\n\n\n\n\n\n\n\n\n\n\n\nVISIÓN\n\n\n\n\n\nVivir en un mundo donde nadie se sienta aislado basado en su estatus del VIH/SIDA. \n\n\n\n\n\n\n\n\n\n\n\n\n\n\n\n\nVALOR\n\n\n\n\nUn espacio seguro para crear una comunidad y familia sólida\, que se apoya mutuamente.
URL:https://miracleofloveinc.org/event/latidos-3/2026-12-15/
LOCATION:Stafford House\, 711 Seminole Ave\, Orlando\, 32804\, United States
CATEGORIES:Community Outreach,Stafford House,Support Group
ATTACH;FMTTYPE=image/png:https://miracleofloveinc.org/wp-content/uploads/2019/08/latidos.png
ORGANIZER;CN="Miracle of Love":MAILTO:info@miracleofloveinc.org
END:VEVENT
BEGIN:VEVENT
DTSTART;TZID=America/New_York:20261216T170000
DTEND;TZID=America/New_York:20261216T200000
DTSTAMP:20260425T190816
CREATED:20240427T203212Z
LAST-MODIFIED:20250330T150026Z
UID:10003999-1797440400-1797451200@miracleofloveinc.org
SUMMARY:Condom Packing with Beautifull Sallings
DESCRIPTION:Assemble packages of various condoms to share with the community.
URL:https://miracleofloveinc.org/event/condom-packing-with-beautifull-sallings/2026-12-16/
LOCATION:Stafford House\, 711 Seminole Ave\, Orlando\, 32804\, United States
CATEGORIES:Community Outreach,Stafford House
ATTACH;FMTTYPE=image/jpeg:https://miracleofloveinc.org/wp-content/uploads/2024/04/DID-Condom-Packing.jpg
END:VEVENT
BEGIN:VEVENT
DTSTART;TZID=America/New_York:20261216T170000
DTEND;TZID=America/New_York:20261216T200000
DTSTAMP:20260425T190816
CREATED:20250103T204059Z
LAST-MODIFIED:20251210T123058Z
UID:10006132-1797440400-1797451200@miracleofloveinc.org
SUMMARY:Evening HIV Testing - Stafford House
DESCRIPTION:FREE HIV Testing is offered from 5:00-8:00 PM \nStafford House \n711 Seminole Ave \nOrlando FL 32804
URL:https://miracleofloveinc.org/event/evening-hiv-testing-2-2-4-2-2/2026-12-16/
LOCATION:Stafford House\, 711 Seminole Ave\, Orlando\, 32804\, United States
CATEGORIES:HIV/STI Screening,Stafford House
ATTACH;FMTTYPE=image/jpeg:https://miracleofloveinc.org/wp-content/uploads/2020/01/IMG_2916-scaled.jpg
ORGANIZER;CN="Miracle of Love":MAILTO:info@miracleofloveinc.org
END:VEVENT
BEGIN:VEVENT
DTSTART;TZID=America/New_York:20261217T170000
DTEND;TZID=America/New_York:20261217T200000
DTSTAMP:20260425T190816
CREATED:20250103T204059Z
LAST-MODIFIED:20251210T123058Z
UID:10006133-1797526800-1797537600@miracleofloveinc.org
SUMMARY:Evening HIV Testing - Stafford House
DESCRIPTION:FREE HIV Testing is offered from 5:00-8:00 PM \nStafford House \n711 Seminole Ave \nOrlando FL 32804
URL:https://miracleofloveinc.org/event/evening-hiv-testing-2-2-4-2-2/2026-12-17/
LOCATION:Stafford House\, 711 Seminole Ave\, Orlando\, 32804\, United States
CATEGORIES:HIV/STI Screening,Stafford House
ATTACH;FMTTYPE=image/jpeg:https://miracleofloveinc.org/wp-content/uploads/2020/01/IMG_2916-scaled.jpg
ORGANIZER;CN="Miracle of Love":MAILTO:info@miracleofloveinc.org
END:VEVENT
BEGIN:VEVENT
DTSTART;TZID=America/New_York:20261218T000000
DTEND;TZID=America/New_York:20261218T020000
DTSTAMP:20260425T190816
CREATED:20240427T200230Z
LAST-MODIFIED:20240427T200325Z
UID:10003217-1797552000-1797559200@miracleofloveinc.org
SUMMARY:DID Outreach - Southern Nights
DESCRIPTION:Catch the Divas every Thursday night at Southern Nights Orlando. \nFree condoms and other materials.
URL:https://miracleofloveinc.org/event/did-outreach-southern-nights/2026-12-18/
LOCATION:Southern Nights\, 375 S Bumby Ave.\, Orlando\, FL\, 32803\, United States
CATEGORIES:Community Outreach
ATTACH;FMTTYPE=image/jpeg:https://miracleofloveinc.org/wp-content/uploads/2022/02/Business-Card-Back.jpg
END:VEVENT
BEGIN:VEVENT
DTSTART;TZID=America/New_York:20261219T000000
DTEND;TZID=America/New_York:20261219T020000
DTSTAMP:20260425T190816
CREATED:20240427T200506Z
LAST-MODIFIED:20240427T200506Z
UID:10003739-1797638400-1797645600@miracleofloveinc.org
SUMMARY:DID Outreach - Bipolar Cafe Orlando
DESCRIPTION:Catch the Divas every Friday night at Bipolar Cafe Orlando. \nFree condoms and other materials.
URL:https://miracleofloveinc.org/event/did-outreach-bipolar-cafe-orlando/2026-12-19/
LOCATION:Southern Nights\, 375 S Bumby Ave.\, Orlando\, FL\, 32803\, United States
CATEGORIES:Community Outreach
ATTACH;FMTTYPE=image/jpeg:https://miracleofloveinc.org/wp-content/uploads/2022/02/Business-Card-Back.jpg
END:VEVENT
BEGIN:VEVENT
DTSTART;TZID=America/New_York:20261221T170000
DTEND;TZID=America/New_York:20261221T200000
DTSTAMP:20260425T190816
CREATED:20250103T204059Z
LAST-MODIFIED:20251210T123058Z
UID:10006135-1797872400-1797883200@miracleofloveinc.org
SUMMARY:Evening HIV Testing - Stafford House
DESCRIPTION:FREE HIV Testing is offered from 5:00-8:00 PM \nStafford House \n711 Seminole Ave \nOrlando FL 32804
URL:https://miracleofloveinc.org/event/evening-hiv-testing-2-2-4-2-2/2026-12-21/
LOCATION:Stafford House\, 711 Seminole Ave\, Orlando\, 32804\, United States
CATEGORIES:HIV/STI Screening,Stafford House
ATTACH;FMTTYPE=image/jpeg:https://miracleofloveinc.org/wp-content/uploads/2020/01/IMG_2916-scaled.jpg
ORGANIZER;CN="Miracle of Love":MAILTO:info@miracleofloveinc.org
END:VEVENT
BEGIN:VEVENT
DTSTART;TZID=America/New_York:20261222T170000
DTEND;TZID=America/New_York:20261222T200000
DTSTAMP:20260425T190816
CREATED:20250103T204059Z
LAST-MODIFIED:20251210T123058Z
UID:10006136-1797958800-1797969600@miracleofloveinc.org
SUMMARY:Evening HIV Testing - Stafford House
DESCRIPTION:FREE HIV Testing is offered from 5:00-8:00 PM \nStafford House \n711 Seminole Ave \nOrlando FL 32804
URL:https://miracleofloveinc.org/event/evening-hiv-testing-2-2-4-2-2/2026-12-22/
LOCATION:Stafford House\, 711 Seminole Ave\, Orlando\, 32804\, United States
CATEGORIES:HIV/STI Screening,Stafford House
ATTACH;FMTTYPE=image/jpeg:https://miracleofloveinc.org/wp-content/uploads/2020/01/IMG_2916-scaled.jpg
ORGANIZER;CN="Miracle of Love":MAILTO:info@miracleofloveinc.org
END:VEVENT
BEGIN:VEVENT
DTSTART;TZID=America/New_York:20261223T170000
DTEND;TZID=America/New_York:20261223T200000
DTSTAMP:20260425T190816
CREATED:20240427T203212Z
LAST-MODIFIED:20250330T150026Z
UID:10004000-1798045200-1798056000@miracleofloveinc.org
SUMMARY:Condom Packing with Beautifull Sallings
DESCRIPTION:Assemble packages of various condoms to share with the community.
URL:https://miracleofloveinc.org/event/condom-packing-with-beautifull-sallings/2026-12-23/
LOCATION:Stafford House\, 711 Seminole Ave\, Orlando\, 32804\, United States
CATEGORIES:Community Outreach,Stafford House
ATTACH;FMTTYPE=image/jpeg:https://miracleofloveinc.org/wp-content/uploads/2024/04/DID-Condom-Packing.jpg
END:VEVENT
BEGIN:VEVENT
DTSTART;TZID=America/New_York:20261223T170000
DTEND;TZID=America/New_York:20261223T200000
DTSTAMP:20260425T190816
CREATED:20250103T204059Z
LAST-MODIFIED:20251210T123058Z
UID:10006137-1798045200-1798056000@miracleofloveinc.org
SUMMARY:Evening HIV Testing - Stafford House
DESCRIPTION:FREE HIV Testing is offered from 5:00-8:00 PM \nStafford House \n711 Seminole Ave \nOrlando FL 32804
URL:https://miracleofloveinc.org/event/evening-hiv-testing-2-2-4-2-2/2026-12-23/
LOCATION:Stafford House\, 711 Seminole Ave\, Orlando\, 32804\, United States
CATEGORIES:HIV/STI Screening,Stafford House
ATTACH;FMTTYPE=image/jpeg:https://miracleofloveinc.org/wp-content/uploads/2020/01/IMG_2916-scaled.jpg
ORGANIZER;CN="Miracle of Love":MAILTO:info@miracleofloveinc.org
END:VEVENT
BEGIN:VEVENT
DTSTART;TZID=America/New_York:20261224T170000
DTEND;TZID=America/New_York:20261224T200000
DTSTAMP:20260425T190816
CREATED:20250103T204059Z
LAST-MODIFIED:20251210T123058Z
UID:10006138-1798131600-1798142400@miracleofloveinc.org
SUMMARY:Evening HIV Testing - Stafford House
DESCRIPTION:FREE HIV Testing is offered from 5:00-8:00 PM \nStafford House \n711 Seminole Ave \nOrlando FL 32804
URL:https://miracleofloveinc.org/event/evening-hiv-testing-2-2-4-2-2/2026-12-24/
LOCATION:Stafford House\, 711 Seminole Ave\, Orlando\, 32804\, United States
CATEGORIES:HIV/STI Screening,Stafford House
ATTACH;FMTTYPE=image/jpeg:https://miracleofloveinc.org/wp-content/uploads/2020/01/IMG_2916-scaled.jpg
ORGANIZER;CN="Miracle of Love":MAILTO:info@miracleofloveinc.org
END:VEVENT
BEGIN:VEVENT
DTSTART;TZID=America/New_York:20261225T000000
DTEND;TZID=America/New_York:20261225T020000
DTSTAMP:20260425T190816
CREATED:20240427T200230Z
LAST-MODIFIED:20240427T200325Z
UID:10003218-1798156800-1798164000@miracleofloveinc.org
SUMMARY:DID Outreach - Southern Nights
DESCRIPTION:Catch the Divas every Thursday night at Southern Nights Orlando. \nFree condoms and other materials.
URL:https://miracleofloveinc.org/event/did-outreach-southern-nights/2026-12-25/
LOCATION:Southern Nights\, 375 S Bumby Ave.\, Orlando\, FL\, 32803\, United States
CATEGORIES:Community Outreach
ATTACH;FMTTYPE=image/jpeg:https://miracleofloveinc.org/wp-content/uploads/2022/02/Business-Card-Back.jpg
END:VEVENT
BEGIN:VEVENT
DTSTART;TZID=America/New_York:20261226T000000
DTEND;TZID=America/New_York:20261226T020000
DTSTAMP:20260425T190816
CREATED:20240427T200506Z
LAST-MODIFIED:20240427T200506Z
UID:10003740-1798243200-1798250400@miracleofloveinc.org
SUMMARY:DID Outreach - Bipolar Cafe Orlando
DESCRIPTION:Catch the Divas every Friday night at Bipolar Cafe Orlando. \nFree condoms and other materials.
URL:https://miracleofloveinc.org/event/did-outreach-bipolar-cafe-orlando/2026-12-26/
LOCATION:Southern Nights\, 375 S Bumby Ave.\, Orlando\, FL\, 32803\, United States
CATEGORIES:Community Outreach
ATTACH;FMTTYPE=image/jpeg:https://miracleofloveinc.org/wp-content/uploads/2022/02/Business-Card-Back.jpg
END:VEVENT
END:VCALENDAR