BEGIN:VCALENDAR
VERSION:2.0
PRODID:-//Miracle of Love Inc. - ECPv6.15.17//NONSGML v1.0//EN
CALSCALE:GREGORIAN
METHOD:PUBLISH
X-ORIGINAL-URL:https://miracleofloveinc.org
X-WR-CALDESC:Events for Miracle of Love Inc.
REFRESH-INTERVAL;VALUE=DURATION:PT1H
X-Robots-Tag:noindex
X-PUBLISHED-TTL:PT1H
BEGIN:VTIMEZONE
TZID:America/New_York
BEGIN:DAYLIGHT
TZOFFSETFROM:-0500
TZOFFSETTO:-0400
TZNAME:EDT
DTSTART:20250309T070000
END:DAYLIGHT
BEGIN:STANDARD
TZOFFSETFROM:-0400
TZOFFSETTO:-0500
TZNAME:EST
DTSTART:20251102T060000
END:STANDARD
BEGIN:DAYLIGHT
TZOFFSETFROM:-0500
TZOFFSETTO:-0400
TZNAME:EDT
DTSTART:20260308T070000
END:DAYLIGHT
BEGIN:STANDARD
TZOFFSETFROM:-0400
TZOFFSETTO:-0500
TZNAME:EST
DTSTART:20261101T060000
END:STANDARD
BEGIN:DAYLIGHT
TZOFFSETFROM:-0500
TZOFFSETTO:-0400
TZNAME:EDT
DTSTART:20270314T070000
END:DAYLIGHT
BEGIN:STANDARD
TZOFFSETFROM:-0400
TZOFFSETTO:-0500
TZNAME:EST
DTSTART:20271107T060000
END:STANDARD
BEGIN:DAYLIGHT
TZOFFSETFROM:-0500
TZOFFSETTO:-0400
TZNAME:EDT
DTSTART:20280312T070000
END:DAYLIGHT
BEGIN:STANDARD
TZOFFSETFROM:-0400
TZOFFSETTO:-0500
TZNAME:EST
DTSTART:20281105T060000
END:STANDARD
END:VTIMEZONE
BEGIN:VEVENT
DTSTART;TZID=America/New_York:20260711T150000
DTEND;TZID=America/New_York:20260711T200000
DTSTAMP:20260425T123328
CREATED:20240427T190604Z
LAST-MODIFIED:20250330T144451Z
UID:10002665-1783782000-1783800000@miracleofloveinc.org
SUMMARY:DID Trans Support Group
DESCRIPTION:Trans Support Group \nNo registration or RSVP is required.
URL:https://miracleofloveinc.org/event/divas-in-dialogue/2026-07-11/
LOCATION:Stafford House\, 711 Seminole Ave\, Orlando\, 32804\, United States
CATEGORIES:Community Outreach,Stafford House,Support Group
ATTACH;FMTTYPE=image/jpeg:https://miracleofloveinc.org/wp-content/uploads/2021/07/DID-LOGO-crop.jpg
END:VEVENT
BEGIN:VEVENT
DTSTART;TZID=America/New_York:20260721T190000
DTEND;TZID=America/New_York:20260721T203000
DTSTAMP:20260425T123328
CREATED:20230327T132857Z
LAST-MODIFIED:20250330T145615Z
UID:10002914-1784660400-1784665800@miracleofloveinc.org
SUMMARY:Latidos
DESCRIPTION:MISIÓN\n\n\n\n\n\nLatidos ofrece apoyo a hombres Latinos de Orlando afectados por el VIH/SIDA\, brindando un espacio que ayude a desarrollar herramientas y estrategias para una vida plena\, saludable y activa. \n\n\n\n\n\n\n\n\n\n\n\n\n\n\nVISIÓN\n\n\n\n\n\nVivir en un mundo donde nadie se sienta aislado basado en su estatus del VIH/SIDA. \n\n\n\n\n\n\n\n\n\n\n\n\n\n\n\n\nVALOR\n\n\n\n\nUn espacio seguro para crear una comunidad y familia sólida\, que se apoya mutuamente.
URL:https://miracleofloveinc.org/event/latidos-3/2026-07-21/
LOCATION:Stafford House\, 711 Seminole Ave\, Orlando\, 32804\, United States
CATEGORIES:Community Outreach,Stafford House,Support Group
ATTACH;FMTTYPE=image/png:https://miracleofloveinc.org/wp-content/uploads/2019/08/latidos.png
ORGANIZER;CN="Miracle of Love":MAILTO:info@miracleofloveinc.org
END:VEVENT
BEGIN:VEVENT
DTSTART;TZID=America/New_York:20260725T150000
DTEND;TZID=America/New_York:20260725T200000
DTSTAMP:20260425T123328
CREATED:20240427T191129Z
LAST-MODIFIED:20250330T144930Z
UID:10008500-1784991600-1785009600@miracleofloveinc.org
SUMMARY:DID Trans Support Group
DESCRIPTION:Trans Support Group \nNo registration or RSVP is required.
URL:https://miracleofloveinc.org/event/divas-in-dialogue-2/2026-07-25/
LOCATION:Stafford House\, 711 Seminole Ave\, Orlando\, 32804\, United States
CATEGORIES:Community Outreach,Stafford House,Support Group
ATTACH;FMTTYPE=image/jpeg:https://miracleofloveinc.org/wp-content/uploads/2021/07/DID-LOGO-crop.jpg
END:VEVENT
BEGIN:VEVENT
DTSTART;TZID=America/New_York:20260806T190000
DTEND;TZID=America/New_York:20260806T203000
DTSTAMP:20260425T123328
CREATED:20240427T193600Z
LAST-MODIFIED:20250102T163126Z
UID:10003047-1786042800-1786048200@miracleofloveinc.org
SUMMARY:Latidos
DESCRIPTION:MISIÓN\n\n\n\n\n\nLatidos ofrece apoyo a hombres Latinos de Orlando afectados por el VIH/SIDA\, brindando un espacio que ayude a desarrollar herramientas y estrategias para una vida plena\, saludable y activa. \n\n\n\n\n\n\n\n\n\n\n\n\n\n\nVISIÓN\n\n\n\n\n\nVivir en un mundo donde nadie se sienta aislado basado en su estatus del VIH/SIDA. \n\n\n\n\n\n\n\n\n\n\n\n\n\n\n\n\nVALOR\n\n\n\n\nUn espacio seguro para crear una comunidad y familia sólida\, que se apoya mutuamente.
URL:https://miracleofloveinc.org/event/latidos/2026-08-06/
LOCATION:Miracle of Love\, 1301 W Colonial Drive Suite 201\, Orlando\, FL\, 32804\, United States
CATEGORIES:Community Outreach,Stafford House,Support Group
ATTACH;FMTTYPE=image/png:https://miracleofloveinc.org/wp-content/uploads/2019/08/latidos.png
ORGANIZER;CN="Miracle of Love":MAILTO:info@miracleofloveinc.org
END:VEVENT
BEGIN:VEVENT
DTSTART;TZID=America/New_York:20260808T150000
DTEND;TZID=America/New_York:20260808T200000
DTSTAMP:20260425T123328
CREATED:20240427T190604Z
LAST-MODIFIED:20250330T144451Z
UID:10002666-1786201200-1786219200@miracleofloveinc.org
SUMMARY:DID Trans Support Group
DESCRIPTION:Trans Support Group \nNo registration or RSVP is required.
URL:https://miracleofloveinc.org/event/divas-in-dialogue/2026-08-08/
LOCATION:Stafford House\, 711 Seminole Ave\, Orlando\, 32804\, United States
CATEGORIES:Community Outreach,Stafford House,Support Group
ATTACH;FMTTYPE=image/jpeg:https://miracleofloveinc.org/wp-content/uploads/2021/07/DID-LOGO-crop.jpg
END:VEVENT
BEGIN:VEVENT
DTSTART;TZID=America/New_York:20260818T190000
DTEND;TZID=America/New_York:20260818T203000
DTSTAMP:20260425T123328
CREATED:20230327T132857Z
LAST-MODIFIED:20250330T145615Z
UID:10002915-1787079600-1787085000@miracleofloveinc.org
SUMMARY:Latidos
DESCRIPTION:MISIÓN\n\n\n\n\n\nLatidos ofrece apoyo a hombres Latinos de Orlando afectados por el VIH/SIDA\, brindando un espacio que ayude a desarrollar herramientas y estrategias para una vida plena\, saludable y activa. \n\n\n\n\n\n\n\n\n\n\n\n\n\n\nVISIÓN\n\n\n\n\n\nVivir en un mundo donde nadie se sienta aislado basado en su estatus del VIH/SIDA. \n\n\n\n\n\n\n\n\n\n\n\n\n\n\n\n\nVALOR\n\n\n\n\nUn espacio seguro para crear una comunidad y familia sólida\, que se apoya mutuamente.
URL:https://miracleofloveinc.org/event/latidos-3/2026-08-18/
LOCATION:Stafford House\, 711 Seminole Ave\, Orlando\, 32804\, United States
CATEGORIES:Community Outreach,Stafford House,Support Group
ATTACH;FMTTYPE=image/png:https://miracleofloveinc.org/wp-content/uploads/2019/08/latidos.png
ORGANIZER;CN="Miracle of Love":MAILTO:info@miracleofloveinc.org
END:VEVENT
BEGIN:VEVENT
DTSTART;TZID=America/New_York:20260822T150000
DTEND;TZID=America/New_York:20260822T200000
DTSTAMP:20260425T123328
CREATED:20240427T191129Z
LAST-MODIFIED:20250330T144930Z
UID:10008501-1787410800-1787428800@miracleofloveinc.org
SUMMARY:DID Trans Support Group
DESCRIPTION:Trans Support Group \nNo registration or RSVP is required.
URL:https://miracleofloveinc.org/event/divas-in-dialogue-2/2026-08-22/
LOCATION:Stafford House\, 711 Seminole Ave\, Orlando\, 32804\, United States
CATEGORIES:Community Outreach,Stafford House,Support Group
ATTACH;FMTTYPE=image/jpeg:https://miracleofloveinc.org/wp-content/uploads/2021/07/DID-LOGO-crop.jpg
END:VEVENT
BEGIN:VEVENT
DTSTART;TZID=America/New_York:20260903T190000
DTEND;TZID=America/New_York:20260903T203000
DTSTAMP:20260425T123328
CREATED:20240427T193600Z
LAST-MODIFIED:20250102T163126Z
UID:10003048-1788462000-1788467400@miracleofloveinc.org
SUMMARY:Latidos
DESCRIPTION:MISIÓN\n\n\n\n\n\nLatidos ofrece apoyo a hombres Latinos de Orlando afectados por el VIH/SIDA\, brindando un espacio que ayude a desarrollar herramientas y estrategias para una vida plena\, saludable y activa. \n\n\n\n\n\n\n\n\n\n\n\n\n\n\nVISIÓN\n\n\n\n\n\nVivir en un mundo donde nadie se sienta aislado basado en su estatus del VIH/SIDA. \n\n\n\n\n\n\n\n\n\n\n\n\n\n\n\n\nVALOR\n\n\n\n\nUn espacio seguro para crear una comunidad y familia sólida\, que se apoya mutuamente.
URL:https://miracleofloveinc.org/event/latidos/2026-09-03/
LOCATION:Miracle of Love\, 1301 W Colonial Drive Suite 201\, Orlando\, FL\, 32804\, United States
CATEGORIES:Community Outreach,Stafford House,Support Group
ATTACH;FMTTYPE=image/png:https://miracleofloveinc.org/wp-content/uploads/2019/08/latidos.png
ORGANIZER;CN="Miracle of Love":MAILTO:info@miracleofloveinc.org
END:VEVENT
BEGIN:VEVENT
DTSTART;TZID=America/New_York:20260912T150000
DTEND;TZID=America/New_York:20260912T200000
DTSTAMP:20260425T123328
CREATED:20240427T190604Z
LAST-MODIFIED:20250330T144451Z
UID:10002667-1789225200-1789243200@miracleofloveinc.org
SUMMARY:DID Trans Support Group
DESCRIPTION:Trans Support Group \nNo registration or RSVP is required.
URL:https://miracleofloveinc.org/event/divas-in-dialogue/2026-09-12/
LOCATION:Stafford House\, 711 Seminole Ave\, Orlando\, 32804\, United States
CATEGORIES:Community Outreach,Stafford House,Support Group
ATTACH;FMTTYPE=image/jpeg:https://miracleofloveinc.org/wp-content/uploads/2021/07/DID-LOGO-crop.jpg
END:VEVENT
BEGIN:VEVENT
DTSTART;TZID=America/New_York:20260915T190000
DTEND;TZID=America/New_York:20260915T203000
DTSTAMP:20260425T123328
CREATED:20230327T132857Z
LAST-MODIFIED:20250330T145615Z
UID:10002916-1789498800-1789504200@miracleofloveinc.org
SUMMARY:Latidos
DESCRIPTION:MISIÓN\n\n\n\n\n\nLatidos ofrece apoyo a hombres Latinos de Orlando afectados por el VIH/SIDA\, brindando un espacio que ayude a desarrollar herramientas y estrategias para una vida plena\, saludable y activa. \n\n\n\n\n\n\n\n\n\n\n\n\n\n\nVISIÓN\n\n\n\n\n\nVivir en un mundo donde nadie se sienta aislado basado en su estatus del VIH/SIDA. \n\n\n\n\n\n\n\n\n\n\n\n\n\n\n\n\nVALOR\n\n\n\n\nUn espacio seguro para crear una comunidad y familia sólida\, que se apoya mutuamente.
URL:https://miracleofloveinc.org/event/latidos-3/2026-09-15/
LOCATION:Stafford House\, 711 Seminole Ave\, Orlando\, 32804\, United States
CATEGORIES:Community Outreach,Stafford House,Support Group
ATTACH;FMTTYPE=image/png:https://miracleofloveinc.org/wp-content/uploads/2019/08/latidos.png
ORGANIZER;CN="Miracle of Love":MAILTO:info@miracleofloveinc.org
END:VEVENT
BEGIN:VEVENT
DTSTART;TZID=America/New_York:20260926T150000
DTEND;TZID=America/New_York:20260926T200000
DTSTAMP:20260425T123328
CREATED:20240427T191129Z
LAST-MODIFIED:20250330T144930Z
UID:10002787-1790434800-1790452800@miracleofloveinc.org
SUMMARY:DID Trans Support Group
DESCRIPTION:Trans Support Group \nNo registration or RSVP is required.
URL:https://miracleofloveinc.org/event/divas-in-dialogue-2/2026-09-26/
LOCATION:Stafford House\, 711 Seminole Ave\, Orlando\, 32804\, United States
CATEGORIES:Community Outreach,Stafford House,Support Group
ATTACH;FMTTYPE=image/jpeg:https://miracleofloveinc.org/wp-content/uploads/2021/07/DID-LOGO-crop.jpg
END:VEVENT
BEGIN:VEVENT
DTSTART;TZID=America/New_York:20261001T190000
DTEND;TZID=America/New_York:20261001T203000
DTSTAMP:20260425T123328
CREATED:20240427T193600Z
LAST-MODIFIED:20250102T163126Z
UID:10003049-1790881200-1790886600@miracleofloveinc.org
SUMMARY:Latidos
DESCRIPTION:MISIÓN\n\n\n\n\n\nLatidos ofrece apoyo a hombres Latinos de Orlando afectados por el VIH/SIDA\, brindando un espacio que ayude a desarrollar herramientas y estrategias para una vida plena\, saludable y activa. \n\n\n\n\n\n\n\n\n\n\n\n\n\n\nVISIÓN\n\n\n\n\n\nVivir en un mundo donde nadie se sienta aislado basado en su estatus del VIH/SIDA. \n\n\n\n\n\n\n\n\n\n\n\n\n\n\n\n\nVALOR\n\n\n\n\nUn espacio seguro para crear una comunidad y familia sólida\, que se apoya mutuamente.
URL:https://miracleofloveinc.org/event/latidos/2026-10-01/
LOCATION:Miracle of Love\, 1301 W Colonial Drive Suite 201\, Orlando\, FL\, 32804\, United States
CATEGORIES:Community Outreach,Stafford House,Support Group
ATTACH;FMTTYPE=image/png:https://miracleofloveinc.org/wp-content/uploads/2019/08/latidos.png
ORGANIZER;CN="Miracle of Love":MAILTO:info@miracleofloveinc.org
END:VEVENT
BEGIN:VEVENT
DTSTART;TZID=America/New_York:20261010T150000
DTEND;TZID=America/New_York:20261010T200000
DTSTAMP:20260425T123328
CREATED:20240427T190604Z
LAST-MODIFIED:20250330T144451Z
UID:10002668-1791644400-1791662400@miracleofloveinc.org
SUMMARY:DID Trans Support Group
DESCRIPTION:Trans Support Group \nNo registration or RSVP is required.
URL:https://miracleofloveinc.org/event/divas-in-dialogue/2026-10-10/
LOCATION:Stafford House\, 711 Seminole Ave\, Orlando\, 32804\, United States
CATEGORIES:Community Outreach,Stafford House,Support Group
ATTACH;FMTTYPE=image/jpeg:https://miracleofloveinc.org/wp-content/uploads/2021/07/DID-LOGO-crop.jpg
END:VEVENT
BEGIN:VEVENT
DTSTART;TZID=America/New_York:20261020T190000
DTEND;TZID=America/New_York:20261020T203000
DTSTAMP:20260425T123328
CREATED:20230327T132857Z
LAST-MODIFIED:20250330T145615Z
UID:10002917-1792522800-1792528200@miracleofloveinc.org
SUMMARY:Latidos
DESCRIPTION:MISIÓN\n\n\n\n\n\nLatidos ofrece apoyo a hombres Latinos de Orlando afectados por el VIH/SIDA\, brindando un espacio que ayude a desarrollar herramientas y estrategias para una vida plena\, saludable y activa. \n\n\n\n\n\n\n\n\n\n\n\n\n\n\nVISIÓN\n\n\n\n\n\nVivir en un mundo donde nadie se sienta aislado basado en su estatus del VIH/SIDA. \n\n\n\n\n\n\n\n\n\n\n\n\n\n\n\n\nVALOR\n\n\n\n\nUn espacio seguro para crear una comunidad y familia sólida\, que se apoya mutuamente.
URL:https://miracleofloveinc.org/event/latidos-3/2026-10-20/
LOCATION:Stafford House\, 711 Seminole Ave\, Orlando\, 32804\, United States
CATEGORIES:Community Outreach,Stafford House,Support Group
ATTACH;FMTTYPE=image/png:https://miracleofloveinc.org/wp-content/uploads/2019/08/latidos.png
ORGANIZER;CN="Miracle of Love":MAILTO:info@miracleofloveinc.org
END:VEVENT
BEGIN:VEVENT
DTSTART;TZID=America/New_York:20261024T150000
DTEND;TZID=America/New_York:20261024T200000
DTSTAMP:20260425T123328
CREATED:20240427T191129Z
LAST-MODIFIED:20250330T144930Z
UID:10008502-1792854000-1792872000@miracleofloveinc.org
SUMMARY:DID Trans Support Group
DESCRIPTION:Trans Support Group \nNo registration or RSVP is required.
URL:https://miracleofloveinc.org/event/divas-in-dialogue-2/2026-10-24/
LOCATION:Stafford House\, 711 Seminole Ave\, Orlando\, 32804\, United States
CATEGORIES:Community Outreach,Stafford House,Support Group
ATTACH;FMTTYPE=image/jpeg:https://miracleofloveinc.org/wp-content/uploads/2021/07/DID-LOGO-crop.jpg
END:VEVENT
BEGIN:VEVENT
DTSTART;TZID=America/New_York:20261105T190000
DTEND;TZID=America/New_York:20261105T203000
DTSTAMP:20260425T123328
CREATED:20240427T193600Z
LAST-MODIFIED:20250102T163126Z
UID:10003050-1793905200-1793910600@miracleofloveinc.org
SUMMARY:Latidos
DESCRIPTION:MISIÓN\n\n\n\n\n\nLatidos ofrece apoyo a hombres Latinos de Orlando afectados por el VIH/SIDA\, brindando un espacio que ayude a desarrollar herramientas y estrategias para una vida plena\, saludable y activa. \n\n\n\n\n\n\n\n\n\n\n\n\n\n\nVISIÓN\n\n\n\n\n\nVivir en un mundo donde nadie se sienta aislado basado en su estatus del VIH/SIDA. \n\n\n\n\n\n\n\n\n\n\n\n\n\n\n\n\nVALOR\n\n\n\n\nUn espacio seguro para crear una comunidad y familia sólida\, que se apoya mutuamente.
URL:https://miracleofloveinc.org/event/latidos/2026-11-05/
LOCATION:Miracle of Love\, 1301 W Colonial Drive Suite 201\, Orlando\, FL\, 32804\, United States
CATEGORIES:Community Outreach,Stafford House,Support Group
ATTACH;FMTTYPE=image/png:https://miracleofloveinc.org/wp-content/uploads/2019/08/latidos.png
ORGANIZER;CN="Miracle of Love":MAILTO:info@miracleofloveinc.org
END:VEVENT
BEGIN:VEVENT
DTSTART;TZID=America/New_York:20261114T150000
DTEND;TZID=America/New_York:20261114T200000
DTSTAMP:20260425T123328
CREATED:20240427T190604Z
LAST-MODIFIED:20250330T144451Z
UID:10002669-1794668400-1794686400@miracleofloveinc.org
SUMMARY:DID Trans Support Group
DESCRIPTION:Trans Support Group \nNo registration or RSVP is required.
URL:https://miracleofloveinc.org/event/divas-in-dialogue/2026-11-14/
LOCATION:Stafford House\, 711 Seminole Ave\, Orlando\, 32804\, United States
CATEGORIES:Community Outreach,Stafford House,Support Group
ATTACH;FMTTYPE=image/jpeg:https://miracleofloveinc.org/wp-content/uploads/2021/07/DID-LOGO-crop.jpg
END:VEVENT
BEGIN:VEVENT
DTSTART;TZID=America/New_York:20261117T190000
DTEND;TZID=America/New_York:20261117T203000
DTSTAMP:20260425T123328
CREATED:20230327T132857Z
LAST-MODIFIED:20250330T145615Z
UID:10002918-1794942000-1794947400@miracleofloveinc.org
SUMMARY:Latidos
DESCRIPTION:MISIÓN\n\n\n\n\n\nLatidos ofrece apoyo a hombres Latinos de Orlando afectados por el VIH/SIDA\, brindando un espacio que ayude a desarrollar herramientas y estrategias para una vida plena\, saludable y activa. \n\n\n\n\n\n\n\n\n\n\n\n\n\n\nVISIÓN\n\n\n\n\n\nVivir en un mundo donde nadie se sienta aislado basado en su estatus del VIH/SIDA. \n\n\n\n\n\n\n\n\n\n\n\n\n\n\n\n\nVALOR\n\n\n\n\nUn espacio seguro para crear una comunidad y familia sólida\, que se apoya mutuamente.
URL:https://miracleofloveinc.org/event/latidos-3/2026-11-17/
LOCATION:Stafford House\, 711 Seminole Ave\, Orlando\, 32804\, United States
CATEGORIES:Community Outreach,Stafford House,Support Group
ATTACH;FMTTYPE=image/png:https://miracleofloveinc.org/wp-content/uploads/2019/08/latidos.png
ORGANIZER;CN="Miracle of Love":MAILTO:info@miracleofloveinc.org
END:VEVENT
BEGIN:VEVENT
DTSTART;TZID=America/New_York:20261128T150000
DTEND;TZID=America/New_York:20261128T200000
DTSTAMP:20260425T123328
CREATED:20240427T191129Z
LAST-MODIFIED:20250330T144930Z
UID:10008503-1795878000-1795896000@miracleofloveinc.org
SUMMARY:DID Trans Support Group
DESCRIPTION:Trans Support Group \nNo registration or RSVP is required.
URL:https://miracleofloveinc.org/event/divas-in-dialogue-2/2026-11-28/
LOCATION:Stafford House\, 711 Seminole Ave\, Orlando\, 32804\, United States
CATEGORIES:Community Outreach,Stafford House,Support Group
ATTACH;FMTTYPE=image/jpeg:https://miracleofloveinc.org/wp-content/uploads/2021/07/DID-LOGO-crop.jpg
END:VEVENT
BEGIN:VEVENT
DTSTART;TZID=America/New_York:20261203T190000
DTEND;TZID=America/New_York:20261203T203000
DTSTAMP:20260425T123328
CREATED:20240427T193600Z
LAST-MODIFIED:20250102T163126Z
UID:10003051-1796324400-1796329800@miracleofloveinc.org
SUMMARY:Latidos
DESCRIPTION:MISIÓN\n\n\n\n\n\nLatidos ofrece apoyo a hombres Latinos de Orlando afectados por el VIH/SIDA\, brindando un espacio que ayude a desarrollar herramientas y estrategias para una vida plena\, saludable y activa. \n\n\n\n\n\n\n\n\n\n\n\n\n\n\nVISIÓN\n\n\n\n\n\nVivir en un mundo donde nadie se sienta aislado basado en su estatus del VIH/SIDA. \n\n\n\n\n\n\n\n\n\n\n\n\n\n\n\n\nVALOR\n\n\n\n\nUn espacio seguro para crear una comunidad y familia sólida\, que se apoya mutuamente.
URL:https://miracleofloveinc.org/event/latidos/2026-12-03/
LOCATION:Miracle of Love\, 1301 W Colonial Drive Suite 201\, Orlando\, FL\, 32804\, United States
CATEGORIES:Community Outreach,Stafford House,Support Group
ATTACH;FMTTYPE=image/png:https://miracleofloveinc.org/wp-content/uploads/2019/08/latidos.png
ORGANIZER;CN="Miracle of Love":MAILTO:info@miracleofloveinc.org
END:VEVENT
BEGIN:VEVENT
DTSTART;TZID=America/New_York:20261212T150000
DTEND;TZID=America/New_York:20261212T200000
DTSTAMP:20260425T123328
CREATED:20240427T190604Z
LAST-MODIFIED:20250330T144451Z
UID:10002670-1797087600-1797105600@miracleofloveinc.org
SUMMARY:DID Trans Support Group
DESCRIPTION:Trans Support Group \nNo registration or RSVP is required.
URL:https://miracleofloveinc.org/event/divas-in-dialogue/2026-12-12/
LOCATION:Stafford House\, 711 Seminole Ave\, Orlando\, 32804\, United States
CATEGORIES:Community Outreach,Stafford House,Support Group
ATTACH;FMTTYPE=image/jpeg:https://miracleofloveinc.org/wp-content/uploads/2021/07/DID-LOGO-crop.jpg
END:VEVENT
BEGIN:VEVENT
DTSTART;TZID=America/New_York:20261215T190000
DTEND;TZID=America/New_York:20261215T203000
DTSTAMP:20260425T123328
CREATED:20230327T132857Z
LAST-MODIFIED:20250330T145615Z
UID:10002919-1797361200-1797366600@miracleofloveinc.org
SUMMARY:Latidos
DESCRIPTION:MISIÓN\n\n\n\n\n\nLatidos ofrece apoyo a hombres Latinos de Orlando afectados por el VIH/SIDA\, brindando un espacio que ayude a desarrollar herramientas y estrategias para una vida plena\, saludable y activa. \n\n\n\n\n\n\n\n\n\n\n\n\n\n\nVISIÓN\n\n\n\n\n\nVivir en un mundo donde nadie se sienta aislado basado en su estatus del VIH/SIDA. \n\n\n\n\n\n\n\n\n\n\n\n\n\n\n\n\nVALOR\n\n\n\n\nUn espacio seguro para crear una comunidad y familia sólida\, que se apoya mutuamente.
URL:https://miracleofloveinc.org/event/latidos-3/2026-12-15/
LOCATION:Stafford House\, 711 Seminole Ave\, Orlando\, 32804\, United States
CATEGORIES:Community Outreach,Stafford House,Support Group
ATTACH;FMTTYPE=image/png:https://miracleofloveinc.org/wp-content/uploads/2019/08/latidos.png
ORGANIZER;CN="Miracle of Love":MAILTO:info@miracleofloveinc.org
END:VEVENT
BEGIN:VEVENT
DTSTART;TZID=America/New_York:20261226T150000
DTEND;TZID=America/New_York:20261226T200000
DTSTAMP:20260425T123328
CREATED:20240427T191129Z
LAST-MODIFIED:20250330T144930Z
UID:10002790-1798297200-1798315200@miracleofloveinc.org
SUMMARY:DID Trans Support Group
DESCRIPTION:Trans Support Group \nNo registration or RSVP is required.
URL:https://miracleofloveinc.org/event/divas-in-dialogue-2/2026-12-26/
LOCATION:Stafford House\, 711 Seminole Ave\, Orlando\, 32804\, United States
CATEGORIES:Community Outreach,Stafford House,Support Group
ATTACH;FMTTYPE=image/jpeg:https://miracleofloveinc.org/wp-content/uploads/2021/07/DID-LOGO-crop.jpg
END:VEVENT
BEGIN:VEVENT
DTSTART;TZID=America/New_York:20270107T190000
DTEND;TZID=America/New_York:20270107T203000
DTSTAMP:20260425T123328
CREATED:20240427T193600Z
LAST-MODIFIED:20250102T163126Z
UID:10003052-1799348400-1799353800@miracleofloveinc.org
SUMMARY:Latidos
DESCRIPTION:MISIÓN\n\n\n\n\n\nLatidos ofrece apoyo a hombres Latinos de Orlando afectados por el VIH/SIDA\, brindando un espacio que ayude a desarrollar herramientas y estrategias para una vida plena\, saludable y activa. \n\n\n\n\n\n\n\n\n\n\n\n\n\n\nVISIÓN\n\n\n\n\n\nVivir en un mundo donde nadie se sienta aislado basado en su estatus del VIH/SIDA. \n\n\n\n\n\n\n\n\n\n\n\n\n\n\n\n\nVALOR\n\n\n\n\nUn espacio seguro para crear una comunidad y familia sólida\, que se apoya mutuamente.
URL:https://miracleofloveinc.org/event/latidos/2027-01-07/
LOCATION:Miracle of Love\, 1301 W Colonial Drive Suite 201\, Orlando\, FL\, 32804\, United States
CATEGORIES:Community Outreach,Stafford House,Support Group
ATTACH;FMTTYPE=image/png:https://miracleofloveinc.org/wp-content/uploads/2019/08/latidos.png
ORGANIZER;CN="Miracle of Love":MAILTO:info@miracleofloveinc.org
END:VEVENT
BEGIN:VEVENT
DTSTART;TZID=America/New_York:20270109T150000
DTEND;TZID=America/New_York:20270109T200000
DTSTAMP:20260425T123328
CREATED:20240427T190604Z
LAST-MODIFIED:20250330T144451Z
UID:10002671-1799506800-1799524800@miracleofloveinc.org
SUMMARY:DID Trans Support Group
DESCRIPTION:Trans Support Group \nNo registration or RSVP is required.
URL:https://miracleofloveinc.org/event/divas-in-dialogue/2027-01-09/
LOCATION:Stafford House\, 711 Seminole Ave\, Orlando\, 32804\, United States
CATEGORIES:Community Outreach,Stafford House,Support Group
ATTACH;FMTTYPE=image/jpeg:https://miracleofloveinc.org/wp-content/uploads/2021/07/DID-LOGO-crop.jpg
END:VEVENT
BEGIN:VEVENT
DTSTART;TZID=America/New_York:20270119T190000
DTEND;TZID=America/New_York:20270119T203000
DTSTAMP:20260425T123328
CREATED:20230327T132857Z
LAST-MODIFIED:20250330T145615Z
UID:10002920-1800385200-1800390600@miracleofloveinc.org
SUMMARY:Latidos
DESCRIPTION:MISIÓN\n\n\n\n\n\nLatidos ofrece apoyo a hombres Latinos de Orlando afectados por el VIH/SIDA\, brindando un espacio que ayude a desarrollar herramientas y estrategias para una vida plena\, saludable y activa. \n\n\n\n\n\n\n\n\n\n\n\n\n\n\nVISIÓN\n\n\n\n\n\nVivir en un mundo donde nadie se sienta aislado basado en su estatus del VIH/SIDA. \n\n\n\n\n\n\n\n\n\n\n\n\n\n\n\n\nVALOR\n\n\n\n\nUn espacio seguro para crear una comunidad y familia sólida\, que se apoya mutuamente.
URL:https://miracleofloveinc.org/event/latidos-3/2027-01-19/
LOCATION:Stafford House\, 711 Seminole Ave\, Orlando\, 32804\, United States
CATEGORIES:Community Outreach,Stafford House,Support Group
ATTACH;FMTTYPE=image/png:https://miracleofloveinc.org/wp-content/uploads/2019/08/latidos.png
ORGANIZER;CN="Miracle of Love":MAILTO:info@miracleofloveinc.org
END:VEVENT
BEGIN:VEVENT
DTSTART;TZID=America/New_York:20270123T150000
DTEND;TZID=America/New_York:20270123T200000
DTSTAMP:20260425T123328
CREATED:20240427T191129Z
LAST-MODIFIED:20250330T144930Z
UID:10008504-1800716400-1800734400@miracleofloveinc.org
SUMMARY:DID Trans Support Group
DESCRIPTION:Trans Support Group \nNo registration or RSVP is required.
URL:https://miracleofloveinc.org/event/divas-in-dialogue-2/2027-01-23/
LOCATION:Stafford House\, 711 Seminole Ave\, Orlando\, 32804\, United States
CATEGORIES:Community Outreach,Stafford House,Support Group
ATTACH;FMTTYPE=image/jpeg:https://miracleofloveinc.org/wp-content/uploads/2021/07/DID-LOGO-crop.jpg
END:VEVENT
BEGIN:VEVENT
DTSTART;TZID=America/New_York:20270204T190000
DTEND;TZID=America/New_York:20270204T203000
DTSTAMP:20260425T123328
CREATED:20240427T193600Z
LAST-MODIFIED:20250102T163126Z
UID:10003053-1801767600-1801773000@miracleofloveinc.org
SUMMARY:Latidos
DESCRIPTION:MISIÓN\n\n\n\n\n\nLatidos ofrece apoyo a hombres Latinos de Orlando afectados por el VIH/SIDA\, brindando un espacio que ayude a desarrollar herramientas y estrategias para una vida plena\, saludable y activa. \n\n\n\n\n\n\n\n\n\n\n\n\n\n\nVISIÓN\n\n\n\n\n\nVivir en un mundo donde nadie se sienta aislado basado en su estatus del VIH/SIDA. \n\n\n\n\n\n\n\n\n\n\n\n\n\n\n\n\nVALOR\n\n\n\n\nUn espacio seguro para crear una comunidad y familia sólida\, que se apoya mutuamente.
URL:https://miracleofloveinc.org/event/latidos/2027-02-04/
LOCATION:Miracle of Love\, 1301 W Colonial Drive Suite 201\, Orlando\, FL\, 32804\, United States
CATEGORIES:Community Outreach,Stafford House,Support Group
ATTACH;FMTTYPE=image/png:https://miracleofloveinc.org/wp-content/uploads/2019/08/latidos.png
ORGANIZER;CN="Miracle of Love":MAILTO:info@miracleofloveinc.org
END:VEVENT
BEGIN:VEVENT
DTSTART;TZID=America/New_York:20270213T150000
DTEND;TZID=America/New_York:20270213T200000
DTSTAMP:20260425T123328
CREATED:20240427T190604Z
LAST-MODIFIED:20250330T144451Z
UID:10002672-1802530800-1802548800@miracleofloveinc.org
SUMMARY:DID Trans Support Group
DESCRIPTION:Trans Support Group \nNo registration or RSVP is required.
URL:https://miracleofloveinc.org/event/divas-in-dialogue/2027-02-13/
LOCATION:Stafford House\, 711 Seminole Ave\, Orlando\, 32804\, United States
CATEGORIES:Community Outreach,Stafford House,Support Group
ATTACH;FMTTYPE=image/jpeg:https://miracleofloveinc.org/wp-content/uploads/2021/07/DID-LOGO-crop.jpg
END:VEVENT
BEGIN:VEVENT
DTSTART;TZID=America/New_York:20270216T190000
DTEND;TZID=America/New_York:20270216T203000
DTSTAMP:20260425T123328
CREATED:20230327T132857Z
LAST-MODIFIED:20250330T145615Z
UID:10002921-1802804400-1802809800@miracleofloveinc.org
SUMMARY:Latidos
DESCRIPTION:MISIÓN\n\n\n\n\n\nLatidos ofrece apoyo a hombres Latinos de Orlando afectados por el VIH/SIDA\, brindando un espacio que ayude a desarrollar herramientas y estrategias para una vida plena\, saludable y activa. \n\n\n\n\n\n\n\n\n\n\n\n\n\n\nVISIÓN\n\n\n\n\n\nVivir en un mundo donde nadie se sienta aislado basado en su estatus del VIH/SIDA. \n\n\n\n\n\n\n\n\n\n\n\n\n\n\n\n\nVALOR\n\n\n\n\nUn espacio seguro para crear una comunidad y familia sólida\, que se apoya mutuamente.
URL:https://miracleofloveinc.org/event/latidos-3/2027-02-16/
LOCATION:Stafford House\, 711 Seminole Ave\, Orlando\, 32804\, United States
CATEGORIES:Community Outreach,Stafford House,Support Group
ATTACH;FMTTYPE=image/png:https://miracleofloveinc.org/wp-content/uploads/2019/08/latidos.png
ORGANIZER;CN="Miracle of Love":MAILTO:info@miracleofloveinc.org
END:VEVENT
END:VCALENDAR