BEGIN:VCALENDAR
VERSION:2.0
PRODID:-//Miracle of Love Inc. - ECPv6.15.17//NONSGML v1.0//EN
CALSCALE:GREGORIAN
METHOD:PUBLISH
X-ORIGINAL-URL:https://miracleofloveinc.org
X-WR-CALDESC:Events for Miracle of Love Inc.
REFRESH-INTERVAL;VALUE=DURATION:PT1H
X-Robots-Tag:noindex
X-PUBLISHED-TTL:PT1H
BEGIN:VTIMEZONE
TZID:America/New_York
BEGIN:DAYLIGHT
TZOFFSETFROM:-0500
TZOFFSETTO:-0400
TZNAME:EDT
DTSTART:20250309T070000
END:DAYLIGHT
BEGIN:STANDARD
TZOFFSETFROM:-0400
TZOFFSETTO:-0500
TZNAME:EST
DTSTART:20251102T060000
END:STANDARD
BEGIN:DAYLIGHT
TZOFFSETFROM:-0500
TZOFFSETTO:-0400
TZNAME:EDT
DTSTART:20260308T070000
END:DAYLIGHT
BEGIN:STANDARD
TZOFFSETFROM:-0400
TZOFFSETTO:-0500
TZNAME:EST
DTSTART:20261101T060000
END:STANDARD
BEGIN:DAYLIGHT
TZOFFSETFROM:-0500
TZOFFSETTO:-0400
TZNAME:EDT
DTSTART:20270314T070000
END:DAYLIGHT
BEGIN:STANDARD
TZOFFSETFROM:-0400
TZOFFSETTO:-0500
TZNAME:EST
DTSTART:20271107T060000
END:STANDARD
END:VTIMEZONE
BEGIN:VEVENT
DTSTART;TZID=America/New_York:20261005T170000
DTEND;TZID=America/New_York:20261005T200000
DTSTAMP:20260425T061744
CREATED:20250103T204059Z
LAST-MODIFIED:20251210T123058Z
UID:10006082-1791219600-1791230400@miracleofloveinc.org
SUMMARY:Evening HIV Testing - Stafford House
DESCRIPTION:FREE HIV Testing is offered from 5:00-8:00 PM \nStafford House \n711 Seminole Ave \nOrlando FL 32804
URL:https://miracleofloveinc.org/event/evening-hiv-testing-2-2-4-2-2/2026-10-05/
LOCATION:Stafford House\, 711 Seminole Ave\, Orlando\, 32804\, United States
CATEGORIES:HIV/STI Screening,Stafford House
ATTACH;FMTTYPE=image/jpeg:https://miracleofloveinc.org/wp-content/uploads/2020/01/IMG_2916-scaled.jpg
ORGANIZER;CN="Miracle of Love":MAILTO:info@miracleofloveinc.org
END:VEVENT
BEGIN:VEVENT
DTSTART;TZID=America/New_York:20261006T170000
DTEND;TZID=America/New_York:20261006T200000
DTSTAMP:20260425T061744
CREATED:20250103T204059Z
LAST-MODIFIED:20251210T123058Z
UID:10006083-1791306000-1791316800@miracleofloveinc.org
SUMMARY:Evening HIV Testing - Stafford House
DESCRIPTION:FREE HIV Testing is offered from 5:00-8:00 PM \nStafford House \n711 Seminole Ave \nOrlando FL 32804
URL:https://miracleofloveinc.org/event/evening-hiv-testing-2-2-4-2-2/2026-10-06/
LOCATION:Stafford House\, 711 Seminole Ave\, Orlando\, 32804\, United States
CATEGORIES:HIV/STI Screening,Stafford House
ATTACH;FMTTYPE=image/jpeg:https://miracleofloveinc.org/wp-content/uploads/2020/01/IMG_2916-scaled.jpg
ORGANIZER;CN="Miracle of Love":MAILTO:info@miracleofloveinc.org
END:VEVENT
BEGIN:VEVENT
DTSTART;TZID=America/New_York:20261007T170000
DTEND;TZID=America/New_York:20261007T200000
DTSTAMP:20260425T061744
CREATED:20240427T203212Z
LAST-MODIFIED:20250330T150026Z
UID:10003989-1791392400-1791403200@miracleofloveinc.org
SUMMARY:Condom Packing with Beautifull Sallings
DESCRIPTION:Assemble packages of various condoms to share with the community.
URL:https://miracleofloveinc.org/event/condom-packing-with-beautifull-sallings/2026-10-07/
LOCATION:Stafford House\, 711 Seminole Ave\, Orlando\, 32804\, United States
CATEGORIES:Community Outreach,Stafford House
ATTACH;FMTTYPE=image/jpeg:https://miracleofloveinc.org/wp-content/uploads/2024/04/DID-Condom-Packing.jpg
END:VEVENT
BEGIN:VEVENT
DTSTART;TZID=America/New_York:20261007T170000
DTEND;TZID=America/New_York:20261007T200000
DTSTAMP:20260425T061744
CREATED:20250103T204059Z
LAST-MODIFIED:20251210T123058Z
UID:10006084-1791392400-1791403200@miracleofloveinc.org
SUMMARY:Evening HIV Testing - Stafford House
DESCRIPTION:FREE HIV Testing is offered from 5:00-8:00 PM \nStafford House \n711 Seminole Ave \nOrlando FL 32804
URL:https://miracleofloveinc.org/event/evening-hiv-testing-2-2-4-2-2/2026-10-07/
LOCATION:Stafford House\, 711 Seminole Ave\, Orlando\, 32804\, United States
CATEGORIES:HIV/STI Screening,Stafford House
ATTACH;FMTTYPE=image/jpeg:https://miracleofloveinc.org/wp-content/uploads/2020/01/IMG_2916-scaled.jpg
ORGANIZER;CN="Miracle of Love":MAILTO:info@miracleofloveinc.org
END:VEVENT
BEGIN:VEVENT
DTSTART;TZID=America/New_York:20261008T170000
DTEND;TZID=America/New_York:20261008T200000
DTSTAMP:20260425T061744
CREATED:20250103T204059Z
LAST-MODIFIED:20251210T123058Z
UID:10006085-1791478800-1791489600@miracleofloveinc.org
SUMMARY:Evening HIV Testing - Stafford House
DESCRIPTION:FREE HIV Testing is offered from 5:00-8:00 PM \nStafford House \n711 Seminole Ave \nOrlando FL 32804
URL:https://miracleofloveinc.org/event/evening-hiv-testing-2-2-4-2-2/2026-10-08/
LOCATION:Stafford House\, 711 Seminole Ave\, Orlando\, 32804\, United States
CATEGORIES:HIV/STI Screening,Stafford House
ATTACH;FMTTYPE=image/jpeg:https://miracleofloveinc.org/wp-content/uploads/2020/01/IMG_2916-scaled.jpg
ORGANIZER;CN="Miracle of Love":MAILTO:info@miracleofloveinc.org
END:VEVENT
BEGIN:VEVENT
DTSTART;TZID=America/New_York:20261010T150000
DTEND;TZID=America/New_York:20261010T200000
DTSTAMP:20260425T061744
CREATED:20240427T190604Z
LAST-MODIFIED:20250330T144451Z
UID:10002668-1791644400-1791662400@miracleofloveinc.org
SUMMARY:DID Trans Support Group
DESCRIPTION:Trans Support Group \nNo registration or RSVP is required.
URL:https://miracleofloveinc.org/event/divas-in-dialogue/2026-10-10/
LOCATION:Stafford House\, 711 Seminole Ave\, Orlando\, 32804\, United States
CATEGORIES:Community Outreach,Stafford House,Support Group
ATTACH;FMTTYPE=image/jpeg:https://miracleofloveinc.org/wp-content/uploads/2021/07/DID-LOGO-crop.jpg
END:VEVENT
END:VCALENDAR