BEGIN:VCALENDAR
VERSION:2.0
PRODID:-//Miracle of Love Inc. - ECPv6.15.17//NONSGML v1.0//EN
CALSCALE:GREGORIAN
METHOD:PUBLISH
X-ORIGINAL-URL:https://miracleofloveinc.org
X-WR-CALDESC:Events for Miracle of Love Inc.
REFRESH-INTERVAL;VALUE=DURATION:PT1H
X-Robots-Tag:noindex
X-PUBLISHED-TTL:PT1H
BEGIN:VTIMEZONE
TZID:America/New_York
BEGIN:DAYLIGHT
TZOFFSETFROM:-0500
TZOFFSETTO:-0400
TZNAME:EDT
DTSTART:20260308T070000
END:DAYLIGHT
BEGIN:STANDARD
TZOFFSETFROM:-0400
TZOFFSETTO:-0500
TZNAME:EST
DTSTART:20261101T060000
END:STANDARD
BEGIN:DAYLIGHT
TZOFFSETFROM:-0500
TZOFFSETTO:-0400
TZNAME:EDT
DTSTART:20270314T070000
END:DAYLIGHT
BEGIN:STANDARD
TZOFFSETFROM:-0400
TZOFFSETTO:-0500
TZNAME:EST
DTSTART:20271107T060000
END:STANDARD
BEGIN:DAYLIGHT
TZOFFSETFROM:-0500
TZOFFSETTO:-0400
TZNAME:EDT
DTSTART:20280312T070000
END:DAYLIGHT
BEGIN:STANDARD
TZOFFSETFROM:-0400
TZOFFSETTO:-0500
TZNAME:EST
DTSTART:20281105T060000
END:STANDARD
END:VTIMEZONE
BEGIN:VEVENT
DTSTART;TZID=America/New_York:20270123T150000
DTEND;TZID=America/New_York:20270123T200000
DTSTAMP:20260425T114153
CREATED:20240427T191129Z
LAST-MODIFIED:20250330T144930Z
UID:10008504-1800716400-1800734400@miracleofloveinc.org
SUMMARY:DID Trans Support Group
DESCRIPTION:Trans Support Group \nNo registration or RSVP is required.
URL:https://miracleofloveinc.org/event/divas-in-dialogue-2/2027-01-23/
LOCATION:Stafford House\, 711 Seminole Ave\, Orlando\, 32804\, United States
CATEGORIES:Community Outreach,Stafford House,Support Group
ATTACH;FMTTYPE=image/jpeg:https://miracleofloveinc.org/wp-content/uploads/2021/07/DID-LOGO-crop.jpg
END:VEVENT
BEGIN:VEVENT
DTSTART;TZID=America/New_York:20270125T170000
DTEND;TZID=America/New_York:20270125T200000
DTSTAMP:20260425T114153
CREATED:20250103T204059Z
LAST-MODIFIED:20251210T123058Z
UID:10006158-1800896400-1800907200@miracleofloveinc.org
SUMMARY:Evening HIV Testing - Stafford House
DESCRIPTION:FREE HIV Testing is offered from 5:00-8:00 PM \nStafford House \n711 Seminole Ave \nOrlando FL 32804
URL:https://miracleofloveinc.org/event/evening-hiv-testing-2-2-4-2-2/2027-01-25/
LOCATION:Stafford House\, 711 Seminole Ave\, Orlando\, 32804\, United States
CATEGORIES:HIV/STI Screening,Stafford House
ATTACH;FMTTYPE=image/jpeg:https://miracleofloveinc.org/wp-content/uploads/2020/01/IMG_2916-scaled.jpg
ORGANIZER;CN="Miracle of Love":MAILTO:info@miracleofloveinc.org
END:VEVENT
BEGIN:VEVENT
DTSTART;TZID=America/New_York:20270126T170000
DTEND;TZID=America/New_York:20270126T200000
DTSTAMP:20260425T114153
CREATED:20250103T204059Z
LAST-MODIFIED:20251210T123058Z
UID:10006159-1800982800-1800993600@miracleofloveinc.org
SUMMARY:Evening HIV Testing - Stafford House
DESCRIPTION:FREE HIV Testing is offered from 5:00-8:00 PM \nStafford House \n711 Seminole Ave \nOrlando FL 32804
URL:https://miracleofloveinc.org/event/evening-hiv-testing-2-2-4-2-2/2027-01-26/
LOCATION:Stafford House\, 711 Seminole Ave\, Orlando\, 32804\, United States
CATEGORIES:HIV/STI Screening,Stafford House
ATTACH;FMTTYPE=image/jpeg:https://miracleofloveinc.org/wp-content/uploads/2020/01/IMG_2916-scaled.jpg
ORGANIZER;CN="Miracle of Love":MAILTO:info@miracleofloveinc.org
END:VEVENT
BEGIN:VEVENT
DTSTART;TZID=America/New_York:20270127T170000
DTEND;TZID=America/New_York:20270127T200000
DTSTAMP:20260425T114153
CREATED:20240427T203212Z
LAST-MODIFIED:20250330T150026Z
UID:10004005-1801069200-1801080000@miracleofloveinc.org
SUMMARY:Condom Packing with Beautifull Sallings
DESCRIPTION:Assemble packages of various condoms to share with the community.
URL:https://miracleofloveinc.org/event/condom-packing-with-beautifull-sallings/2027-01-27/
LOCATION:Stafford House\, 711 Seminole Ave\, Orlando\, 32804\, United States
CATEGORIES:Community Outreach,Stafford House
ATTACH;FMTTYPE=image/jpeg:https://miracleofloveinc.org/wp-content/uploads/2024/04/DID-Condom-Packing.jpg
END:VEVENT
BEGIN:VEVENT
DTSTART;TZID=America/New_York:20270127T170000
DTEND;TZID=America/New_York:20270127T200000
DTSTAMP:20260425T114153
CREATED:20250103T204059Z
LAST-MODIFIED:20251210T123058Z
UID:10006160-1801069200-1801080000@miracleofloveinc.org
SUMMARY:Evening HIV Testing - Stafford House
DESCRIPTION:FREE HIV Testing is offered from 5:00-8:00 PM \nStafford House \n711 Seminole Ave \nOrlando FL 32804
URL:https://miracleofloveinc.org/event/evening-hiv-testing-2-2-4-2-2/2027-01-27/
LOCATION:Stafford House\, 711 Seminole Ave\, Orlando\, 32804\, United States
CATEGORIES:HIV/STI Screening,Stafford House
ATTACH;FMTTYPE=image/jpeg:https://miracleofloveinc.org/wp-content/uploads/2020/01/IMG_2916-scaled.jpg
ORGANIZER;CN="Miracle of Love":MAILTO:info@miracleofloveinc.org
END:VEVENT
BEGIN:VEVENT
DTSTART;TZID=America/New_York:20270128T170000
DTEND;TZID=America/New_York:20270128T200000
DTSTAMP:20260425T114153
CREATED:20250103T204059Z
LAST-MODIFIED:20251210T123058Z
UID:10006161-1801155600-1801166400@miracleofloveinc.org
SUMMARY:Evening HIV Testing - Stafford House
DESCRIPTION:FREE HIV Testing is offered from 5:00-8:00 PM \nStafford House \n711 Seminole Ave \nOrlando FL 32804
URL:https://miracleofloveinc.org/event/evening-hiv-testing-2-2-4-2-2/2027-01-28/
LOCATION:Stafford House\, 711 Seminole Ave\, Orlando\, 32804\, United States
CATEGORIES:HIV/STI Screening,Stafford House
ATTACH;FMTTYPE=image/jpeg:https://miracleofloveinc.org/wp-content/uploads/2020/01/IMG_2916-scaled.jpg
ORGANIZER;CN="Miracle of Love":MAILTO:info@miracleofloveinc.org
END:VEVENT
BEGIN:VEVENT
DTSTART;TZID=America/New_York:20270201T170000
DTEND;TZID=America/New_York:20270201T200000
DTSTAMP:20260425T114153
CREATED:20250103T204059Z
LAST-MODIFIED:20251210T123058Z
UID:10006163-1801501200-1801512000@miracleofloveinc.org
SUMMARY:Evening HIV Testing - Stafford House
DESCRIPTION:FREE HIV Testing is offered from 5:00-8:00 PM \nStafford House \n711 Seminole Ave \nOrlando FL 32804
URL:https://miracleofloveinc.org/event/evening-hiv-testing-2-2-4-2-2/2027-02-01/
LOCATION:Stafford House\, 711 Seminole Ave\, Orlando\, 32804\, United States
CATEGORIES:HIV/STI Screening,Stafford House
ATTACH;FMTTYPE=image/jpeg:https://miracleofloveinc.org/wp-content/uploads/2020/01/IMG_2916-scaled.jpg
ORGANIZER;CN="Miracle of Love":MAILTO:info@miracleofloveinc.org
END:VEVENT
BEGIN:VEVENT
DTSTART;TZID=America/New_York:20270202T170000
DTEND;TZID=America/New_York:20270202T200000
DTSTAMP:20260425T114153
CREATED:20250103T204059Z
LAST-MODIFIED:20251210T123058Z
UID:10006164-1801587600-1801598400@miracleofloveinc.org
SUMMARY:Evening HIV Testing - Stafford House
DESCRIPTION:FREE HIV Testing is offered from 5:00-8:00 PM \nStafford House \n711 Seminole Ave \nOrlando FL 32804
URL:https://miracleofloveinc.org/event/evening-hiv-testing-2-2-4-2-2/2027-02-02/
LOCATION:Stafford House\, 711 Seminole Ave\, Orlando\, 32804\, United States
CATEGORIES:HIV/STI Screening,Stafford House
ATTACH;FMTTYPE=image/jpeg:https://miracleofloveinc.org/wp-content/uploads/2020/01/IMG_2916-scaled.jpg
ORGANIZER;CN="Miracle of Love":MAILTO:info@miracleofloveinc.org
END:VEVENT
BEGIN:VEVENT
DTSTART;TZID=America/New_York:20270203T170000
DTEND;TZID=America/New_York:20270203T200000
DTSTAMP:20260425T114153
CREATED:20240427T203212Z
LAST-MODIFIED:20250330T150026Z
UID:10004006-1801674000-1801684800@miracleofloveinc.org
SUMMARY:Condom Packing with Beautifull Sallings
DESCRIPTION:Assemble packages of various condoms to share with the community.
URL:https://miracleofloveinc.org/event/condom-packing-with-beautifull-sallings/2027-02-03/
LOCATION:Stafford House\, 711 Seminole Ave\, Orlando\, 32804\, United States
CATEGORIES:Community Outreach,Stafford House
ATTACH;FMTTYPE=image/jpeg:https://miracleofloveinc.org/wp-content/uploads/2024/04/DID-Condom-Packing.jpg
END:VEVENT
BEGIN:VEVENT
DTSTART;TZID=America/New_York:20270203T170000
DTEND;TZID=America/New_York:20270203T200000
DTSTAMP:20260425T114153
CREATED:20250103T204059Z
LAST-MODIFIED:20251210T123058Z
UID:10006165-1801674000-1801684800@miracleofloveinc.org
SUMMARY:Evening HIV Testing - Stafford House
DESCRIPTION:FREE HIV Testing is offered from 5:00-8:00 PM \nStafford House \n711 Seminole Ave \nOrlando FL 32804
URL:https://miracleofloveinc.org/event/evening-hiv-testing-2-2-4-2-2/2027-02-03/
LOCATION:Stafford House\, 711 Seminole Ave\, Orlando\, 32804\, United States
CATEGORIES:HIV/STI Screening,Stafford House
ATTACH;FMTTYPE=image/jpeg:https://miracleofloveinc.org/wp-content/uploads/2020/01/IMG_2916-scaled.jpg
ORGANIZER;CN="Miracle of Love":MAILTO:info@miracleofloveinc.org
END:VEVENT
BEGIN:VEVENT
DTSTART;TZID=America/New_York:20270204T170000
DTEND;TZID=America/New_York:20270204T200000
DTSTAMP:20260425T114153
CREATED:20250103T204059Z
LAST-MODIFIED:20251210T123058Z
UID:10006166-1801760400-1801771200@miracleofloveinc.org
SUMMARY:Evening HIV Testing - Stafford House
DESCRIPTION:FREE HIV Testing is offered from 5:00-8:00 PM \nStafford House \n711 Seminole Ave \nOrlando FL 32804
URL:https://miracleofloveinc.org/event/evening-hiv-testing-2-2-4-2-2/2027-02-04/
LOCATION:Stafford House\, 711 Seminole Ave\, Orlando\, 32804\, United States
CATEGORIES:HIV/STI Screening,Stafford House
ATTACH;FMTTYPE=image/jpeg:https://miracleofloveinc.org/wp-content/uploads/2020/01/IMG_2916-scaled.jpg
ORGANIZER;CN="Miracle of Love":MAILTO:info@miracleofloveinc.org
END:VEVENT
BEGIN:VEVENT
DTSTART;TZID=America/New_York:20270204T190000
DTEND;TZID=America/New_York:20270204T203000
DTSTAMP:20260425T114153
CREATED:20240427T193600Z
LAST-MODIFIED:20250102T163126Z
UID:10003053-1801767600-1801773000@miracleofloveinc.org
SUMMARY:Latidos
DESCRIPTION:MISIÓN\n\n\n\n\n\nLatidos ofrece apoyo a hombres Latinos de Orlando afectados por el VIH/SIDA\, brindando un espacio que ayude a desarrollar herramientas y estrategias para una vida plena\, saludable y activa. \n\n\n\n\n\n\n\n\n\n\n\n\n\n\nVISIÓN\n\n\n\n\n\nVivir en un mundo donde nadie se sienta aislado basado en su estatus del VIH/SIDA. \n\n\n\n\n\n\n\n\n\n\n\n\n\n\n\n\nVALOR\n\n\n\n\nUn espacio seguro para crear una comunidad y familia sólida\, que se apoya mutuamente.
URL:https://miracleofloveinc.org/event/latidos/2027-02-04/
LOCATION:Miracle of Love\, 1301 W Colonial Drive Suite 201\, Orlando\, FL\, 32804\, United States
CATEGORIES:Community Outreach,Stafford House,Support Group
ATTACH;FMTTYPE=image/png:https://miracleofloveinc.org/wp-content/uploads/2019/08/latidos.png
ORGANIZER;CN="Miracle of Love":MAILTO:info@miracleofloveinc.org
END:VEVENT
BEGIN:VEVENT
DTSTART;TZID=America/New_York:20270208T170000
DTEND;TZID=America/New_York:20270208T200000
DTSTAMP:20260425T114153
CREATED:20250103T204059Z
LAST-MODIFIED:20251210T123058Z
UID:10006168-1802106000-1802116800@miracleofloveinc.org
SUMMARY:Evening HIV Testing - Stafford House
DESCRIPTION:FREE HIV Testing is offered from 5:00-8:00 PM \nStafford House \n711 Seminole Ave \nOrlando FL 32804
URL:https://miracleofloveinc.org/event/evening-hiv-testing-2-2-4-2-2/2027-02-08/
LOCATION:Stafford House\, 711 Seminole Ave\, Orlando\, 32804\, United States
CATEGORIES:HIV/STI Screening,Stafford House
ATTACH;FMTTYPE=image/jpeg:https://miracleofloveinc.org/wp-content/uploads/2020/01/IMG_2916-scaled.jpg
ORGANIZER;CN="Miracle of Love":MAILTO:info@miracleofloveinc.org
END:VEVENT
BEGIN:VEVENT
DTSTART;TZID=America/New_York:20270209T170000
DTEND;TZID=America/New_York:20270209T200000
DTSTAMP:20260425T114153
CREATED:20250103T204059Z
LAST-MODIFIED:20251210T123058Z
UID:10006169-1802192400-1802203200@miracleofloveinc.org
SUMMARY:Evening HIV Testing - Stafford House
DESCRIPTION:FREE HIV Testing is offered from 5:00-8:00 PM \nStafford House \n711 Seminole Ave \nOrlando FL 32804
URL:https://miracleofloveinc.org/event/evening-hiv-testing-2-2-4-2-2/2027-02-09/
LOCATION:Stafford House\, 711 Seminole Ave\, Orlando\, 32804\, United States
CATEGORIES:HIV/STI Screening,Stafford House
ATTACH;FMTTYPE=image/jpeg:https://miracleofloveinc.org/wp-content/uploads/2020/01/IMG_2916-scaled.jpg
ORGANIZER;CN="Miracle of Love":MAILTO:info@miracleofloveinc.org
END:VEVENT
BEGIN:VEVENT
DTSTART;TZID=America/New_York:20270210T170000
DTEND;TZID=America/New_York:20270210T200000
DTSTAMP:20260425T114153
CREATED:20240427T203212Z
LAST-MODIFIED:20250330T150026Z
UID:10004007-1802278800-1802289600@miracleofloveinc.org
SUMMARY:Condom Packing with Beautifull Sallings
DESCRIPTION:Assemble packages of various condoms to share with the community.
URL:https://miracleofloveinc.org/event/condom-packing-with-beautifull-sallings/2027-02-10/
LOCATION:Stafford House\, 711 Seminole Ave\, Orlando\, 32804\, United States
CATEGORIES:Community Outreach,Stafford House
ATTACH;FMTTYPE=image/jpeg:https://miracleofloveinc.org/wp-content/uploads/2024/04/DID-Condom-Packing.jpg
END:VEVENT
BEGIN:VEVENT
DTSTART;TZID=America/New_York:20270210T170000
DTEND;TZID=America/New_York:20270210T200000
DTSTAMP:20260425T114153
CREATED:20250103T204059Z
LAST-MODIFIED:20251210T123058Z
UID:10006170-1802278800-1802289600@miracleofloveinc.org
SUMMARY:Evening HIV Testing - Stafford House
DESCRIPTION:FREE HIV Testing is offered from 5:00-8:00 PM \nStafford House \n711 Seminole Ave \nOrlando FL 32804
URL:https://miracleofloveinc.org/event/evening-hiv-testing-2-2-4-2-2/2027-02-10/
LOCATION:Stafford House\, 711 Seminole Ave\, Orlando\, 32804\, United States
CATEGORIES:HIV/STI Screening,Stafford House
ATTACH;FMTTYPE=image/jpeg:https://miracleofloveinc.org/wp-content/uploads/2020/01/IMG_2916-scaled.jpg
ORGANIZER;CN="Miracle of Love":MAILTO:info@miracleofloveinc.org
END:VEVENT
BEGIN:VEVENT
DTSTART;TZID=America/New_York:20270211T170000
DTEND;TZID=America/New_York:20270211T200000
DTSTAMP:20260425T114153
CREATED:20250103T204059Z
LAST-MODIFIED:20251210T123058Z
UID:10006171-1802365200-1802376000@miracleofloveinc.org
SUMMARY:Evening HIV Testing - Stafford House
DESCRIPTION:FREE HIV Testing is offered from 5:00-8:00 PM \nStafford House \n711 Seminole Ave \nOrlando FL 32804
URL:https://miracleofloveinc.org/event/evening-hiv-testing-2-2-4-2-2/2027-02-11/
LOCATION:Stafford House\, 711 Seminole Ave\, Orlando\, 32804\, United States
CATEGORIES:HIV/STI Screening,Stafford House
ATTACH;FMTTYPE=image/jpeg:https://miracleofloveinc.org/wp-content/uploads/2020/01/IMG_2916-scaled.jpg
ORGANIZER;CN="Miracle of Love":MAILTO:info@miracleofloveinc.org
END:VEVENT
BEGIN:VEVENT
DTSTART;TZID=America/New_York:20270213T150000
DTEND;TZID=America/New_York:20270213T200000
DTSTAMP:20260425T114153
CREATED:20240427T190604Z
LAST-MODIFIED:20250330T144451Z
UID:10002672-1802530800-1802548800@miracleofloveinc.org
SUMMARY:DID Trans Support Group
DESCRIPTION:Trans Support Group \nNo registration or RSVP is required.
URL:https://miracleofloveinc.org/event/divas-in-dialogue/2027-02-13/
LOCATION:Stafford House\, 711 Seminole Ave\, Orlando\, 32804\, United States
CATEGORIES:Community Outreach,Stafford House,Support Group
ATTACH;FMTTYPE=image/jpeg:https://miracleofloveinc.org/wp-content/uploads/2021/07/DID-LOGO-crop.jpg
END:VEVENT
BEGIN:VEVENT
DTSTART;VALUE=DATE:20270215
DTEND;VALUE=DATE:20270216
DTSTAMP:20260425T114153
CREATED:20251210T123536Z
LAST-MODIFIED:20251210T123557Z
UID:10008913-1802649600-1802735999@miracleofloveinc.org
SUMMARY:Holiday - Offices Closed
DESCRIPTION:Our offices are closed on President’s Day.
URL:https://miracleofloveinc.org/event/holiday-offices-closed-presidents/2027-02-15/
LOCATION:Miracle of Love – Executive Office\, 1301 W Colonial Dr.\, Second Floor\, Orlando\, FL\, 32804\, United States
CATEGORIES:HIV/STI Screening,Office Closed,Stafford House
ORGANIZER;CN="Miracle of Love":MAILTO:info@miracleofloveinc.org
END:VEVENT
BEGIN:VEVENT
DTSTART;TZID=America/New_York:20270216T170000
DTEND;TZID=America/New_York:20270216T200000
DTSTAMP:20260425T114153
CREATED:20250103T204059Z
LAST-MODIFIED:20251210T123058Z
UID:10006173-1802797200-1802808000@miracleofloveinc.org
SUMMARY:Evening HIV Testing - Stafford House
DESCRIPTION:FREE HIV Testing is offered from 5:00-8:00 PM \nStafford House \n711 Seminole Ave \nOrlando FL 32804
URL:https://miracleofloveinc.org/event/evening-hiv-testing-2-2-4-2-2/2027-02-16/
LOCATION:Stafford House\, 711 Seminole Ave\, Orlando\, 32804\, United States
CATEGORIES:HIV/STI Screening,Stafford House
ATTACH;FMTTYPE=image/jpeg:https://miracleofloveinc.org/wp-content/uploads/2020/01/IMG_2916-scaled.jpg
ORGANIZER;CN="Miracle of Love":MAILTO:info@miracleofloveinc.org
END:VEVENT
BEGIN:VEVENT
DTSTART;TZID=America/New_York:20270216T190000
DTEND;TZID=America/New_York:20270216T203000
DTSTAMP:20260425T114153
CREATED:20230327T132857Z
LAST-MODIFIED:20250330T145615Z
UID:10002921-1802804400-1802809800@miracleofloveinc.org
SUMMARY:Latidos
DESCRIPTION:MISIÓN\n\n\n\n\n\nLatidos ofrece apoyo a hombres Latinos de Orlando afectados por el VIH/SIDA\, brindando un espacio que ayude a desarrollar herramientas y estrategias para una vida plena\, saludable y activa. \n\n\n\n\n\n\n\n\n\n\n\n\n\n\nVISIÓN\n\n\n\n\n\nVivir en un mundo donde nadie se sienta aislado basado en su estatus del VIH/SIDA. \n\n\n\n\n\n\n\n\n\n\n\n\n\n\n\n\nVALOR\n\n\n\n\nUn espacio seguro para crear una comunidad y familia sólida\, que se apoya mutuamente.
URL:https://miracleofloveinc.org/event/latidos-3/2027-02-16/
LOCATION:Stafford House\, 711 Seminole Ave\, Orlando\, 32804\, United States
CATEGORIES:Community Outreach,Stafford House,Support Group
ATTACH;FMTTYPE=image/png:https://miracleofloveinc.org/wp-content/uploads/2019/08/latidos.png
ORGANIZER;CN="Miracle of Love":MAILTO:info@miracleofloveinc.org
END:VEVENT
BEGIN:VEVENT
DTSTART;TZID=America/New_York:20270217T170000
DTEND;TZID=America/New_York:20270217T200000
DTSTAMP:20260425T114153
CREATED:20240427T203212Z
LAST-MODIFIED:20250330T150026Z
UID:10004008-1802883600-1802894400@miracleofloveinc.org
SUMMARY:Condom Packing with Beautifull Sallings
DESCRIPTION:Assemble packages of various condoms to share with the community.
URL:https://miracleofloveinc.org/event/condom-packing-with-beautifull-sallings/2027-02-17/
LOCATION:Stafford House\, 711 Seminole Ave\, Orlando\, 32804\, United States
CATEGORIES:Community Outreach,Stafford House
ATTACH;FMTTYPE=image/jpeg:https://miracleofloveinc.org/wp-content/uploads/2024/04/DID-Condom-Packing.jpg
END:VEVENT
BEGIN:VEVENT
DTSTART;TZID=America/New_York:20270217T170000
DTEND;TZID=America/New_York:20270217T200000
DTSTAMP:20260425T114153
CREATED:20250103T204059Z
LAST-MODIFIED:20251210T123058Z
UID:10006174-1802883600-1802894400@miracleofloveinc.org
SUMMARY:Evening HIV Testing - Stafford House
DESCRIPTION:FREE HIV Testing is offered from 5:00-8:00 PM \nStafford House \n711 Seminole Ave \nOrlando FL 32804
URL:https://miracleofloveinc.org/event/evening-hiv-testing-2-2-4-2-2/2027-02-17/
LOCATION:Stafford House\, 711 Seminole Ave\, Orlando\, 32804\, United States
CATEGORIES:HIV/STI Screening,Stafford House
ATTACH;FMTTYPE=image/jpeg:https://miracleofloveinc.org/wp-content/uploads/2020/01/IMG_2916-scaled.jpg
ORGANIZER;CN="Miracle of Love":MAILTO:info@miracleofloveinc.org
END:VEVENT
BEGIN:VEVENT
DTSTART;TZID=America/New_York:20270218T170000
DTEND;TZID=America/New_York:20270218T200000
DTSTAMP:20260425T114153
CREATED:20250103T204059Z
LAST-MODIFIED:20251210T123058Z
UID:10006175-1802970000-1802980800@miracleofloveinc.org
SUMMARY:Evening HIV Testing - Stafford House
DESCRIPTION:FREE HIV Testing is offered from 5:00-8:00 PM \nStafford House \n711 Seminole Ave \nOrlando FL 32804
URL:https://miracleofloveinc.org/event/evening-hiv-testing-2-2-4-2-2/2027-02-18/
LOCATION:Stafford House\, 711 Seminole Ave\, Orlando\, 32804\, United States
CATEGORIES:HIV/STI Screening,Stafford House
ATTACH;FMTTYPE=image/jpeg:https://miracleofloveinc.org/wp-content/uploads/2020/01/IMG_2916-scaled.jpg
ORGANIZER;CN="Miracle of Love":MAILTO:info@miracleofloveinc.org
END:VEVENT
BEGIN:VEVENT
DTSTART;TZID=America/New_York:20270222T170000
DTEND;TZID=America/New_York:20270222T200000
DTSTAMP:20260425T114153
CREATED:20250103T204059Z
LAST-MODIFIED:20251210T123058Z
UID:10006177-1803315600-1803326400@miracleofloveinc.org
SUMMARY:Evening HIV Testing - Stafford House
DESCRIPTION:FREE HIV Testing is offered from 5:00-8:00 PM \nStafford House \n711 Seminole Ave \nOrlando FL 32804
URL:https://miracleofloveinc.org/event/evening-hiv-testing-2-2-4-2-2/2027-02-22/
LOCATION:Stafford House\, 711 Seminole Ave\, Orlando\, 32804\, United States
CATEGORIES:HIV/STI Screening,Stafford House
ATTACH;FMTTYPE=image/jpeg:https://miracleofloveinc.org/wp-content/uploads/2020/01/IMG_2916-scaled.jpg
ORGANIZER;CN="Miracle of Love":MAILTO:info@miracleofloveinc.org
END:VEVENT
BEGIN:VEVENT
DTSTART;TZID=America/New_York:20270223T170000
DTEND;TZID=America/New_York:20270223T200000
DTSTAMP:20260425T114153
CREATED:20250103T204059Z
LAST-MODIFIED:20251210T123058Z
UID:10006178-1803402000-1803412800@miracleofloveinc.org
SUMMARY:Evening HIV Testing - Stafford House
DESCRIPTION:FREE HIV Testing is offered from 5:00-8:00 PM \nStafford House \n711 Seminole Ave \nOrlando FL 32804
URL:https://miracleofloveinc.org/event/evening-hiv-testing-2-2-4-2-2/2027-02-23/
LOCATION:Stafford House\, 711 Seminole Ave\, Orlando\, 32804\, United States
CATEGORIES:HIV/STI Screening,Stafford House
ATTACH;FMTTYPE=image/jpeg:https://miracleofloveinc.org/wp-content/uploads/2020/01/IMG_2916-scaled.jpg
ORGANIZER;CN="Miracle of Love":MAILTO:info@miracleofloveinc.org
END:VEVENT
BEGIN:VEVENT
DTSTART;TZID=America/New_York:20270224T170000
DTEND;TZID=America/New_York:20270224T200000
DTSTAMP:20260425T114153
CREATED:20240427T203212Z
LAST-MODIFIED:20250330T150026Z
UID:10004009-1803488400-1803499200@miracleofloveinc.org
SUMMARY:Condom Packing with Beautifull Sallings
DESCRIPTION:Assemble packages of various condoms to share with the community.
URL:https://miracleofloveinc.org/event/condom-packing-with-beautifull-sallings/2027-02-24/
LOCATION:Stafford House\, 711 Seminole Ave\, Orlando\, 32804\, United States
CATEGORIES:Community Outreach,Stafford House
ATTACH;FMTTYPE=image/jpeg:https://miracleofloveinc.org/wp-content/uploads/2024/04/DID-Condom-Packing.jpg
END:VEVENT
BEGIN:VEVENT
DTSTART;TZID=America/New_York:20270224T170000
DTEND;TZID=America/New_York:20270224T200000
DTSTAMP:20260425T114153
CREATED:20250103T204059Z
LAST-MODIFIED:20251210T123058Z
UID:10006179-1803488400-1803499200@miracleofloveinc.org
SUMMARY:Evening HIV Testing - Stafford House
DESCRIPTION:FREE HIV Testing is offered from 5:00-8:00 PM \nStafford House \n711 Seminole Ave \nOrlando FL 32804
URL:https://miracleofloveinc.org/event/evening-hiv-testing-2-2-4-2-2/2027-02-24/
LOCATION:Stafford House\, 711 Seminole Ave\, Orlando\, 32804\, United States
CATEGORIES:HIV/STI Screening,Stafford House
ATTACH;FMTTYPE=image/jpeg:https://miracleofloveinc.org/wp-content/uploads/2020/01/IMG_2916-scaled.jpg
ORGANIZER;CN="Miracle of Love":MAILTO:info@miracleofloveinc.org
END:VEVENT
BEGIN:VEVENT
DTSTART;TZID=America/New_York:20270225T170000
DTEND;TZID=America/New_York:20270225T200000
DTSTAMP:20260425T114153
CREATED:20250103T204059Z
LAST-MODIFIED:20251210T123058Z
UID:10006180-1803574800-1803585600@miracleofloveinc.org
SUMMARY:Evening HIV Testing - Stafford House
DESCRIPTION:FREE HIV Testing is offered from 5:00-8:00 PM \nStafford House \n711 Seminole Ave \nOrlando FL 32804
URL:https://miracleofloveinc.org/event/evening-hiv-testing-2-2-4-2-2/2027-02-25/
LOCATION:Stafford House\, 711 Seminole Ave\, Orlando\, 32804\, United States
CATEGORIES:HIV/STI Screening,Stafford House
ATTACH;FMTTYPE=image/jpeg:https://miracleofloveinc.org/wp-content/uploads/2020/01/IMG_2916-scaled.jpg
ORGANIZER;CN="Miracle of Love":MAILTO:info@miracleofloveinc.org
END:VEVENT
BEGIN:VEVENT
DTSTART;TZID=America/New_York:20270227T150000
DTEND;TZID=America/New_York:20270227T200000
DTSTAMP:20260425T114153
CREATED:20240427T191129Z
LAST-MODIFIED:20250330T144930Z
UID:10008505-1803740400-1803758400@miracleofloveinc.org
SUMMARY:DID Trans Support Group
DESCRIPTION:Trans Support Group \nNo registration or RSVP is required.
URL:https://miracleofloveinc.org/event/divas-in-dialogue-2/2027-02-27/
LOCATION:Stafford House\, 711 Seminole Ave\, Orlando\, 32804\, United States
CATEGORIES:Community Outreach,Stafford House,Support Group
ATTACH;FMTTYPE=image/jpeg:https://miracleofloveinc.org/wp-content/uploads/2021/07/DID-LOGO-crop.jpg
END:VEVENT
END:VCALENDAR