BEGIN:VCALENDAR
VERSION:2.0
PRODID:-//Miracle of Love Inc. - ECPv6.15.17//NONSGML v1.0//EN
CALSCALE:GREGORIAN
METHOD:PUBLISH
X-WR-CALNAME:Miracle of Love Inc.
X-ORIGINAL-URL:https://miracleofloveinc.org
X-WR-CALDESC:Events for Miracle of Love Inc.
REFRESH-INTERVAL;VALUE=DURATION:PT1H
X-Robots-Tag:noindex
X-PUBLISHED-TTL:PT1H
BEGIN:VTIMEZONE
TZID:America/New_York
BEGIN:DAYLIGHT
TZOFFSETFROM:-0500
TZOFFSETTO:-0400
TZNAME:EDT
DTSTART:20250309T070000
END:DAYLIGHT
BEGIN:STANDARD
TZOFFSETFROM:-0400
TZOFFSETTO:-0500
TZNAME:EST
DTSTART:20251102T060000
END:STANDARD
BEGIN:DAYLIGHT
TZOFFSETFROM:-0500
TZOFFSETTO:-0400
TZNAME:EDT
DTSTART:20260308T070000
END:DAYLIGHT
BEGIN:STANDARD
TZOFFSETFROM:-0400
TZOFFSETTO:-0500
TZNAME:EST
DTSTART:20261101T060000
END:STANDARD
BEGIN:DAYLIGHT
TZOFFSETFROM:-0500
TZOFFSETTO:-0400
TZNAME:EDT
DTSTART:20270314T070000
END:DAYLIGHT
BEGIN:STANDARD
TZOFFSETFROM:-0400
TZOFFSETTO:-0500
TZNAME:EST
DTSTART:20271107T060000
END:STANDARD
END:VTIMEZONE
BEGIN:VEVENT
DTSTART;TZID=America/New_York:20261005T170000
DTEND;TZID=America/New_York:20261005T200000
DTSTAMP:20260425T061900
CREATED:20250103T204059Z
LAST-MODIFIED:20251210T123058Z
UID:10006082-1791219600-1791230400@miracleofloveinc.org
SUMMARY:Evening HIV Testing - Stafford House
DESCRIPTION:FREE HIV Testing is offered from 5:00-8:00 PM \nStafford House \n711 Seminole Ave \nOrlando FL 32804
URL:https://miracleofloveinc.org/event/evening-hiv-testing-2-2-4-2-2/2026-10-05/
LOCATION:Stafford House\, 711 Seminole Ave\, Orlando\, 32804\, United States
CATEGORIES:HIV/STI Screening,Stafford House
ATTACH;FMTTYPE=image/jpeg:https://miracleofloveinc.org/wp-content/uploads/2020/01/IMG_2916-scaled.jpg
ORGANIZER;CN="Miracle of Love":MAILTO:info@miracleofloveinc.org
END:VEVENT
BEGIN:VEVENT
DTSTART;TZID=America/New_York:20261006T170000
DTEND;TZID=America/New_York:20261006T200000
DTSTAMP:20260425T061900
CREATED:20250103T204059Z
LAST-MODIFIED:20251210T123058Z
UID:10006083-1791306000-1791316800@miracleofloveinc.org
SUMMARY:Evening HIV Testing - Stafford House
DESCRIPTION:FREE HIV Testing is offered from 5:00-8:00 PM \nStafford House \n711 Seminole Ave \nOrlando FL 32804
URL:https://miracleofloveinc.org/event/evening-hiv-testing-2-2-4-2-2/2026-10-06/
LOCATION:Stafford House\, 711 Seminole Ave\, Orlando\, 32804\, United States
CATEGORIES:HIV/STI Screening,Stafford House
ATTACH;FMTTYPE=image/jpeg:https://miracleofloveinc.org/wp-content/uploads/2020/01/IMG_2916-scaled.jpg
ORGANIZER;CN="Miracle of Love":MAILTO:info@miracleofloveinc.org
END:VEVENT
BEGIN:VEVENT
DTSTART;TZID=America/New_York:20261007T170000
DTEND;TZID=America/New_York:20261007T200000
DTSTAMP:20260425T061900
CREATED:20240427T203212Z
LAST-MODIFIED:20250330T150026Z
UID:10003989-1791392400-1791403200@miracleofloveinc.org
SUMMARY:Condom Packing with Beautifull Sallings
DESCRIPTION:Assemble packages of various condoms to share with the community.
URL:https://miracleofloveinc.org/event/condom-packing-with-beautifull-sallings/2026-10-07/
LOCATION:Stafford House\, 711 Seminole Ave\, Orlando\, 32804\, United States
CATEGORIES:Community Outreach,Stafford House
ATTACH;FMTTYPE=image/jpeg:https://miracleofloveinc.org/wp-content/uploads/2024/04/DID-Condom-Packing.jpg
END:VEVENT
BEGIN:VEVENT
DTSTART;TZID=America/New_York:20261007T170000
DTEND;TZID=America/New_York:20261007T200000
DTSTAMP:20260425T061900
CREATED:20250103T204059Z
LAST-MODIFIED:20251210T123058Z
UID:10006084-1791392400-1791403200@miracleofloveinc.org
SUMMARY:Evening HIV Testing - Stafford House
DESCRIPTION:FREE HIV Testing is offered from 5:00-8:00 PM \nStafford House \n711 Seminole Ave \nOrlando FL 32804
URL:https://miracleofloveinc.org/event/evening-hiv-testing-2-2-4-2-2/2026-10-07/
LOCATION:Stafford House\, 711 Seminole Ave\, Orlando\, 32804\, United States
CATEGORIES:HIV/STI Screening,Stafford House
ATTACH;FMTTYPE=image/jpeg:https://miracleofloveinc.org/wp-content/uploads/2020/01/IMG_2916-scaled.jpg
ORGANIZER;CN="Miracle of Love":MAILTO:info@miracleofloveinc.org
END:VEVENT
BEGIN:VEVENT
DTSTART;TZID=America/New_York:20261008T170000
DTEND;TZID=America/New_York:20261008T200000
DTSTAMP:20260425T061900
CREATED:20250103T204059Z
LAST-MODIFIED:20251210T123058Z
UID:10006085-1791478800-1791489600@miracleofloveinc.org
SUMMARY:Evening HIV Testing - Stafford House
DESCRIPTION:FREE HIV Testing is offered from 5:00-8:00 PM \nStafford House \n711 Seminole Ave \nOrlando FL 32804
URL:https://miracleofloveinc.org/event/evening-hiv-testing-2-2-4-2-2/2026-10-08/
LOCATION:Stafford House\, 711 Seminole Ave\, Orlando\, 32804\, United States
CATEGORIES:HIV/STI Screening,Stafford House
ATTACH;FMTTYPE=image/jpeg:https://miracleofloveinc.org/wp-content/uploads/2020/01/IMG_2916-scaled.jpg
ORGANIZER;CN="Miracle of Love":MAILTO:info@miracleofloveinc.org
END:VEVENT
BEGIN:VEVENT
DTSTART;TZID=America/New_York:20261010T150000
DTEND;TZID=America/New_York:20261010T200000
DTSTAMP:20260425T061900
CREATED:20240427T190604Z
LAST-MODIFIED:20250330T144451Z
UID:10002668-1791644400-1791662400@miracleofloveinc.org
SUMMARY:DID Trans Support Group
DESCRIPTION:Trans Support Group \nNo registration or RSVP is required.
URL:https://miracleofloveinc.org/event/divas-in-dialogue/2026-10-10/
LOCATION:Stafford House\, 711 Seminole Ave\, Orlando\, 32804\, United States
CATEGORIES:Community Outreach,Stafford House,Support Group
ATTACH;FMTTYPE=image/jpeg:https://miracleofloveinc.org/wp-content/uploads/2021/07/DID-LOGO-crop.jpg
END:VEVENT
BEGIN:VEVENT
DTSTART;TZID=America/New_York:20261012T170000
DTEND;TZID=America/New_York:20261012T200000
DTSTAMP:20260425T061900
CREATED:20250103T204059Z
LAST-MODIFIED:20251210T123058Z
UID:10006087-1791824400-1791835200@miracleofloveinc.org
SUMMARY:Evening HIV Testing - Stafford House
DESCRIPTION:FREE HIV Testing is offered from 5:00-8:00 PM \nStafford House \n711 Seminole Ave \nOrlando FL 32804
URL:https://miracleofloveinc.org/event/evening-hiv-testing-2-2-4-2-2/2026-10-12/
LOCATION:Stafford House\, 711 Seminole Ave\, Orlando\, 32804\, United States
CATEGORIES:HIV/STI Screening,Stafford House
ATTACH;FMTTYPE=image/jpeg:https://miracleofloveinc.org/wp-content/uploads/2020/01/IMG_2916-scaled.jpg
ORGANIZER;CN="Miracle of Love":MAILTO:info@miracleofloveinc.org
END:VEVENT
BEGIN:VEVENT
DTSTART;TZID=America/New_York:20261013T170000
DTEND;TZID=America/New_York:20261013T200000
DTSTAMP:20260425T061900
CREATED:20250103T204059Z
LAST-MODIFIED:20251210T123058Z
UID:10006088-1791910800-1791921600@miracleofloveinc.org
SUMMARY:Evening HIV Testing - Stafford House
DESCRIPTION:FREE HIV Testing is offered from 5:00-8:00 PM \nStafford House \n711 Seminole Ave \nOrlando FL 32804
URL:https://miracleofloveinc.org/event/evening-hiv-testing-2-2-4-2-2/2026-10-13/
LOCATION:Stafford House\, 711 Seminole Ave\, Orlando\, 32804\, United States
CATEGORIES:HIV/STI Screening,Stafford House
ATTACH;FMTTYPE=image/jpeg:https://miracleofloveinc.org/wp-content/uploads/2020/01/IMG_2916-scaled.jpg
ORGANIZER;CN="Miracle of Love":MAILTO:info@miracleofloveinc.org
END:VEVENT
BEGIN:VEVENT
DTSTART;TZID=America/New_York:20261014T170000
DTEND;TZID=America/New_York:20261014T200000
DTSTAMP:20260425T061900
CREATED:20240427T203212Z
LAST-MODIFIED:20250330T150026Z
UID:10003990-1791997200-1792008000@miracleofloveinc.org
SUMMARY:Condom Packing with Beautifull Sallings
DESCRIPTION:Assemble packages of various condoms to share with the community.
URL:https://miracleofloveinc.org/event/condom-packing-with-beautifull-sallings/2026-10-14/
LOCATION:Stafford House\, 711 Seminole Ave\, Orlando\, 32804\, United States
CATEGORIES:Community Outreach,Stafford House
ATTACH;FMTTYPE=image/jpeg:https://miracleofloveinc.org/wp-content/uploads/2024/04/DID-Condom-Packing.jpg
END:VEVENT
BEGIN:VEVENT
DTSTART;TZID=America/New_York:20261014T170000
DTEND;TZID=America/New_York:20261014T200000
DTSTAMP:20260425T061900
CREATED:20250103T204059Z
LAST-MODIFIED:20251210T123058Z
UID:10006089-1791997200-1792008000@miracleofloveinc.org
SUMMARY:Evening HIV Testing - Stafford House
DESCRIPTION:FREE HIV Testing is offered from 5:00-8:00 PM \nStafford House \n711 Seminole Ave \nOrlando FL 32804
URL:https://miracleofloveinc.org/event/evening-hiv-testing-2-2-4-2-2/2026-10-14/
LOCATION:Stafford House\, 711 Seminole Ave\, Orlando\, 32804\, United States
CATEGORIES:HIV/STI Screening,Stafford House
ATTACH;FMTTYPE=image/jpeg:https://miracleofloveinc.org/wp-content/uploads/2020/01/IMG_2916-scaled.jpg
ORGANIZER;CN="Miracle of Love":MAILTO:info@miracleofloveinc.org
END:VEVENT
BEGIN:VEVENT
DTSTART;TZID=America/New_York:20261015T170000
DTEND;TZID=America/New_York:20261015T200000
DTSTAMP:20260425T061900
CREATED:20250103T204059Z
LAST-MODIFIED:20251210T123058Z
UID:10006090-1792083600-1792094400@miracleofloveinc.org
SUMMARY:Evening HIV Testing - Stafford House
DESCRIPTION:FREE HIV Testing is offered from 5:00-8:00 PM \nStafford House \n711 Seminole Ave \nOrlando FL 32804
URL:https://miracleofloveinc.org/event/evening-hiv-testing-2-2-4-2-2/2026-10-15/
LOCATION:Stafford House\, 711 Seminole Ave\, Orlando\, 32804\, United States
CATEGORIES:HIV/STI Screening,Stafford House
ATTACH;FMTTYPE=image/jpeg:https://miracleofloveinc.org/wp-content/uploads/2020/01/IMG_2916-scaled.jpg
ORGANIZER;CN="Miracle of Love":MAILTO:info@miracleofloveinc.org
END:VEVENT
BEGIN:VEVENT
DTSTART;TZID=America/New_York:20261019T170000
DTEND;TZID=America/New_York:20261019T200000
DTSTAMP:20260425T061900
CREATED:20250103T204059Z
LAST-MODIFIED:20251210T123058Z
UID:10006092-1792429200-1792440000@miracleofloveinc.org
SUMMARY:Evening HIV Testing - Stafford House
DESCRIPTION:FREE HIV Testing is offered from 5:00-8:00 PM \nStafford House \n711 Seminole Ave \nOrlando FL 32804
URL:https://miracleofloveinc.org/event/evening-hiv-testing-2-2-4-2-2/2026-10-19/
LOCATION:Stafford House\, 711 Seminole Ave\, Orlando\, 32804\, United States
CATEGORIES:HIV/STI Screening,Stafford House
ATTACH;FMTTYPE=image/jpeg:https://miracleofloveinc.org/wp-content/uploads/2020/01/IMG_2916-scaled.jpg
ORGANIZER;CN="Miracle of Love":MAILTO:info@miracleofloveinc.org
END:VEVENT
BEGIN:VEVENT
DTSTART;TZID=America/New_York:20261020T170000
DTEND;TZID=America/New_York:20261020T200000
DTSTAMP:20260425T061900
CREATED:20250103T204059Z
LAST-MODIFIED:20251210T123058Z
UID:10006093-1792515600-1792526400@miracleofloveinc.org
SUMMARY:Evening HIV Testing - Stafford House
DESCRIPTION:FREE HIV Testing is offered from 5:00-8:00 PM \nStafford House \n711 Seminole Ave \nOrlando FL 32804
URL:https://miracleofloveinc.org/event/evening-hiv-testing-2-2-4-2-2/2026-10-20/
LOCATION:Stafford House\, 711 Seminole Ave\, Orlando\, 32804\, United States
CATEGORIES:HIV/STI Screening,Stafford House
ATTACH;FMTTYPE=image/jpeg:https://miracleofloveinc.org/wp-content/uploads/2020/01/IMG_2916-scaled.jpg
ORGANIZER;CN="Miracle of Love":MAILTO:info@miracleofloveinc.org
END:VEVENT
BEGIN:VEVENT
DTSTART;TZID=America/New_York:20261020T190000
DTEND;TZID=America/New_York:20261020T203000
DTSTAMP:20260425T061900
CREATED:20230327T132857Z
LAST-MODIFIED:20250330T145615Z
UID:10002917-1792522800-1792528200@miracleofloveinc.org
SUMMARY:Latidos
DESCRIPTION:MISIÓN\n\n\n\n\n\nLatidos ofrece apoyo a hombres Latinos de Orlando afectados por el VIH/SIDA\, brindando un espacio que ayude a desarrollar herramientas y estrategias para una vida plena\, saludable y activa. \n\n\n\n\n\n\n\n\n\n\n\n\n\n\nVISIÓN\n\n\n\n\n\nVivir en un mundo donde nadie se sienta aislado basado en su estatus del VIH/SIDA. \n\n\n\n\n\n\n\n\n\n\n\n\n\n\n\n\nVALOR\n\n\n\n\nUn espacio seguro para crear una comunidad y familia sólida\, que se apoya mutuamente.
URL:https://miracleofloveinc.org/event/latidos-3/2026-10-20/
LOCATION:Stafford House\, 711 Seminole Ave\, Orlando\, 32804\, United States
CATEGORIES:Community Outreach,Stafford House,Support Group
ATTACH;FMTTYPE=image/png:https://miracleofloveinc.org/wp-content/uploads/2019/08/latidos.png
ORGANIZER;CN="Miracle of Love":MAILTO:info@miracleofloveinc.org
END:VEVENT
BEGIN:VEVENT
DTSTART;TZID=America/New_York:20261021T170000
DTEND;TZID=America/New_York:20261021T200000
DTSTAMP:20260425T061900
CREATED:20240427T203212Z
LAST-MODIFIED:20250330T150026Z
UID:10003991-1792602000-1792612800@miracleofloveinc.org
SUMMARY:Condom Packing with Beautifull Sallings
DESCRIPTION:Assemble packages of various condoms to share with the community.
URL:https://miracleofloveinc.org/event/condom-packing-with-beautifull-sallings/2026-10-21/
LOCATION:Stafford House\, 711 Seminole Ave\, Orlando\, 32804\, United States
CATEGORIES:Community Outreach,Stafford House
ATTACH;FMTTYPE=image/jpeg:https://miracleofloveinc.org/wp-content/uploads/2024/04/DID-Condom-Packing.jpg
END:VEVENT
BEGIN:VEVENT
DTSTART;TZID=America/New_York:20261021T170000
DTEND;TZID=America/New_York:20261021T200000
DTSTAMP:20260425T061900
CREATED:20250103T204059Z
LAST-MODIFIED:20251210T123058Z
UID:10006094-1792602000-1792612800@miracleofloveinc.org
SUMMARY:Evening HIV Testing - Stafford House
DESCRIPTION:FREE HIV Testing is offered from 5:00-8:00 PM \nStafford House \n711 Seminole Ave \nOrlando FL 32804
URL:https://miracleofloveinc.org/event/evening-hiv-testing-2-2-4-2-2/2026-10-21/
LOCATION:Stafford House\, 711 Seminole Ave\, Orlando\, 32804\, United States
CATEGORIES:HIV/STI Screening,Stafford House
ATTACH;FMTTYPE=image/jpeg:https://miracleofloveinc.org/wp-content/uploads/2020/01/IMG_2916-scaled.jpg
ORGANIZER;CN="Miracle of Love":MAILTO:info@miracleofloveinc.org
END:VEVENT
BEGIN:VEVENT
DTSTART;TZID=America/New_York:20261022T170000
DTEND;TZID=America/New_York:20261022T200000
DTSTAMP:20260425T061900
CREATED:20250103T204059Z
LAST-MODIFIED:20251210T123058Z
UID:10006095-1792688400-1792699200@miracleofloveinc.org
SUMMARY:Evening HIV Testing - Stafford House
DESCRIPTION:FREE HIV Testing is offered from 5:00-8:00 PM \nStafford House \n711 Seminole Ave \nOrlando FL 32804
URL:https://miracleofloveinc.org/event/evening-hiv-testing-2-2-4-2-2/2026-10-22/
LOCATION:Stafford House\, 711 Seminole Ave\, Orlando\, 32804\, United States
CATEGORIES:HIV/STI Screening,Stafford House
ATTACH;FMTTYPE=image/jpeg:https://miracleofloveinc.org/wp-content/uploads/2020/01/IMG_2916-scaled.jpg
ORGANIZER;CN="Miracle of Love":MAILTO:info@miracleofloveinc.org
END:VEVENT
BEGIN:VEVENT
DTSTART;TZID=America/New_York:20261024T150000
DTEND;TZID=America/New_York:20261024T200000
DTSTAMP:20260425T061900
CREATED:20240427T191129Z
LAST-MODIFIED:20250330T144930Z
UID:10008502-1792854000-1792872000@miracleofloveinc.org
SUMMARY:DID Trans Support Group
DESCRIPTION:Trans Support Group \nNo registration or RSVP is required.
URL:https://miracleofloveinc.org/event/divas-in-dialogue-2/2026-10-24/
LOCATION:Stafford House\, 711 Seminole Ave\, Orlando\, 32804\, United States
CATEGORIES:Community Outreach,Stafford House,Support Group
ATTACH;FMTTYPE=image/jpeg:https://miracleofloveinc.org/wp-content/uploads/2021/07/DID-LOGO-crop.jpg
END:VEVENT
BEGIN:VEVENT
DTSTART;TZID=America/New_York:20261026T170000
DTEND;TZID=America/New_York:20261026T200000
DTSTAMP:20260425T061900
CREATED:20250103T204059Z
LAST-MODIFIED:20251210T123058Z
UID:10006097-1793034000-1793044800@miracleofloveinc.org
SUMMARY:Evening HIV Testing - Stafford House
DESCRIPTION:FREE HIV Testing is offered from 5:00-8:00 PM \nStafford House \n711 Seminole Ave \nOrlando FL 32804
URL:https://miracleofloveinc.org/event/evening-hiv-testing-2-2-4-2-2/2026-10-26/
LOCATION:Stafford House\, 711 Seminole Ave\, Orlando\, 32804\, United States
CATEGORIES:HIV/STI Screening,Stafford House
ATTACH;FMTTYPE=image/jpeg:https://miracleofloveinc.org/wp-content/uploads/2020/01/IMG_2916-scaled.jpg
ORGANIZER;CN="Miracle of Love":MAILTO:info@miracleofloveinc.org
END:VEVENT
BEGIN:VEVENT
DTSTART;TZID=America/New_York:20261027T170000
DTEND;TZID=America/New_York:20261027T200000
DTSTAMP:20260425T061900
CREATED:20250103T204059Z
LAST-MODIFIED:20251210T123058Z
UID:10006098-1793120400-1793131200@miracleofloveinc.org
SUMMARY:Evening HIV Testing - Stafford House
DESCRIPTION:FREE HIV Testing is offered from 5:00-8:00 PM \nStafford House \n711 Seminole Ave \nOrlando FL 32804
URL:https://miracleofloveinc.org/event/evening-hiv-testing-2-2-4-2-2/2026-10-27/
LOCATION:Stafford House\, 711 Seminole Ave\, Orlando\, 32804\, United States
CATEGORIES:HIV/STI Screening,Stafford House
ATTACH;FMTTYPE=image/jpeg:https://miracleofloveinc.org/wp-content/uploads/2020/01/IMG_2916-scaled.jpg
ORGANIZER;CN="Miracle of Love":MAILTO:info@miracleofloveinc.org
END:VEVENT
BEGIN:VEVENT
DTSTART;TZID=America/New_York:20261028T170000
DTEND;TZID=America/New_York:20261028T200000
DTSTAMP:20260425T061900
CREATED:20240427T203212Z
LAST-MODIFIED:20250330T150026Z
UID:10003992-1793206800-1793217600@miracleofloveinc.org
SUMMARY:Condom Packing with Beautifull Sallings
DESCRIPTION:Assemble packages of various condoms to share with the community.
URL:https://miracleofloveinc.org/event/condom-packing-with-beautifull-sallings/2026-10-28/
LOCATION:Stafford House\, 711 Seminole Ave\, Orlando\, 32804\, United States
CATEGORIES:Community Outreach,Stafford House
ATTACH;FMTTYPE=image/jpeg:https://miracleofloveinc.org/wp-content/uploads/2024/04/DID-Condom-Packing.jpg
END:VEVENT
BEGIN:VEVENT
DTSTART;TZID=America/New_York:20261028T170000
DTEND;TZID=America/New_York:20261028T200000
DTSTAMP:20260425T061900
CREATED:20250103T204059Z
LAST-MODIFIED:20251210T123058Z
UID:10006099-1793206800-1793217600@miracleofloveinc.org
SUMMARY:Evening HIV Testing - Stafford House
DESCRIPTION:FREE HIV Testing is offered from 5:00-8:00 PM \nStafford House \n711 Seminole Ave \nOrlando FL 32804
URL:https://miracleofloveinc.org/event/evening-hiv-testing-2-2-4-2-2/2026-10-28/
LOCATION:Stafford House\, 711 Seminole Ave\, Orlando\, 32804\, United States
CATEGORIES:HIV/STI Screening,Stafford House
ATTACH;FMTTYPE=image/jpeg:https://miracleofloveinc.org/wp-content/uploads/2020/01/IMG_2916-scaled.jpg
ORGANIZER;CN="Miracle of Love":MAILTO:info@miracleofloveinc.org
END:VEVENT
BEGIN:VEVENT
DTSTART;TZID=America/New_York:20261029T170000
DTEND;TZID=America/New_York:20261029T200000
DTSTAMP:20260425T061900
CREATED:20250103T204059Z
LAST-MODIFIED:20251210T123058Z
UID:10006100-1793293200-1793304000@miracleofloveinc.org
SUMMARY:Evening HIV Testing - Stafford House
DESCRIPTION:FREE HIV Testing is offered from 5:00-8:00 PM \nStafford House \n711 Seminole Ave \nOrlando FL 32804
URL:https://miracleofloveinc.org/event/evening-hiv-testing-2-2-4-2-2/2026-10-29/
LOCATION:Stafford House\, 711 Seminole Ave\, Orlando\, 32804\, United States
CATEGORIES:HIV/STI Screening,Stafford House
ATTACH;FMTTYPE=image/jpeg:https://miracleofloveinc.org/wp-content/uploads/2020/01/IMG_2916-scaled.jpg
ORGANIZER;CN="Miracle of Love":MAILTO:info@miracleofloveinc.org
END:VEVENT
BEGIN:VEVENT
DTSTART;TZID=America/New_York:20261102T170000
DTEND;TZID=America/New_York:20261102T200000
DTSTAMP:20260425T061900
CREATED:20250103T204059Z
LAST-MODIFIED:20251210T123058Z
UID:10006102-1793638800-1793649600@miracleofloveinc.org
SUMMARY:Evening HIV Testing - Stafford House
DESCRIPTION:FREE HIV Testing is offered from 5:00-8:00 PM \nStafford House \n711 Seminole Ave \nOrlando FL 32804
URL:https://miracleofloveinc.org/event/evening-hiv-testing-2-2-4-2-2/2026-11-02/
LOCATION:Stafford House\, 711 Seminole Ave\, Orlando\, 32804\, United States
CATEGORIES:HIV/STI Screening,Stafford House
ATTACH;FMTTYPE=image/jpeg:https://miracleofloveinc.org/wp-content/uploads/2020/01/IMG_2916-scaled.jpg
ORGANIZER;CN="Miracle of Love":MAILTO:info@miracleofloveinc.org
END:VEVENT
BEGIN:VEVENT
DTSTART;TZID=America/New_York:20261103T170000
DTEND;TZID=America/New_York:20261103T200000
DTSTAMP:20260425T061900
CREATED:20250103T204059Z
LAST-MODIFIED:20251210T123058Z
UID:10006103-1793725200-1793736000@miracleofloveinc.org
SUMMARY:Evening HIV Testing - Stafford House
DESCRIPTION:FREE HIV Testing is offered from 5:00-8:00 PM \nStafford House \n711 Seminole Ave \nOrlando FL 32804
URL:https://miracleofloveinc.org/event/evening-hiv-testing-2-2-4-2-2/2026-11-03/
LOCATION:Stafford House\, 711 Seminole Ave\, Orlando\, 32804\, United States
CATEGORIES:HIV/STI Screening,Stafford House
ATTACH;FMTTYPE=image/jpeg:https://miracleofloveinc.org/wp-content/uploads/2020/01/IMG_2916-scaled.jpg
ORGANIZER;CN="Miracle of Love":MAILTO:info@miracleofloveinc.org
END:VEVENT
BEGIN:VEVENT
DTSTART;TZID=America/New_York:20261104T170000
DTEND;TZID=America/New_York:20261104T200000
DTSTAMP:20260425T061900
CREATED:20240427T203212Z
LAST-MODIFIED:20250330T150026Z
UID:10003993-1793811600-1793822400@miracleofloveinc.org
SUMMARY:Condom Packing with Beautifull Sallings
DESCRIPTION:Assemble packages of various condoms to share with the community.
URL:https://miracleofloveinc.org/event/condom-packing-with-beautifull-sallings/2026-11-04/
LOCATION:Stafford House\, 711 Seminole Ave\, Orlando\, 32804\, United States
CATEGORIES:Community Outreach,Stafford House
ATTACH;FMTTYPE=image/jpeg:https://miracleofloveinc.org/wp-content/uploads/2024/04/DID-Condom-Packing.jpg
END:VEVENT
BEGIN:VEVENT
DTSTART;TZID=America/New_York:20261104T170000
DTEND;TZID=America/New_York:20261104T200000
DTSTAMP:20260425T061900
CREATED:20250103T204059Z
LAST-MODIFIED:20251210T123058Z
UID:10006104-1793811600-1793822400@miracleofloveinc.org
SUMMARY:Evening HIV Testing - Stafford House
DESCRIPTION:FREE HIV Testing is offered from 5:00-8:00 PM \nStafford House \n711 Seminole Ave \nOrlando FL 32804
URL:https://miracleofloveinc.org/event/evening-hiv-testing-2-2-4-2-2/2026-11-04/
LOCATION:Stafford House\, 711 Seminole Ave\, Orlando\, 32804\, United States
CATEGORIES:HIV/STI Screening,Stafford House
ATTACH;FMTTYPE=image/jpeg:https://miracleofloveinc.org/wp-content/uploads/2020/01/IMG_2916-scaled.jpg
ORGANIZER;CN="Miracle of Love":MAILTO:info@miracleofloveinc.org
END:VEVENT
BEGIN:VEVENT
DTSTART;TZID=America/New_York:20261105T170000
DTEND;TZID=America/New_York:20261105T200000
DTSTAMP:20260425T061900
CREATED:20250103T204059Z
LAST-MODIFIED:20251210T123058Z
UID:10006105-1793898000-1793908800@miracleofloveinc.org
SUMMARY:Evening HIV Testing - Stafford House
DESCRIPTION:FREE HIV Testing is offered from 5:00-8:00 PM \nStafford House \n711 Seminole Ave \nOrlando FL 32804
URL:https://miracleofloveinc.org/event/evening-hiv-testing-2-2-4-2-2/2026-11-05/
LOCATION:Stafford House\, 711 Seminole Ave\, Orlando\, 32804\, United States
CATEGORIES:HIV/STI Screening,Stafford House
ATTACH;FMTTYPE=image/jpeg:https://miracleofloveinc.org/wp-content/uploads/2020/01/IMG_2916-scaled.jpg
ORGANIZER;CN="Miracle of Love":MAILTO:info@miracleofloveinc.org
END:VEVENT
BEGIN:VEVENT
DTSTART;TZID=America/New_York:20261105T190000
DTEND;TZID=America/New_York:20261105T203000
DTSTAMP:20260425T061900
CREATED:20240427T193600Z
LAST-MODIFIED:20250102T163126Z
UID:10003050-1793905200-1793910600@miracleofloveinc.org
SUMMARY:Latidos
DESCRIPTION:MISIÓN\n\n\n\n\n\nLatidos ofrece apoyo a hombres Latinos de Orlando afectados por el VIH/SIDA\, brindando un espacio que ayude a desarrollar herramientas y estrategias para una vida plena\, saludable y activa. \n\n\n\n\n\n\n\n\n\n\n\n\n\n\nVISIÓN\n\n\n\n\n\nVivir en un mundo donde nadie se sienta aislado basado en su estatus del VIH/SIDA. \n\n\n\n\n\n\n\n\n\n\n\n\n\n\n\n\nVALOR\n\n\n\n\nUn espacio seguro para crear una comunidad y familia sólida\, que se apoya mutuamente.
URL:https://miracleofloveinc.org/event/latidos/2026-11-05/
LOCATION:Miracle of Love\, 1301 W Colonial Drive Suite 201\, Orlando\, FL\, 32804\, United States
CATEGORIES:Community Outreach,Stafford House,Support Group
ATTACH;FMTTYPE=image/png:https://miracleofloveinc.org/wp-content/uploads/2019/08/latidos.png
ORGANIZER;CN="Miracle of Love":MAILTO:info@miracleofloveinc.org
END:VEVENT
BEGIN:VEVENT
DTSTART;TZID=America/New_York:20261109T170000
DTEND;TZID=America/New_York:20261109T200000
DTSTAMP:20260425T061900
CREATED:20250103T204059Z
LAST-MODIFIED:20251210T123058Z
UID:10006107-1794243600-1794254400@miracleofloveinc.org
SUMMARY:Evening HIV Testing - Stafford House
DESCRIPTION:FREE HIV Testing is offered from 5:00-8:00 PM \nStafford House \n711 Seminole Ave \nOrlando FL 32804
URL:https://miracleofloveinc.org/event/evening-hiv-testing-2-2-4-2-2/2026-11-09/
LOCATION:Stafford House\, 711 Seminole Ave\, Orlando\, 32804\, United States
CATEGORIES:HIV/STI Screening,Stafford House
ATTACH;FMTTYPE=image/jpeg:https://miracleofloveinc.org/wp-content/uploads/2020/01/IMG_2916-scaled.jpg
ORGANIZER;CN="Miracle of Love":MAILTO:info@miracleofloveinc.org
END:VEVENT
END:VCALENDAR