BEGIN:VCALENDAR
VERSION:2.0
PRODID:-//Miracle of Love Inc. - ECPv6.15.17//NONSGML v1.0//EN
CALSCALE:GREGORIAN
METHOD:PUBLISH
X-ORIGINAL-URL:https://miracleofloveinc.org
X-WR-CALDESC:Events for Miracle of Love Inc.
REFRESH-INTERVAL;VALUE=DURATION:PT1H
X-Robots-Tag:noindex
X-PUBLISHED-TTL:PT1H
BEGIN:VTIMEZONE
TZID:America/New_York
BEGIN:DAYLIGHT
TZOFFSETFROM:-0500
TZOFFSETTO:-0400
TZNAME:EDT
DTSTART:20270314T070000
END:DAYLIGHT
BEGIN:STANDARD
TZOFFSETFROM:-0400
TZOFFSETTO:-0500
TZNAME:EST
DTSTART:20271107T060000
END:STANDARD
BEGIN:DAYLIGHT
TZOFFSETFROM:-0500
TZOFFSETTO:-0400
TZNAME:EDT
DTSTART:20280312T070000
END:DAYLIGHT
BEGIN:STANDARD
TZOFFSETFROM:-0400
TZOFFSETTO:-0500
TZNAME:EST
DTSTART:20281105T060000
END:STANDARD
BEGIN:DAYLIGHT
TZOFFSETFROM:-0500
TZOFFSETTO:-0400
TZNAME:EDT
DTSTART:20290311T070000
END:DAYLIGHT
BEGIN:STANDARD
TZOFFSETFROM:-0400
TZOFFSETTO:-0500
TZNAME:EST
DTSTART:20291104T060000
END:STANDARD
BEGIN:DAYLIGHT
TZOFFSETFROM:-0500
TZOFFSETTO:-0400
TZNAME:EDT
DTSTART:20300310T070000
END:DAYLIGHT
BEGIN:STANDARD
TZOFFSETFROM:-0400
TZOFFSETTO:-0500
TZNAME:EST
DTSTART:20301103T060000
END:STANDARD
BEGIN:DAYLIGHT
TZOFFSETFROM:-0500
TZOFFSETTO:-0400
TZNAME:EDT
DTSTART:20310309T070000
END:DAYLIGHT
BEGIN:STANDARD
TZOFFSETFROM:-0400
TZOFFSETTO:-0500
TZNAME:EST
DTSTART:20311102T060000
END:STANDARD
END:VTIMEZONE
BEGIN:VEVENT
DTSTART;VALUE=DATE:20281123
DTEND;VALUE=DATE:20281125
DTSTAMP:20260425T074338
CREATED:20251210T125843Z
LAST-MODIFIED:20251210T125904Z
UID:10008945-1858550400-1858723199@miracleofloveinc.org
SUMMARY:Holiday - Offices Closed
DESCRIPTION:Our offices are closed on Thanksgiving Day and the day after.
URL:https://miracleofloveinc.org/event/holiday-offices-closed-thanksgiving/2028-11-23/
LOCATION:Miracle of Love – Executive Office\, 1301 W Colonial Dr.\, Second Floor\, Orlando\, FL\, 32804\, United States
CATEGORIES:HIV/STI Screening,Office Closed,Stafford House
ORGANIZER;CN="Miracle of Love":MAILTO:info@miracleofloveinc.org
END:VEVENT
BEGIN:VEVENT
DTSTART;VALUE=DATE:20290101
DTEND;VALUE=DATE:20290102
DTSTAMP:20260425T074338
CREATED:20251210T121913Z
LAST-MODIFIED:20251210T122030Z
UID:10008901-1861920000-1862006399@miracleofloveinc.org
SUMMARY:Holiday - Offices Closed
DESCRIPTION:Our offices are closed on New Year’s Day (or observed)
URL:https://miracleofloveinc.org/event/holiday-offices-closed-nyd/2029-01-01/
LOCATION:Miracle of Love – Executive Office\, 1301 W Colonial Dr.\, Second Floor\, Orlando\, FL\, 32804\, United States
CATEGORIES:HIV/STI Screening,Office Closed,Stafford House
ORGANIZER;CN="Miracle of Love":MAILTO:info@miracleofloveinc.org
END:VEVENT
BEGIN:VEVENT
DTSTART;VALUE=DATE:20290115
DTEND;VALUE=DATE:20290116
DTSTAMP:20260425T074338
CREATED:20240929T205316Z
LAST-MODIFIED:20251210T121203Z
UID:10005640-1863129600-1863215999@miracleofloveinc.org
SUMMARY:Holiday - Offices Closed
DESCRIPTION:Our offices are closed for Martin Luther King Jr. day.
URL:https://miracleofloveinc.org/event/mlkjr-day-2025/2029-01-15/
LOCATION:Miracle of Love – Executive Office\, 1301 W Colonial Dr.\, Second Floor\, Orlando\, FL\, 32804\, United States
CATEGORIES:HIV/STI Screening,Office Closed,Stafford House
ORGANIZER;CN="Miracle of Love":MAILTO:info@miracleofloveinc.org
END:VEVENT
BEGIN:VEVENT
DTSTART;VALUE=DATE:20290219
DTEND;VALUE=DATE:20290220
DTSTAMP:20260425T074338
CREATED:20251210T123536Z
LAST-MODIFIED:20251210T123557Z
UID:10008915-1866153600-1866239999@miracleofloveinc.org
SUMMARY:Holiday - Offices Closed
DESCRIPTION:Our offices are closed on President’s Day.
URL:https://miracleofloveinc.org/event/holiday-offices-closed-presidents/2029-02-19/
LOCATION:Miracle of Love – Executive Office\, 1301 W Colonial Dr.\, Second Floor\, Orlando\, FL\, 32804\, United States
CATEGORIES:HIV/STI Screening,Office Closed,Stafford House
ORGANIZER;CN="Miracle of Love":MAILTO:info@miracleofloveinc.org
END:VEVENT
BEGIN:VEVENT
DTSTART;VALUE=DATE:20290528
DTEND;VALUE=DATE:20290529
DTSTAMP:20260425T074339
CREATED:20251210T124031Z
LAST-MODIFIED:20251210T124607Z
UID:10008920-1874620800-1874707199@miracleofloveinc.org
SUMMARY:Holiday - Offices Closed
DESCRIPTION:Our offices are closed for Memorial Day.
URL:https://miracleofloveinc.org/event/holiday-offices-closed-memorial/2029-05-28/
LOCATION:Miracle of Love – Executive Office\, 1301 W Colonial Dr.\, Second Floor\, Orlando\, FL\, 32804\, United States
CATEGORIES:HIV/STI Screening,Office Closed,Stafford House
ORGANIZER;CN="Miracle of Love":MAILTO:info@miracleofloveinc.org
END:VEVENT
BEGIN:VEVENT
DTSTART;VALUE=DATE:20290619
DTEND;VALUE=DATE:20290620
DTSTAMP:20260425T074339
CREATED:20251210T124445Z
LAST-MODIFIED:20251210T124507Z
UID:10008925-1876521600-1876607999@miracleofloveinc.org
SUMMARY:Holiday - Offices Closed
DESCRIPTION:Our offices are closed on Juneteenth (or observed).
URL:https://miracleofloveinc.org/event/holiday-offices-closed-juneteenth/2029-06-19/
LOCATION:Miracle of Love – Executive Office\, 1301 W Colonial Dr.\, Second Floor\, Orlando\, FL\, 32804\, United States
CATEGORIES:HIV/STI Screening,Office Closed,Stafford House
ORGANIZER;CN="Miracle of Love":MAILTO:info@miracleofloveinc.org
END:VEVENT
BEGIN:VEVENT
DTSTART;VALUE=DATE:20290704
DTEND;VALUE=DATE:20290705
DTSTAMP:20260425T074339
CREATED:20251210T125248Z
LAST-MODIFIED:20251210T125248Z
UID:10008936-1877817600-1877903999@miracleofloveinc.org
SUMMARY:Holiday - Offices Closed
DESCRIPTION:Our offices are closed on Independence Day (or observed).
URL:https://miracleofloveinc.org/event/holiday-offices-closed-independence4/2029-07-04/
LOCATION:Miracle of Love – Executive Office\, 1301 W Colonial Dr.\, Second Floor\, Orlando\, FL\, 32804\, United States
CATEGORIES:HIV/STI Screening,Office Closed,Stafford House
ORGANIZER;CN="Miracle of Love":MAILTO:info@miracleofloveinc.org
END:VEVENT
BEGIN:VEVENT
DTSTART;VALUE=DATE:20290903
DTEND;VALUE=DATE:20290904
DTSTAMP:20260425T074339
CREATED:20251210T125501Z
LAST-MODIFIED:20251210T125531Z
UID:10008941-1883088000-1883174399@miracleofloveinc.org
SUMMARY:Holiday - Offices Closed
DESCRIPTION:Our offices are closed on Labor Day.
URL:https://miracleofloveinc.org/event/holiday-offices-closed-labor/2029-09-03/
LOCATION:Miracle of Love – Executive Office\, 1301 W Colonial Dr.\, Second Floor\, Orlando\, FL\, 32804\, United States
CATEGORIES:HIV/STI Screening,Office Closed,Stafford House
ORGANIZER;CN="Miracle of Love":MAILTO:info@miracleofloveinc.org
END:VEVENT
BEGIN:VEVENT
DTSTART;VALUE=DATE:20291122
DTEND;VALUE=DATE:20291124
DTSTAMP:20260425T074339
CREATED:20251210T125843Z
LAST-MODIFIED:20251210T125904Z
UID:10008946-1890000000-1890172799@miracleofloveinc.org
SUMMARY:Holiday - Offices Closed
DESCRIPTION:Our offices are closed on Thanksgiving Day and the day after.
URL:https://miracleofloveinc.org/event/holiday-offices-closed-thanksgiving/2029-11-22/
LOCATION:Miracle of Love – Executive Office\, 1301 W Colonial Dr.\, Second Floor\, Orlando\, FL\, 32804\, United States
CATEGORIES:HIV/STI Screening,Office Closed,Stafford House
ORGANIZER;CN="Miracle of Love":MAILTO:info@miracleofloveinc.org
END:VEVENT
BEGIN:VEVENT
DTSTART;VALUE=DATE:20300101
DTEND;VALUE=DATE:20300102
DTSTAMP:20260425T074339
CREATED:20251210T121913Z
LAST-MODIFIED:20251210T122030Z
UID:10008902-1893456000-1893542399@miracleofloveinc.org
SUMMARY:Holiday - Offices Closed
DESCRIPTION:Our offices are closed on New Year’s Day (or observed)
URL:https://miracleofloveinc.org/event/holiday-offices-closed-nyd/2030-01-01/
LOCATION:Miracle of Love – Executive Office\, 1301 W Colonial Dr.\, Second Floor\, Orlando\, FL\, 32804\, United States
CATEGORIES:HIV/STI Screening,Office Closed,Stafford House
ORGANIZER;CN="Miracle of Love":MAILTO:info@miracleofloveinc.org
END:VEVENT
BEGIN:VEVENT
DTSTART;VALUE=DATE:20300121
DTEND;VALUE=DATE:20300122
DTSTAMP:20260425T074339
CREATED:20240929T205316Z
LAST-MODIFIED:20251210T121203Z
UID:10008540-1895184000-1895270399@miracleofloveinc.org
SUMMARY:Holiday - Offices Closed
DESCRIPTION:Our offices are closed for Martin Luther King Jr. day.
URL:https://miracleofloveinc.org/event/mlkjr-day-2025/2030-01-21/
LOCATION:Miracle of Love – Executive Office\, 1301 W Colonial Dr.\, Second Floor\, Orlando\, FL\, 32804\, United States
CATEGORIES:HIV/STI Screening,Office Closed,Stafford House
ORGANIZER;CN="Miracle of Love":MAILTO:info@miracleofloveinc.org
END:VEVENT
BEGIN:VEVENT
DTSTART;VALUE=DATE:20300218
DTEND;VALUE=DATE:20300219
DTSTAMP:20260425T074339
CREATED:20251210T123536Z
LAST-MODIFIED:20251210T123557Z
UID:10008916-1897603200-1897689599@miracleofloveinc.org
SUMMARY:Holiday - Offices Closed
DESCRIPTION:Our offices are closed on President’s Day.
URL:https://miracleofloveinc.org/event/holiday-offices-closed-presidents/2030-02-18/
LOCATION:Miracle of Love – Executive Office\, 1301 W Colonial Dr.\, Second Floor\, Orlando\, FL\, 32804\, United States
CATEGORIES:HIV/STI Screening,Office Closed,Stafford House
ORGANIZER;CN="Miracle of Love":MAILTO:info@miracleofloveinc.org
END:VEVENT
BEGIN:VEVENT
DTSTART;VALUE=DATE:20300527
DTEND;VALUE=DATE:20300528
DTSTAMP:20260425T074339
CREATED:20251210T124031Z
LAST-MODIFIED:20251210T124607Z
UID:10008921-1906070400-1906156799@miracleofloveinc.org
SUMMARY:Holiday - Offices Closed
DESCRIPTION:Our offices are closed for Memorial Day.
URL:https://miracleofloveinc.org/event/holiday-offices-closed-memorial/2030-05-27/
LOCATION:Miracle of Love – Executive Office\, 1301 W Colonial Dr.\, Second Floor\, Orlando\, FL\, 32804\, United States
CATEGORIES:HIV/STI Screening,Office Closed,Stafford House
ORGANIZER;CN="Miracle of Love":MAILTO:info@miracleofloveinc.org
END:VEVENT
BEGIN:VEVENT
DTSTART;VALUE=DATE:20300619
DTEND;VALUE=DATE:20300620
DTSTAMP:20260425T074339
CREATED:20251210T124445Z
LAST-MODIFIED:20251210T124507Z
UID:10008926-1908057600-1908143999@miracleofloveinc.org
SUMMARY:Holiday - Offices Closed
DESCRIPTION:Our offices are closed on Juneteenth (or observed).
URL:https://miracleofloveinc.org/event/holiday-offices-closed-juneteenth/2030-06-19/
LOCATION:Miracle of Love – Executive Office\, 1301 W Colonial Dr.\, Second Floor\, Orlando\, FL\, 32804\, United States
CATEGORIES:HIV/STI Screening,Office Closed,Stafford House
ORGANIZER;CN="Miracle of Love":MAILTO:info@miracleofloveinc.org
END:VEVENT
BEGIN:VEVENT
DTSTART;VALUE=DATE:20300704
DTEND;VALUE=DATE:20300705
DTSTAMP:20260425T074339
CREATED:20251210T125248Z
LAST-MODIFIED:20251210T125248Z
UID:10008937-1909353600-1909439999@miracleofloveinc.org
SUMMARY:Holiday - Offices Closed
DESCRIPTION:Our offices are closed on Independence Day (or observed).
URL:https://miracleofloveinc.org/event/holiday-offices-closed-independence4/2030-07-04/
LOCATION:Miracle of Love – Executive Office\, 1301 W Colonial Dr.\, Second Floor\, Orlando\, FL\, 32804\, United States
CATEGORIES:HIV/STI Screening,Office Closed,Stafford House
ORGANIZER;CN="Miracle of Love":MAILTO:info@miracleofloveinc.org
END:VEVENT
BEGIN:VEVENT
DTSTART;VALUE=DATE:20300902
DTEND;VALUE=DATE:20300903
DTSTAMP:20260425T074339
CREATED:20251210T125501Z
LAST-MODIFIED:20251210T125531Z
UID:10008942-1914537600-1914623999@miracleofloveinc.org
SUMMARY:Holiday - Offices Closed
DESCRIPTION:Our offices are closed on Labor Day.
URL:https://miracleofloveinc.org/event/holiday-offices-closed-labor/2030-09-02/
LOCATION:Miracle of Love – Executive Office\, 1301 W Colonial Dr.\, Second Floor\, Orlando\, FL\, 32804\, United States
CATEGORIES:HIV/STI Screening,Office Closed,Stafford House
ORGANIZER;CN="Miracle of Love":MAILTO:info@miracleofloveinc.org
END:VEVENT
BEGIN:VEVENT
DTSTART;VALUE=DATE:20301128
DTEND;VALUE=DATE:20301130
DTSTAMP:20260425T074339
CREATED:20251210T125843Z
LAST-MODIFIED:20251210T125904Z
UID:10008947-1922054400-1922227199@miracleofloveinc.org
SUMMARY:Holiday - Offices Closed
DESCRIPTION:Our offices are closed on Thanksgiving Day and the day after.
URL:https://miracleofloveinc.org/event/holiday-offices-closed-thanksgiving/2030-11-28/
LOCATION:Miracle of Love – Executive Office\, 1301 W Colonial Dr.\, Second Floor\, Orlando\, FL\, 32804\, United States
CATEGORIES:HIV/STI Screening,Office Closed,Stafford House
ORGANIZER;CN="Miracle of Love":MAILTO:info@miracleofloveinc.org
END:VEVENT
END:VCALENDAR