BEGIN:VCALENDAR
VERSION:2.0
PRODID:-//Miracle of Love Inc. - ECPv6.15.17//NONSGML v1.0//EN
CALSCALE:GREGORIAN
METHOD:PUBLISH
X-WR-CALNAME:Miracle of Love Inc.
X-ORIGINAL-URL:https://miracleofloveinc.org
X-WR-CALDESC:Events for Miracle of Love Inc.
REFRESH-INTERVAL;VALUE=DURATION:PT1H
X-Robots-Tag:noindex
X-PUBLISHED-TTL:PT1H
BEGIN:VTIMEZONE
TZID:America/New_York
BEGIN:DAYLIGHT
TZOFFSETFROM:-0500
TZOFFSETTO:-0400
TZNAME:EDT
DTSTART:20290311T070000
END:DAYLIGHT
BEGIN:STANDARD
TZOFFSETFROM:-0400
TZOFFSETTO:-0500
TZNAME:EST
DTSTART:20291104T060000
END:STANDARD
BEGIN:DAYLIGHT
TZOFFSETFROM:-0500
TZOFFSETTO:-0400
TZNAME:EDT
DTSTART:20300310T070000
END:DAYLIGHT
BEGIN:STANDARD
TZOFFSETFROM:-0400
TZOFFSETTO:-0500
TZNAME:EST
DTSTART:20301103T060000
END:STANDARD
BEGIN:DAYLIGHT
TZOFFSETFROM:-0500
TZOFFSETTO:-0400
TZNAME:EDT
DTSTART:20310309T070000
END:DAYLIGHT
BEGIN:STANDARD
TZOFFSETFROM:-0400
TZOFFSETTO:-0500
TZNAME:EST
DTSTART:20311102T060000
END:STANDARD
BEGIN:DAYLIGHT
TZOFFSETFROM:-0500
TZOFFSETTO:-0400
TZNAME:EDT
DTSTART:20320314T070000
END:DAYLIGHT
BEGIN:STANDARD
TZOFFSETFROM:-0400
TZOFFSETTO:-0500
TZNAME:EST
DTSTART:20321107T060000
END:STANDARD
END:VTIMEZONE
BEGIN:VEVENT
DTSTART;TZID=America/New_York:20300612T173000
DTEND;TZID=America/New_York:20300612T190000
DTSTAMP:20260425T125542
CREATED:20240427T192627Z
LAST-MODIFIED:20240427T192627Z
UID:10008583-1907515800-1907521200@miracleofloveinc.org
SUMMARY:Lake County C.A.B. Meeting
DESCRIPTION:Lake County Client Advisory Board (CAB) Meetings are open to all clients receiving Ryan White and/or HOPWA services in Lake County.  No registration is required.
URL:https://miracleofloveinc.org/event/lake-county-c-a-b-meeting-2/2030-06-12/
LOCATION:MOL – Lake County\, 4400 North Highway 19A\, Unit 10\, Mount Dora\, FL\, 32757\, United States
CATEGORIES:C.A.B. Lake,Community Outreach
ATTACH;FMTTYPE=image/png:https://miracleofloveinc.org/wp-content/uploads/2023/04/CAB-Meeting-Social-Portrait.png
ORGANIZER;CN="Miracle of Love":MAILTO:info@miracleofloveinc.org
END:VEVENT
BEGIN:VEVENT
DTSTART;TZID=America/New_York:20300710T173000
DTEND;TZID=America/New_York:20300710T190000
DTSTAMP:20260425T125542
CREATED:20240427T192627Z
LAST-MODIFIED:20240427T192627Z
UID:10008733-1909935000-1909940400@miracleofloveinc.org
SUMMARY:Lake County C.A.B. Meeting
DESCRIPTION:Lake County Client Advisory Board (CAB) Meetings are open to all clients receiving Ryan White and/or HOPWA services in Lake County.  No registration is required.
URL:https://miracleofloveinc.org/event/lake-county-c-a-b-meeting-2/2030-07-10/
LOCATION:MOL – Lake County\, 4400 North Highway 19A\, Unit 10\, Mount Dora\, FL\, 32757\, United States
CATEGORIES:C.A.B. Lake,Community Outreach
ATTACH;FMTTYPE=image/png:https://miracleofloveinc.org/wp-content/uploads/2023/04/CAB-Meeting-Social-Portrait.png
ORGANIZER;CN="Miracle of Love":MAILTO:info@miracleofloveinc.org
END:VEVENT
BEGIN:VEVENT
DTSTART;TZID=America/New_York:20300814T173000
DTEND;TZID=America/New_York:20300814T190000
DTSTAMP:20260425T125542
CREATED:20240427T192627Z
LAST-MODIFIED:20240427T192627Z
UID:10008774-1912959000-1912964400@miracleofloveinc.org
SUMMARY:Lake County C.A.B. Meeting
DESCRIPTION:Lake County Client Advisory Board (CAB) Meetings are open to all clients receiving Ryan White and/or HOPWA services in Lake County.  No registration is required.
URL:https://miracleofloveinc.org/event/lake-county-c-a-b-meeting-2/2030-08-14/
LOCATION:MOL – Lake County\, 4400 North Highway 19A\, Unit 10\, Mount Dora\, FL\, 32757\, United States
CATEGORIES:C.A.B. Lake,Community Outreach
ATTACH;FMTTYPE=image/png:https://miracleofloveinc.org/wp-content/uploads/2023/04/CAB-Meeting-Social-Portrait.png
ORGANIZER;CN="Miracle of Love":MAILTO:info@miracleofloveinc.org
END:VEVENT
BEGIN:VEVENT
DTSTART;TZID=America/New_York:20300911T173000
DTEND;TZID=America/New_York:20300911T190000
DTSTAMP:20260425T125542
CREATED:20240427T192627Z
LAST-MODIFIED:20240427T192627Z
UID:10008775-1915378200-1915383600@miracleofloveinc.org
SUMMARY:Lake County C.A.B. Meeting
DESCRIPTION:Lake County Client Advisory Board (CAB) Meetings are open to all clients receiving Ryan White and/or HOPWA services in Lake County.  No registration is required.
URL:https://miracleofloveinc.org/event/lake-county-c-a-b-meeting-2/2030-09-11/
LOCATION:MOL – Lake County\, 4400 North Highway 19A\, Unit 10\, Mount Dora\, FL\, 32757\, United States
CATEGORIES:C.A.B. Lake,Community Outreach
ATTACH;FMTTYPE=image/png:https://miracleofloveinc.org/wp-content/uploads/2023/04/CAB-Meeting-Social-Portrait.png
ORGANIZER;CN="Miracle of Love":MAILTO:info@miracleofloveinc.org
END:VEVENT
BEGIN:VEVENT
DTSTART;TZID=America/New_York:20301009T173000
DTEND;TZID=America/New_York:20301009T190000
DTSTAMP:20260425T125542
CREATED:20240427T192627Z
LAST-MODIFIED:20240427T192627Z
UID:10008812-1917797400-1917802800@miracleofloveinc.org
SUMMARY:Lake County C.A.B. Meeting
DESCRIPTION:Lake County Client Advisory Board (CAB) Meetings are open to all clients receiving Ryan White and/or HOPWA services in Lake County.  No registration is required.
URL:https://miracleofloveinc.org/event/lake-county-c-a-b-meeting-2/2030-10-09/
LOCATION:MOL – Lake County\, 4400 North Highway 19A\, Unit 10\, Mount Dora\, FL\, 32757\, United States
CATEGORIES:C.A.B. Lake,Community Outreach
ATTACH;FMTTYPE=image/png:https://miracleofloveinc.org/wp-content/uploads/2023/04/CAB-Meeting-Social-Portrait.png
ORGANIZER;CN="Miracle of Love":MAILTO:info@miracleofloveinc.org
END:VEVENT
BEGIN:VEVENT
DTSTART;TZID=America/New_York:20301113T173000
DTEND;TZID=America/New_York:20301113T190000
DTSTAMP:20260425T125542
CREATED:20240427T192627Z
LAST-MODIFIED:20240427T192627Z
UID:10008866-1920821400-1920826800@miracleofloveinc.org
SUMMARY:Lake County C.A.B. Meeting
DESCRIPTION:Lake County Client Advisory Board (CAB) Meetings are open to all clients receiving Ryan White and/or HOPWA services in Lake County.  No registration is required.
URL:https://miracleofloveinc.org/event/lake-county-c-a-b-meeting-2/2030-11-13/
LOCATION:MOL – Lake County\, 4400 North Highway 19A\, Unit 10\, Mount Dora\, FL\, 32757\, United States
CATEGORIES:C.A.B. Lake,Community Outreach
ATTACH;FMTTYPE=image/png:https://miracleofloveinc.org/wp-content/uploads/2023/04/CAB-Meeting-Social-Portrait.png
ORGANIZER;CN="Miracle of Love":MAILTO:info@miracleofloveinc.org
END:VEVENT
BEGIN:VEVENT
DTSTART;TZID=America/New_York:20301211T173000
DTEND;TZID=America/New_York:20301211T190000
DTSTAMP:20260425T125542
CREATED:20240427T192627Z
LAST-MODIFIED:20240427T192627Z
UID:10008951-1923240600-1923246000@miracleofloveinc.org
SUMMARY:Lake County C.A.B. Meeting
DESCRIPTION:Lake County Client Advisory Board (CAB) Meetings are open to all clients receiving Ryan White and/or HOPWA services in Lake County.  No registration is required.
URL:https://miracleofloveinc.org/event/lake-county-c-a-b-meeting-2/2030-12-11/
LOCATION:MOL – Lake County\, 4400 North Highway 19A\, Unit 10\, Mount Dora\, FL\, 32757\, United States
CATEGORIES:C.A.B. Lake,Community Outreach
ATTACH;FMTTYPE=image/png:https://miracleofloveinc.org/wp-content/uploads/2023/04/CAB-Meeting-Social-Portrait.png
ORGANIZER;CN="Miracle of Love":MAILTO:info@miracleofloveinc.org
END:VEVENT
BEGIN:VEVENT
DTSTART;TZID=America/New_York:20310108T173000
DTEND;TZID=America/New_York:20310108T190000
DTSTAMP:20260425T125542
CREATED:20240427T192627Z
LAST-MODIFIED:20240427T192627Z
UID:10008983-1925659800-1925665200@miracleofloveinc.org
SUMMARY:Lake County C.A.B. Meeting
DESCRIPTION:Lake County Client Advisory Board (CAB) Meetings are open to all clients receiving Ryan White and/or HOPWA services in Lake County.  No registration is required.
URL:https://miracleofloveinc.org/event/lake-county-c-a-b-meeting-2/2031-01-08/
LOCATION:MOL – Lake County\, 4400 North Highway 19A\, Unit 10\, Mount Dora\, FL\, 32757\, United States
CATEGORIES:C.A.B. Lake,Community Outreach
ATTACH;FMTTYPE=image/png:https://miracleofloveinc.org/wp-content/uploads/2023/04/CAB-Meeting-Social-Portrait.png
ORGANIZER;CN="Miracle of Love":MAILTO:info@miracleofloveinc.org
END:VEVENT
BEGIN:VEVENT
DTSTART;TZID=America/New_York:20310212T173000
DTEND;TZID=America/New_York:20310212T190000
DTSTAMP:20260425T125542
CREATED:20240427T192627Z
LAST-MODIFIED:20240427T192627Z
UID:10009206-1928683800-1928689200@miracleofloveinc.org
SUMMARY:Lake County C.A.B. Meeting
DESCRIPTION:Lake County Client Advisory Board (CAB) Meetings are open to all clients receiving Ryan White and/or HOPWA services in Lake County.  No registration is required.
URL:https://miracleofloveinc.org/event/lake-county-c-a-b-meeting-2/2031-02-12/
LOCATION:MOL – Lake County\, 4400 North Highway 19A\, Unit 10\, Mount Dora\, FL\, 32757\, United States
CATEGORIES:C.A.B. Lake,Community Outreach
ATTACH;FMTTYPE=image/png:https://miracleofloveinc.org/wp-content/uploads/2023/04/CAB-Meeting-Social-Portrait.png
ORGANIZER;CN="Miracle of Love":MAILTO:info@miracleofloveinc.org
END:VEVENT
BEGIN:VEVENT
DTSTART;TZID=America/New_York:20310312T173000
DTEND;TZID=America/New_York:20310312T190000
DTSTAMP:20260425T125542
CREATED:20240427T192627Z
LAST-MODIFIED:20240427T192627Z
UID:10009245-1931103000-1931108400@miracleofloveinc.org
SUMMARY:Lake County C.A.B. Meeting
DESCRIPTION:Lake County Client Advisory Board (CAB) Meetings are open to all clients receiving Ryan White and/or HOPWA services in Lake County.  No registration is required.
URL:https://miracleofloveinc.org/event/lake-county-c-a-b-meeting-2/2031-03-12/
LOCATION:MOL – Lake County\, 4400 North Highway 19A\, Unit 10\, Mount Dora\, FL\, 32757\, United States
CATEGORIES:C.A.B. Lake,Community Outreach
ATTACH;FMTTYPE=image/png:https://miracleofloveinc.org/wp-content/uploads/2023/04/CAB-Meeting-Social-Portrait.png
ORGANIZER;CN="Miracle of Love":MAILTO:info@miracleofloveinc.org
END:VEVENT
BEGIN:VEVENT
DTSTART;TZID=America/New_York:20310409T173000
DTEND;TZID=America/New_York:20310409T190000
DTSTAMP:20260425T125542
CREATED:20240427T192627Z
LAST-MODIFIED:20240427T192627Z
UID:10009265-1933522200-1933527600@miracleofloveinc.org
SUMMARY:Lake County C.A.B. Meeting
DESCRIPTION:Lake County Client Advisory Board (CAB) Meetings are open to all clients receiving Ryan White and/or HOPWA services in Lake County.  No registration is required.
URL:https://miracleofloveinc.org/event/lake-county-c-a-b-meeting-2/2031-04-09/
LOCATION:MOL – Lake County\, 4400 North Highway 19A\, Unit 10\, Mount Dora\, FL\, 32757\, United States
CATEGORIES:C.A.B. Lake,Community Outreach
ATTACH;FMTTYPE=image/png:https://miracleofloveinc.org/wp-content/uploads/2023/04/CAB-Meeting-Social-Portrait.png
ORGANIZER;CN="Miracle of Love":MAILTO:info@miracleofloveinc.org
END:VEVENT
END:VCALENDAR